| Back to Multiple platform build/check report for BioC 3.14 |
|
This page was generated on 2022-04-13 12:06:52 -0400 (Wed, 13 Apr 2022).
| Hostname | OS | Arch (*) | R version | Installed pkgs |
|---|---|---|---|---|
| nebbiolo2 | Linux (Ubuntu 20.04.4 LTS) | x86_64 | 4.1.3 (2022-03-10) -- "One Push-Up" | 4324 |
| tokay2 | Windows Server 2012 R2 Standard | x64 | 4.1.3 (2022-03-10) -- "One Push-Up" | 4077 |
| machv2 | macOS 10.14.6 Mojave | x86_64 | 4.1.3 (2022-03-10) -- "One Push-Up" | 4137 |
| Click on any hostname to see more info about the system (e.g. compilers) (*) as reported by 'uname -p', except on Windows and Mac OS X | ||||
|
To the developers/maintainers of the MethPed package: - Please allow up to 24 hours (and sometimes 48 hours) for your latest push to git@git.bioconductor.org:packages/MethPed.git to reflect on this report. See How and When does the builder pull? When will my changes propagate? for more information. - Make sure to use the following settings in order to reproduce any error or warning you see on this page. |
| Package 1113/2083 | Hostname | OS / Arch | INSTALL | BUILD | CHECK | BUILD BIN | ||||||||
| MethPed 1.22.0 (landing page) Helena Carén
| nebbiolo2 | Linux (Ubuntu 20.04.4 LTS) / x86_64 | OK | OK | OK | |||||||||
| tokay2 | Windows Server 2012 R2 Standard / x64 | OK | OK | OK | OK | |||||||||
| machv2 | macOS 10.14.6 Mojave / x86_64 | OK | OK | OK | OK | |||||||||
| Package: MethPed |
| Version: 1.22.0 |
| Command: C:\cygwin\bin\curl.exe -O http://155.52.207.166/BBS/3.14/bioc/src/contrib/MethPed_1.22.0.tar.gz && rm -rf MethPed.buildbin-libdir && mkdir MethPed.buildbin-libdir && C:\Users\biocbuild\bbs-3.14-bioc\R\bin\R.exe CMD INSTALL --merge-multiarch --build --library=MethPed.buildbin-libdir MethPed_1.22.0.tar.gz && C:\Users\biocbuild\bbs-3.14-bioc\R\bin\R.exe CMD INSTALL MethPed_1.22.0.zip && rm MethPed_1.22.0.tar.gz MethPed_1.22.0.zip |
| StartedAt: 2022-04-12 05:24:18 -0400 (Tue, 12 Apr 2022) |
| EndedAt: 2022-04-12 05:25:16 -0400 (Tue, 12 Apr 2022) |
| EllapsedTime: 58.0 seconds |
| RetCode: 0 |
| Status: OK |
##############################################################################
##############################################################################
###
### Running command:
###
### C:\cygwin\bin\curl.exe -O http://155.52.207.166/BBS/3.14/bioc/src/contrib/MethPed_1.22.0.tar.gz && rm -rf MethPed.buildbin-libdir && mkdir MethPed.buildbin-libdir && C:\Users\biocbuild\bbs-3.14-bioc\R\bin\R.exe CMD INSTALL --merge-multiarch --build --library=MethPed.buildbin-libdir MethPed_1.22.0.tar.gz && C:\Users\biocbuild\bbs-3.14-bioc\R\bin\R.exe CMD INSTALL MethPed_1.22.0.zip && rm MethPed_1.22.0.tar.gz MethPed_1.22.0.zip
###
##############################################################################
##############################################################################
% Total % Received % Xferd Average Speed Time Time Time Current
Dload Upload Total Spent Left Speed
0 0 0 0 0 0 0 0 --:--:-- --:--:-- --:--:-- 0
0 0 0 0 0 0 0 0 --:--:-- --:--:-- --:--:-- 0
15 9151k 15 1386k 0 0 1376k 0 0:00:06 0:00:01 0:00:05 1375k
41 9151k 41 3770k 0 0 1877k 0 0:00:04 0:00:02 0:00:02 1877k
77 9151k 77 7059k 0 0 2346k 0 0:00:03 0:00:03 --:--:-- 2346k
100 9151k 100 9151k 0 0 2595k 0 0:00:03 0:00:03 --:--:-- 2595k
install for i386
* installing *source* package 'MethPed' ...
** using staged installation
** R
** data
** byte-compile and prepare package for lazy loading
** help
*** installing help indices
converting help for package 'MethPed'
finding HTML links ... done
MethPed html
MethPed_900probes html
MethPed_sample html
checkNA html
plot.methped html
probeMis html
summary.methped html
** building package indices
** installing vignettes
** testing if installed package can be loaded from temporary location
** testing if installed package can be loaded from final location
** testing if installed package keeps a record of temporary installation path
install for x64
* installing *source* package 'MethPed' ...
** testing if installed package can be loaded
* MD5 sums
packaged installation of 'MethPed' as MethPed_1.22.0.zip
* DONE (MethPed)
* installing to library 'C:/Users/biocbuild/bbs-3.14-bioc/R/library'
package 'MethPed' successfully unpacked and MD5 sums checked