| Back to Multiple platform build/check report for BioC 3.14 | 
 | 
This page was generated on 2022-04-13 12:06:49 -0400 (Wed, 13 Apr 2022).
| Hostname | OS | Arch (*) | R version | Installed pkgs | 
|---|---|---|---|---|
| nebbiolo2 | Linux (Ubuntu 20.04.4 LTS) | x86_64 | 4.1.3 (2022-03-10) -- "One Push-Up" | 4324 | 
| tokay2 | Windows Server 2012 R2 Standard | x64 | 4.1.3 (2022-03-10) -- "One Push-Up" | 4077 | 
| machv2 | macOS 10.14.6 Mojave | x86_64 | 4.1.3 (2022-03-10) -- "One Push-Up" | 4137 | 
| Click on any hostname to see more info about the system (e.g. compilers) (*) as reported by 'uname -p', except on Windows and Mac OS X | ||||
| To the developers/maintainers of the MantelCorr package: - Please allow up to 24 hours (and sometimes 48 hours) for your latest push to git@git.bioconductor.org:packages/MantelCorr.git to reflect on this report. See How and When does the builder pull? When will my changes propagate? for more information. - Make sure to use the following settings in order to reproduce any error or warning you see on this page. | 
| Package 1042/2083 | Hostname | OS / Arch | INSTALL | BUILD | CHECK | BUILD BIN | ||||||||
| MantelCorr 1.64.0  (landing page) Brian Steinmeyer 
 | nebbiolo2 | Linux (Ubuntu 20.04.4 LTS) / x86_64 | OK | OK | OK |  | ||||||||
| tokay2 | Windows Server 2012 R2 Standard / x64 | OK | OK | OK | OK |  | ||||||||
| machv2 | macOS 10.14.6 Mojave / x86_64 | OK | OK | OK | OK |  | ||||||||
| Package: MantelCorr | 
| Version: 1.64.0 | 
| Command: C:\cygwin\bin\curl.exe -O http://155.52.207.166/BBS/3.14/bioc/src/contrib/MantelCorr_1.64.0.tar.gz && rm -rf MantelCorr.buildbin-libdir && mkdir MantelCorr.buildbin-libdir && C:\Users\biocbuild\bbs-3.14-bioc\R\bin\R.exe CMD INSTALL --merge-multiarch --build --library=MantelCorr.buildbin-libdir MantelCorr_1.64.0.tar.gz && C:\Users\biocbuild\bbs-3.14-bioc\R\bin\R.exe CMD INSTALL MantelCorr_1.64.0.zip && rm MantelCorr_1.64.0.tar.gz MantelCorr_1.64.0.zip | 
| StartedAt: 2022-04-12 04:02:10 -0400 (Tue, 12 Apr 2022) | 
| EndedAt: 2022-04-12 04:02:40 -0400 (Tue, 12 Apr 2022) | 
| EllapsedTime: 30.5 seconds | 
| RetCode: 0 | 
| Status: OK | 
##############################################################################
##############################################################################
###
### Running command:
###
###   C:\cygwin\bin\curl.exe -O http://155.52.207.166/BBS/3.14/bioc/src/contrib/MantelCorr_1.64.0.tar.gz && rm -rf MantelCorr.buildbin-libdir && mkdir MantelCorr.buildbin-libdir && C:\Users\biocbuild\bbs-3.14-bioc\R\bin\R.exe CMD INSTALL --merge-multiarch --build --library=MantelCorr.buildbin-libdir MantelCorr_1.64.0.tar.gz && C:\Users\biocbuild\bbs-3.14-bioc\R\bin\R.exe CMD INSTALL MantelCorr_1.64.0.zip && rm MantelCorr_1.64.0.tar.gz MantelCorr_1.64.0.zip
###
##############################################################################
##############################################################################
  % Total    % Received % Xferd  Average Speed   Time    Time     Time  Current
                                 Dload  Upload   Total   Spent    Left  Speed
  0     0    0     0    0     0      0      0 --:--:-- --:--:-- --:--:--     0
100  643k  100  643k    0     0   585k      0  0:00:01  0:00:01 --:--:--  585k
100  643k  100  643k    0     0   585k      0  0:00:01  0:00:01 --:--:--  585k
install for i386
* installing *source* package 'MantelCorr' ...
** using staged installation
** R
** data
** byte-compile and prepare package for lazy loading
** help
*** installing help indices
  converting help for package 'MantelCorr'
    finding HTML links ... done
    ClusterGeneList                         html  
    ClusterList                             html  
    DistMatrices                            html  
    GetClusters                             html  
    GolubTrain                              html  
    MantelCorrs                             html  
    PermutationTest                         html  
** building package indices
** installing vignettes
** testing if installed package can be loaded from temporary location
** testing if installed package can be loaded from final location
** testing if installed package keeps a record of temporary installation path
install for x64
* installing *source* package 'MantelCorr' ...
** testing if installed package can be loaded
* MD5 sums
packaged installation of 'MantelCorr' as MantelCorr_1.64.0.zip
* DONE (MantelCorr)
* installing to library 'C:/Users/biocbuild/bbs-3.14-bioc/R/library'
package 'MantelCorr' successfully unpacked and MD5 sums checked