| Back to Multiple platform build/check report for BioC 3.14 |
|
This page was generated on 2022-04-13 12:05:32 -0400 (Wed, 13 Apr 2022).
| Hostname | OS | Arch (*) | R version | Installed pkgs |
|---|---|---|---|---|
| nebbiolo2 | Linux (Ubuntu 20.04.4 LTS) | x86_64 | 4.1.3 (2022-03-10) -- "One Push-Up" | 4324 |
| tokay2 | Windows Server 2012 R2 Standard | x64 | 4.1.3 (2022-03-10) -- "One Push-Up" | 4077 |
| machv2 | macOS 10.14.6 Mojave | x86_64 | 4.1.3 (2022-03-10) -- "One Push-Up" | 4137 |
| Click on any hostname to see more info about the system (e.g. compilers) (*) as reported by 'uname -p', except on Windows and Mac OS X | ||||
|
To the developers/maintainers of the LinkHD package: - Please allow up to 24 hours (and sometimes 48 hours) for your latest push to git@git.bioconductor.org:packages/LinkHD.git to reflect on this report. See How and When does the builder pull? When will my changes propagate? for more information. - Make sure to use the following settings in order to reproduce any error or warning you see on this page. |
| Package 1000/2083 | Hostname | OS / Arch | INSTALL | BUILD | CHECK | BUILD BIN | ||||||||
| LinkHD 1.8.0 (landing page) "Laura M Zingaretti"
| nebbiolo2 | Linux (Ubuntu 20.04.4 LTS) / x86_64 | OK | OK | OK | |||||||||
| tokay2 | Windows Server 2012 R2 Standard / x64 | OK | OK | OK | OK | |||||||||
| machv2 | macOS 10.14.6 Mojave / x86_64 | OK | OK | OK | OK | |||||||||
| Package: LinkHD |
| Version: 1.8.0 |
| Command: /home/biocbuild/bbs-3.14-bioc/R/bin/R CMD check --install=check:LinkHD.install-out.txt --library=/home/biocbuild/bbs-3.14-bioc/R/library --no-vignettes --timings LinkHD_1.8.0.tar.gz |
| StartedAt: 2022-04-12 07:59:45 -0400 (Tue, 12 Apr 2022) |
| EndedAt: 2022-04-12 08:02:21 -0400 (Tue, 12 Apr 2022) |
| EllapsedTime: 156.1 seconds |
| RetCode: 0 |
| Status: OK |
| CheckDir: LinkHD.Rcheck |
| Warnings: 0 |
############################################################################## ############################################################################## ### ### Running command: ### ### /home/biocbuild/bbs-3.14-bioc/R/bin/R CMD check --install=check:LinkHD.install-out.txt --library=/home/biocbuild/bbs-3.14-bioc/R/library --no-vignettes --timings LinkHD_1.8.0.tar.gz ### ############################################################################## ############################################################################## * using log directory ‘/home/biocbuild/bbs-3.14-bioc/meat/LinkHD.Rcheck’ * using R version 4.1.3 (2022-03-10) * using platform: x86_64-pc-linux-gnu (64-bit) * using session charset: UTF-8 * using option ‘--no-vignettes’ * checking for file ‘LinkHD/DESCRIPTION’ ... OK * checking extension type ... Package * this is package ‘LinkHD’ version ‘1.8.0’ * package encoding: UTF-8 * checking package namespace information ... OK * checking package dependencies ... OK * checking if this is a source package ... OK * checking if there is a namespace ... OK * checking for hidden files and directories ... OK * checking for portable file names ... OK * checking for sufficient/correct file permissions ... OK * checking whether package ‘LinkHD’ can be installed ... OK * checking installed package size ... OK * checking package directory ... OK * checking ‘build’ directory ... OK * checking DESCRIPTION meta-information ... OK * checking top-level files ... OK * checking for left-over files ... OK * checking index information ... OK * checking package subdirectories ... OK * checking R files for non-ASCII characters ... OK * checking R files for syntax errors ... OK * checking whether the package can be loaded ... OK * checking whether the package can be loaded with stated dependencies ... OK * checking whether the package can be unloaded cleanly ... OK * checking whether the namespace can be loaded with stated dependencies ... OK * checking whether the namespace can be unloaded cleanly ... OK * checking dependencies in R code ... OK * checking S3 generic/method consistency ... OK * checking replacement functions ... OK * checking foreign function calls ... OK * checking R code for possible problems ... OK * checking Rd files ... OK * checking Rd metadata ... OK * checking Rd cross-references ... OK * checking for missing documentation entries ... OK * checking for code/documentation mismatches ... OK * checking Rd \usage sections ... OK * checking Rd contents ... OK * checking for unstated dependencies in examples ... OK * checking contents of ‘data’ directory ... OK * checking data for non-ASCII characters ... OK * checking LazyData ... OK * checking data for ASCII and uncompressed saves ... OK * checking files in ‘vignettes’ ... OK * checking examples ... OK * checking for unstated dependencies in vignettes ... OK * checking package vignettes in ‘inst/doc’ ... OK * checking running R code from vignettes ... SKIPPED * checking re-building of vignette outputs ... SKIPPED * checking PDF version of manual ... OK * DONE Status: OK
LinkHD.Rcheck/00install.out
############################################################################## ############################################################################## ### ### Running command: ### ### /home/biocbuild/bbs-3.14-bioc/R/bin/R CMD INSTALL LinkHD ### ############################################################################## ############################################################################## * installing to library ‘/home/biocbuild/bbs-3.14-bioc/R/library’ * installing *source* package ‘LinkHD’ ... ** using staged installation ** R ** data *** moving datasets to lazyload DB ** byte-compile and prepare package for lazy loading ** help *** installing help indices ** building package indices ** installing vignettes ** testing if installed package can be loaded from temporary location ** testing if installed package can be loaded from final location ** testing if installed package keeps a record of temporary installation path * DONE (LinkHD)
LinkHD.Rcheck/LinkHD-Ex.timings
| name | user | system | elapsed | |
| Compromise_matrix-methods | 0.970 | 0.064 | 1.034 | |
| DataProcessing | 0.01 | 0.00 | 0.01 | |
| DistStatis-Class | 0.001 | 0.000 | 0.001 | |
| DistStatis-CompromisePlot | 0.458 | 0.008 | 0.466 | |
| DistStatis-CorrelationPlot | 0.502 | 0.000 | 0.502 | |
| DistStatis-GlobalPlot | 0.625 | 0.016 | 0.641 | |
| Euclid_Im-methods | 0.306 | 0.008 | 0.314 | |
| Inertia_RV-methods | 0.318 | 0.020 | 0.338 | |
| Inertia_comp-methods | 0.317 | 0.000 | 0.317 | |
| LinkData-LinkData | 0.842 | 0.052 | 0.894 | |
| OTU2Taxa-OTU2Taxa | 2.498 | 0.084 | 2.582 | |
| RQO-methods | 0.311 | 0.000 | 0.311 | |
| Read_Data | 0 | 0 | 0 | |
| Ruminotypes | 0.001 | 0.000 | 0.001 | |
| Taraoceans | 0.001 | 0.000 | 0.001 | |
| Trajectories-methods | 0.555 | 0.059 | 0.615 | |
| VarSelection-Class | 0 | 0 | 0 | |
| VarSelection | 1.612 | 0.020 | 1.632 | |
| VarTable-methods | 1.692 | 0.016 | 1.708 | |
| Var_coordinates-methods | 1.604 | 0.008 | 1.612 | |
| Variables-methods | 1.642 | 0.028 | 1.670 | |
| compromise_coords-methods | 0.331 | 0.004 | 0.335 | |
| correl-methods | 0.336 | 0.000 | 0.336 | |
| dAB-dAB | 0.631 | 0.004 | 0.635 | |
| sign_values-methods | 1.723 | 0.004 | 1.727 | |