| Back to Multiple platform build/check report for BioC 3.14 |
|
This page was generated on 2022-04-13 12:06:45 -0400 (Wed, 13 Apr 2022).
| Hostname | OS | Arch (*) | R version | Installed pkgs |
|---|---|---|---|---|
| nebbiolo2 | Linux (Ubuntu 20.04.4 LTS) | x86_64 | 4.1.3 (2022-03-10) -- "One Push-Up" | 4324 |
| tokay2 | Windows Server 2012 R2 Standard | x64 | 4.1.3 (2022-03-10) -- "One Push-Up" | 4077 |
| machv2 | macOS 10.14.6 Mojave | x86_64 | 4.1.3 (2022-03-10) -- "One Push-Up" | 4137 |
| Click on any hostname to see more info about the system (e.g. compilers) (*) as reported by 'uname -p', except on Windows and Mac OS X | ||||
|
To the developers/maintainers of the InteractionSet package: - Please allow up to 24 hours (and sometimes 48 hours) for your latest push to git@git.bioconductor.org:packages/InteractionSet.git to reflect on this report. See How and When does the builder pull? When will my changes propagate? for more information. - Make sure to use the following settings in order to reproduce any error or warning you see on this page. |
| Package 940/2083 | Hostname | OS / Arch | INSTALL | BUILD | CHECK | BUILD BIN | ||||||||
| InteractionSet 1.22.0 (landing page) Aaron Lun
| nebbiolo2 | Linux (Ubuntu 20.04.4 LTS) / x86_64 | OK | OK | OK | |||||||||
| tokay2 | Windows Server 2012 R2 Standard / x64 | OK | OK | OK | OK | |||||||||
| machv2 | macOS 10.14.6 Mojave / x86_64 | OK | OK | OK | OK | |||||||||
| Package: InteractionSet |
| Version: 1.22.0 |
| Command: rm -rf InteractionSet.buildbin-libdir && mkdir InteractionSet.buildbin-libdir && C:\Users\biocbuild\bbs-3.14-bioc\R\bin\R.exe CMD INSTALL --merge-multiarch --build --library=InteractionSet.buildbin-libdir InteractionSet_1.22.0.tar.gz |
| StartedAt: 2022-04-13 06:27:08 -0400 (Wed, 13 Apr 2022) |
| EndedAt: 2022-04-13 06:28:46 -0400 (Wed, 13 Apr 2022) |
| EllapsedTime: 98.0 seconds |
| RetCode: 0 |
| Status: OK |
| PackageFile: InteractionSet_1.22.0.zip |
| PackageFileSize: 2.295 MiB |
##############################################################################
##############################################################################
###
### Running command:
###
### rm -rf InteractionSet.buildbin-libdir && mkdir InteractionSet.buildbin-libdir && C:\Users\biocbuild\bbs-3.14-bioc\R\bin\R.exe CMD INSTALL --merge-multiarch --build --library=InteractionSet.buildbin-libdir InteractionSet_1.22.0.tar.gz
###
##############################################################################
##############################################################################
install for i386
* installing *source* package 'InteractionSet' ...
** using staged installation
** libs
"C:/rtools40/mingw32/bin/"g++ -std=gnu++11 -I"C:/Users/BIOCBU~1/BBS-3~1.14-/R/include" -DNDEBUG -I'C:/Users/biocbuild/bbs-3.14-bioc/R/library/Rcpp/include' -I"C:/extsoft/include" -O2 -Wall -mfpmath=sse -msse2 -mstackrealign -c box_bounds.cpp -o box_bounds.o
box_bounds.cpp: In function 'SEXPREC* get_box_bounds(SEXP, SEXP, SEXP, SEXP, SEXP, SEXP)':
box_bounds.cpp:10:13: warning: comparison of integer expressions of different signedness: 'const size_t' {aka 'const unsigned int'} and 'R_xlen_t' {aka 'int'} [-Wsign-compare]
if (npts!=Adex.size()) {
~~~~^~~~~~~~~~~~~
"C:/rtools40/mingw32/bin/"g++ -std=gnu++11 -I"C:/Users/BIOCBU~1/BBS-3~1.14-/R/include" -DNDEBUG -I'C:/Users/biocbuild/bbs-3.14-bioc/R/library/Rcpp/include' -I"C:/extsoft/include" -O2 -Wall -mfpmath=sse -msse2 -mstackrealign -c detect_overlaps.cpp -o detect_overlaps.o
"C:/rtools40/mingw32/bin/"g++ -std=gnu++11 -I"C:/Users/BIOCBU~1/BBS-3~1.14-/R/include" -DNDEBUG -I'C:/Users/biocbuild/bbs-3.14-bioc/R/library/Rcpp/include' -I"C:/extsoft/include" -O2 -Wall -mfpmath=sse -msse2 -mstackrealign -c init.cpp -o init.o
"C:/rtools40/mingw32/bin/"g++ -std=gnu++11 -I"C:/Users/BIOCBU~1/BBS-3~1.14-/R/include" -DNDEBUG -I'C:/Users/biocbuild/bbs-3.14-bioc/R/library/Rcpp/include' -I"C:/extsoft/include" -O2 -Wall -mfpmath=sse -msse2 -mstackrealign -c link_overlaps.cpp -o link_overlaps.o
"C:/rtools40/mingw32/bin/"g++ -std=gnu++11 -I"C:/Users/BIOCBU~1/BBS-3~1.14-/R/include" -DNDEBUG -I'C:/Users/biocbuild/bbs-3.14-bioc/R/library/Rcpp/include' -I"C:/extsoft/include" -O2 -Wall -mfpmath=sse -msse2 -mstackrealign -c overlap_utils.cpp -o overlap_utils.o
C:/rtools40/mingw32/bin/g++ -shared -s -static-libgcc -o InteractionSet.dll tmp.def box_bounds.o detect_overlaps.o init.o link_overlaps.o overlap_utils.o -LC:/extsoft/lib/i386 -LC:/extsoft/lib -LC:/Users/BIOCBU~1/BBS-3~1.14-/R/bin/i386 -lR
installing to C:/Users/biocbuild/bbs-3.14-bioc/meat/InteractionSet.buildbin-libdir/00LOCK-InteractionSet/00new/InteractionSet/libs/i386
** R
** inst
** byte-compile and prepare package for lazy loading
** help
*** installing help indices
converting help for package 'InteractionSet'
finding HTML links ... done
ContactMatrix-accessors html
finding level-2 HTML links ... done
ContactMatrix-class html
ContactMatrix-distances html
ContactMatrix-overlaps html
ContactMatrix-sorting html
ContactMatrix-subset html
GInteractions-class html
InteractionSet-class html
boundingBox html
conversion html
distances html
granges-methods html
interaction-accessors html
interaction-bind html
interaction-compare html
interaction-subset html
linearize html
linkOverlaps html
overlaps html
pairs html
** building package indices
** installing vignettes
** testing if installed package can be loaded from temporary location
** testing if installed package can be loaded from final location
** testing if installed package keeps a record of temporary installation path
install for x64
* installing *source* package 'InteractionSet' ...
** libs
"C:/rtools40/mingw64/bin/"g++ -std=gnu++11 -I"C:/Users/BIOCBU~1/BBS-3~1.14-/R/include" -DNDEBUG -I'C:/Users/biocbuild/bbs-3.14-bioc/R/library/Rcpp/include' -I"C:/extsoft/include" -O2 -Wall -mfpmath=sse -msse2 -mstackrealign -c box_bounds.cpp -o box_bounds.o
box_bounds.cpp: In function 'SEXPREC* get_box_bounds(SEXP, SEXP, SEXP, SEXP, SEXP, SEXP)':
box_bounds.cpp:10:13: warning: comparison of integer expressions of different signedness: 'const size_t' {aka 'const long long unsigned int'} and 'R_xlen_t' {aka 'long long int'} [-Wsign-compare]
if (npts!=Adex.size()) {
~~~~^~~~~~~~~~~~~
"C:/rtools40/mingw64/bin/"g++ -std=gnu++11 -I"C:/Users/BIOCBU~1/BBS-3~1.14-/R/include" -DNDEBUG -I'C:/Users/biocbuild/bbs-3.14-bioc/R/library/Rcpp/include' -I"C:/extsoft/include" -O2 -Wall -mfpmath=sse -msse2 -mstackrealign -c detect_overlaps.cpp -o detect_overlaps.o
"C:/rtools40/mingw64/bin/"g++ -std=gnu++11 -I"C:/Users/BIOCBU~1/BBS-3~1.14-/R/include" -DNDEBUG -I'C:/Users/biocbuild/bbs-3.14-bioc/R/library/Rcpp/include' -I"C:/extsoft/include" -O2 -Wall -mfpmath=sse -msse2 -mstackrealign -c init.cpp -o init.o
"C:/rtools40/mingw64/bin/"g++ -std=gnu++11 -I"C:/Users/BIOCBU~1/BBS-3~1.14-/R/include" -DNDEBUG -I'C:/Users/biocbuild/bbs-3.14-bioc/R/library/Rcpp/include' -I"C:/extsoft/include" -O2 -Wall -mfpmath=sse -msse2 -mstackrealign -c link_overlaps.cpp -o link_overlaps.o
"C:/rtools40/mingw64/bin/"g++ -std=gnu++11 -I"C:/Users/BIOCBU~1/BBS-3~1.14-/R/include" -DNDEBUG -I'C:/Users/biocbuild/bbs-3.14-bioc/R/library/Rcpp/include' -I"C:/extsoft/include" -O2 -Wall -mfpmath=sse -msse2 -mstackrealign -c overlap_utils.cpp -o overlap_utils.o
C:/rtools40/mingw64/bin/g++ -shared -s -static-libgcc -o InteractionSet.dll tmp.def box_bounds.o detect_overlaps.o init.o link_overlaps.o overlap_utils.o -LC:/extsoft/lib/x64 -LC:/extsoft/lib -LC:/Users/BIOCBU~1/BBS-3~1.14-/R/bin/x64 -lR
installing to C:/Users/biocbuild/bbs-3.14-bioc/meat/InteractionSet.buildbin-libdir/InteractionSet/libs/x64
** testing if installed package can be loaded
* MD5 sums
packaged installation of 'InteractionSet' as InteractionSet_1.22.0.zip
* DONE (InteractionSet)