| Back to Multiple platform build/check report for BioC 3.14 |
|
This page was generated on 2022-04-13 12:06:42 -0400 (Wed, 13 Apr 2022).
| Hostname | OS | Arch (*) | R version | Installed pkgs |
|---|---|---|---|---|
| nebbiolo2 | Linux (Ubuntu 20.04.4 LTS) | x86_64 | 4.1.3 (2022-03-10) -- "One Push-Up" | 4324 |
| tokay2 | Windows Server 2012 R2 Standard | x64 | 4.1.3 (2022-03-10) -- "One Push-Up" | 4077 |
| machv2 | macOS 10.14.6 Mojave | x86_64 | 4.1.3 (2022-03-10) -- "One Push-Up" | 4137 |
| Click on any hostname to see more info about the system (e.g. compilers) (*) as reported by 'uname -p', except on Windows and Mac OS X | ||||
|
To the developers/maintainers of the HIPPO package: - Please allow up to 24 hours (and sometimes 48 hours) for your latest push to git@git.bioconductor.org:packages/HIPPO.git to reflect on this report. See How and When does the builder pull? When will my changes propagate? for more information. - Make sure to use the following settings in order to reproduce any error or warning you see on this page. |
| Package 876/2083 | Hostname | OS / Arch | INSTALL | BUILD | CHECK | BUILD BIN | ||||||||
| HIPPO 1.6.0 (landing page) Tae Kim
| nebbiolo2 | Linux (Ubuntu 20.04.4 LTS) / x86_64 | OK | OK | OK | |||||||||
| tokay2 | Windows Server 2012 R2 Standard / x64 | OK | OK | OK | OK | |||||||||
| machv2 | macOS 10.14.6 Mojave / x86_64 | OK | OK | OK | OK | |||||||||
| Package: HIPPO |
| Version: 1.6.0 |
| Command: C:\Users\biocbuild\bbs-3.14-bioc\R\bin\R.exe CMD check --force-multiarch --install=check:HIPPO.install-out.txt --library=C:\Users\biocbuild\bbs-3.14-bioc\R\library --no-vignettes --timings HIPPO_1.6.0.tar.gz |
| StartedAt: 2022-04-12 21:08:59 -0400 (Tue, 12 Apr 2022) |
| EndedAt: 2022-04-12 21:13:02 -0400 (Tue, 12 Apr 2022) |
| EllapsedTime: 242.9 seconds |
| RetCode: 0 |
| Status: OK |
| CheckDir: HIPPO.Rcheck |
| Warnings: 0 |
##############################################################################
##############################################################################
###
### Running command:
###
### C:\Users\biocbuild\bbs-3.14-bioc\R\bin\R.exe CMD check --force-multiarch --install=check:HIPPO.install-out.txt --library=C:\Users\biocbuild\bbs-3.14-bioc\R\library --no-vignettes --timings HIPPO_1.6.0.tar.gz
###
##############################################################################
##############################################################################
* using log directory 'C:/Users/biocbuild/bbs-3.14-bioc/meat/HIPPO.Rcheck'
* using R version 4.1.3 (2022-03-10)
* using platform: x86_64-w64-mingw32 (64-bit)
* using session charset: ISO8859-1
* using option '--no-vignettes'
* checking for file 'HIPPO/DESCRIPTION' ... OK
* checking extension type ... Package
* this is package 'HIPPO' version '1.6.0'
* package encoding: UTF-8
* checking package namespace information ... OK
* checking package dependencies ... OK
* checking if this is a source package ... OK
* checking if there is a namespace ... OK
* checking for hidden files and directories ... OK
* checking for portable file names ... OK
* checking whether package 'HIPPO' can be installed ... OK
* checking installed package size ... OK
* checking package directory ... OK
* checking DESCRIPTION meta-information ... OK
* checking top-level files ... OK
* checking for left-over files ... OK
* checking index information ... OK
* checking package subdirectories ... OK
* checking R files for non-ASCII characters ... OK
* checking R files for syntax errors ... OK
* loading checks for arch 'i386'
** checking whether the package can be loaded ... OK
** checking whether the package can be loaded with stated dependencies ... OK
** checking whether the package can be unloaded cleanly ... OK
** checking whether the namespace can be loaded with stated dependencies ... OK
** checking whether the namespace can be unloaded cleanly ... OK
* loading checks for arch 'x64'
** checking whether the package can be loaded ... OK
** checking whether the package can be loaded with stated dependencies ... OK
** checking whether the package can be unloaded cleanly ... OK
** checking whether the namespace can be loaded with stated dependencies ... OK
** checking whether the namespace can be unloaded cleanly ... OK
* checking dependencies in R code ... OK
* checking S3 generic/method consistency ... OK
* checking replacement functions ... OK
* checking foreign function calls ... OK
* checking R code for possible problems ... NOTE
ensg_to_hgnc: no visible global function definition for 'data'
ensg_to_hgnc: no visible binding for global variable 'ensg_hgnc'
hippo: no visible global function definition for 'is'
hippo_feature_heatmap: no visible binding for global variable 'zvalue'
hippo_tsne_plot: no visible binding for global variable 'K'
hippo_umap_plot: no visible binding for global variable 'K'
preprocess_homogeneous: no visible global function definition for 'is'
zero_proportion_plot: no visible binding for global variable 'K'
zero_proportion_plot: no visible binding for global variable 'zvalue'
zero_proportion_plot: no visible binding for global variable
'featurecount'
Undefined global functions or variables:
K data ensg_hgnc featurecount is zvalue
Consider adding
importFrom("methods", "is")
importFrom("utils", "data")
to your NAMESPACE file (and ensure that your DESCRIPTION Imports field
contains 'methods').
* checking Rd files ... OK
* checking Rd metadata ... OK
* checking Rd cross-references ... OK
* checking for missing documentation entries ... OK
* checking for code/documentation mismatches ... OK
* checking Rd \usage sections ... OK
* checking Rd contents ... OK
* checking for unstated dependencies in examples ... OK
* checking contents of 'data' directory ... OK
* checking data for non-ASCII characters ... OK
* checking LazyData ... OK
* checking data for ASCII and uncompressed saves ... OK
* checking files in 'vignettes' ... OK
* checking examples ...
** running examples for arch 'i386' ... OK
** running examples for arch 'x64' ... OK
* checking for unstated dependencies in vignettes ... OK
* checking package vignettes in 'inst/doc' ... OK
* checking running R code from vignettes ... SKIPPED
* checking re-building of vignette outputs ... SKIPPED
* checking PDF version of manual ... OK
* DONE
Status: 1 NOTE
See
'C:/Users/biocbuild/bbs-3.14-bioc/meat/HIPPO.Rcheck/00check.log'
for details.
HIPPO.Rcheck/00install.out
##############################################################################
##############################################################################
###
### Running command:
###
### C:\cygwin\bin\curl.exe -O http://155.52.207.166/BBS/3.14/bioc/src/contrib/HIPPO_1.6.0.tar.gz && rm -rf HIPPO.buildbin-libdir && mkdir HIPPO.buildbin-libdir && C:\Users\biocbuild\bbs-3.14-bioc\R\bin\R.exe CMD INSTALL --merge-multiarch --build --library=HIPPO.buildbin-libdir HIPPO_1.6.0.tar.gz && C:\Users\biocbuild\bbs-3.14-bioc\R\bin\R.exe CMD INSTALL HIPPO_1.6.0.zip && rm HIPPO_1.6.0.tar.gz HIPPO_1.6.0.zip
###
##############################################################################
##############################################################################
% Total % Received % Xferd Average Speed Time Time Time Current
Dload Upload Total Spent Left Speed
0 0 0 0 0 0 0 0 --:--:-- --:--:-- --:--:-- 0
18 467k 18 86211 0 0 440k 0 0:00:01 --:--:-- 0:00:01 440k
100 467k 100 467k 0 0 889k 0 --:--:-- --:--:-- --:--:-- 889k
install for i386
* installing *source* package 'HIPPO' ...
** using staged installation
** R
** data
*** moving datasets to lazyload DB
** byte-compile and prepare package for lazy loading
** help
*** installing help indices
converting help for package 'HIPPO'
finding HTML links ... done
ensg_hgnc html
get_data_from_sce html
get_hippo html
get_hippo_diffexp html
hippo html
hippo_diagnostic_plot html
hippo_diffexp html
hippo_dimension_reduction html
hippo_feature_heatmap html
hippo_pca_plot html
hippo_tsne_plot html
hippo_umap_plot html
nb_prob_zero html
pipe html
pois_prob_zero html
preprocess_heterogeneous html
preprocess_homogeneous html
toydata html
zero_proportion_plot html
zinb_prob_zero html
** building package indices
** installing vignettes
** testing if installed package can be loaded from temporary location
** testing if installed package can be loaded from final location
** testing if installed package keeps a record of temporary installation path
install for x64
* installing *source* package 'HIPPO' ...
** testing if installed package can be loaded
* MD5 sums
packaged installation of 'HIPPO' as HIPPO_1.6.0.zip
* DONE (HIPPO)
* installing to library 'C:/Users/biocbuild/bbs-3.14-bioc/R/library'
package 'HIPPO' successfully unpacked and MD5 sums checked
|
HIPPO.Rcheck/examples_i386/HIPPO-Ex.timings
|
HIPPO.Rcheck/examples_x64/HIPPO-Ex.timings
|