| Back to Multiple platform build/check report for BioC 3.14 |
|
This page was generated on 2022-04-13 12:06:37 -0400 (Wed, 13 Apr 2022).
| Hostname | OS | Arch (*) | R version | Installed pkgs |
|---|---|---|---|---|
| nebbiolo2 | Linux (Ubuntu 20.04.4 LTS) | x86_64 | 4.1.3 (2022-03-10) -- "One Push-Up" | 4324 |
| tokay2 | Windows Server 2012 R2 Standard | x64 | 4.1.3 (2022-03-10) -- "One Push-Up" | 4077 |
| machv2 | macOS 10.14.6 Mojave | x86_64 | 4.1.3 (2022-03-10) -- "One Push-Up" | 4137 |
| Click on any hostname to see more info about the system (e.g. compilers) (*) as reported by 'uname -p', except on Windows and Mac OS X | ||||
|
To the developers/maintainers of the GenomeInfoDb package: - Please allow up to 24 hours (and sometimes 48 hours) for your latest push to git@git.bioconductor.org:packages/GenomeInfoDb.git to reflect on this report. See How and When does the builder pull? When will my changes propagate? for more information. - Make sure to use the following settings in order to reproduce any error or warning you see on this page. |
| Package 745/2083 | Hostname | OS / Arch | INSTALL | BUILD | CHECK | BUILD BIN | ||||||||
| GenomeInfoDb 1.30.1 (landing page) Bioconductor Package Maintainer
| nebbiolo2 | Linux (Ubuntu 20.04.4 LTS) / x86_64 | OK | OK | ERROR | |||||||||
| tokay2 | Windows Server 2012 R2 Standard / x64 | OK | OK | ERROR | OK | |||||||||
| machv2 | macOS 10.14.6 Mojave / x86_64 | OK | OK | ERROR | OK | |||||||||
| Package: GenomeInfoDb |
| Version: 1.30.1 |
| Command: C:\cygwin\bin\curl.exe -O http://155.52.207.166/BBS/3.14/bioc/src/contrib/GenomeInfoDb_1.30.1.tar.gz && rm -rf GenomeInfoDb.buildbin-libdir && mkdir GenomeInfoDb.buildbin-libdir && C:\Users\biocbuild\bbs-3.14-bioc\R\bin\R.exe CMD INSTALL --merge-multiarch --build --library=GenomeInfoDb.buildbin-libdir GenomeInfoDb_1.30.1.tar.gz && C:\Users\biocbuild\bbs-3.14-bioc\R\bin\R.exe CMD INSTALL GenomeInfoDb_1.30.1.zip && rm GenomeInfoDb_1.30.1.tar.gz GenomeInfoDb_1.30.1.zip |
| StartedAt: 2022-04-12 04:36:32 -0400 (Tue, 12 Apr 2022) |
| EndedAt: 2022-04-12 04:39:02 -0400 (Tue, 12 Apr 2022) |
| EllapsedTime: 150.6 seconds |
| RetCode: 0 |
| Status: OK |
##############################################################################
##############################################################################
###
### Running command:
###
### C:\cygwin\bin\curl.exe -O http://155.52.207.166/BBS/3.14/bioc/src/contrib/GenomeInfoDb_1.30.1.tar.gz && rm -rf GenomeInfoDb.buildbin-libdir && mkdir GenomeInfoDb.buildbin-libdir && C:\Users\biocbuild\bbs-3.14-bioc\R\bin\R.exe CMD INSTALL --merge-multiarch --build --library=GenomeInfoDb.buildbin-libdir GenomeInfoDb_1.30.1.tar.gz && C:\Users\biocbuild\bbs-3.14-bioc\R\bin\R.exe CMD INSTALL GenomeInfoDb_1.30.1.zip && rm GenomeInfoDb_1.30.1.tar.gz GenomeInfoDb_1.30.1.zip
###
##############################################################################
##############################################################################
% Total % Received % Xferd Average Speed Time Time Time Current
Dload Upload Total Spent Left Speed
0 0 0 0 0 0 0 0 --:--:-- --:--:-- --:--:-- 0
24 3091k 24 756k 0 0 750k 0 0:00:04 0:00:01 0:00:03 751k
79 3091k 79 2445k 0 0 1218k 0 0:00:02 0:00:02 --:--:-- 1219k
100 3091k 100 3091k 0 0 1362k 0 0:00:02 0:00:02 --:--:-- 1362k
install for i386
* installing *source* package 'GenomeInfoDb' ...
** using staged installation
** R
** inst
** byte-compile and prepare package for lazy loading
** help
*** installing help indices
converting help for package 'GenomeInfoDb'
finding HTML links ... done
GenomeDescription-class html
GenomeInfoDb-internals html
Seqinfo-class html
fetchExtendedChromInfoFromUCSC html
getChromInfoFromEnsembl html
getChromInfoFromNCBI html
getChromInfoFromUCSC html
loadTaxonomyDb html
mapGenomeBuilds html
rankSeqlevels html
seqinfo html
REDIRECT:topic Previous alias or file overwritten by alias: C:/Users/biocbuild/bbs-3.14-bioc/meat/GenomeInfoDb.buildbin-libdir/00LOCK-GenomeInfoDb/00new/GenomeInfoDb/help/seqinfo.html
seqlevels-wrappers html
seqlevelsStyle html
** building package indices
** installing vignettes
** testing if installed package can be loaded from temporary location
** testing if installed package can be loaded from final location
** testing if installed package keeps a record of temporary installation path
install for x64
* installing *source* package 'GenomeInfoDb' ...
** testing if installed package can be loaded
* MD5 sums
packaged installation of 'GenomeInfoDb' as GenomeInfoDb_1.30.1.zip
* DONE (GenomeInfoDb)
* installing to library 'C:/Users/biocbuild/bbs-3.14-bioc/R/library'
package 'GenomeInfoDb' successfully unpacked and MD5 sums checked