| Back to Multiple platform build/check report for BioC 3.14 |
|
This page was generated on 2022-04-13 12:06:36 -0400 (Wed, 13 Apr 2022).
| Hostname | OS | Arch (*) | R version | Installed pkgs |
|---|---|---|---|---|
| nebbiolo2 | Linux (Ubuntu 20.04.4 LTS) | x86_64 | 4.1.3 (2022-03-10) -- "One Push-Up" | 4324 |
| tokay2 | Windows Server 2012 R2 Standard | x64 | 4.1.3 (2022-03-10) -- "One Push-Up" | 4077 |
| machv2 | macOS 10.14.6 Mojave | x86_64 | 4.1.3 (2022-03-10) -- "One Push-Up" | 4137 |
| Click on any hostname to see more info about the system (e.g. compilers) (*) as reported by 'uname -p', except on Windows and Mac OS X | ||||
|
To the developers/maintainers of the GeneBreak package: - Please allow up to 24 hours (and sometimes 48 hours) for your latest push to git@git.bioconductor.org:packages/GeneBreak.git to reflect on this report. See How and When does the builder pull? When will my changes propagate? for more information. - Make sure to use the following settings in order to reproduce any error or warning you see on this page. |
| Package 719/2083 | Hostname | OS / Arch | INSTALL | BUILD | CHECK | BUILD BIN | ||||||||
| GeneBreak 1.24.0 (landing page) Evert van den Broek
| nebbiolo2 | Linux (Ubuntu 20.04.4 LTS) / x86_64 | OK | OK | OK | |||||||||
| tokay2 | Windows Server 2012 R2 Standard / x64 | OK | OK | OK | OK | |||||||||
| machv2 | macOS 10.14.6 Mojave / x86_64 | OK | OK | OK | OK | |||||||||
| Package: GeneBreak |
| Version: 1.24.0 |
| Command: C:\cygwin\bin\curl.exe -O http://155.52.207.166/BBS/3.14/bioc/src/contrib/GeneBreak_1.24.0.tar.gz && rm -rf GeneBreak.buildbin-libdir && mkdir GeneBreak.buildbin-libdir && C:\Users\biocbuild\bbs-3.14-bioc\R\bin\R.exe CMD INSTALL --merge-multiarch --build --library=GeneBreak.buildbin-libdir GeneBreak_1.24.0.tar.gz && C:\Users\biocbuild\bbs-3.14-bioc\R\bin\R.exe CMD INSTALL GeneBreak_1.24.0.zip && rm GeneBreak_1.24.0.tar.gz GeneBreak_1.24.0.zip |
| StartedAt: 2022-04-12 05:25:56 -0400 (Tue, 12 Apr 2022) |
| EndedAt: 2022-04-12 05:27:15 -0400 (Tue, 12 Apr 2022) |
| EllapsedTime: 79.7 seconds |
| RetCode: 0 |
| Status: OK |
##############################################################################
##############################################################################
###
### Running command:
###
### C:\cygwin\bin\curl.exe -O http://155.52.207.166/BBS/3.14/bioc/src/contrib/GeneBreak_1.24.0.tar.gz && rm -rf GeneBreak.buildbin-libdir && mkdir GeneBreak.buildbin-libdir && C:\Users\biocbuild\bbs-3.14-bioc\R\bin\R.exe CMD INSTALL --merge-multiarch --build --library=GeneBreak.buildbin-libdir GeneBreak_1.24.0.tar.gz && C:\Users\biocbuild\bbs-3.14-bioc\R\bin\R.exe CMD INSTALL GeneBreak_1.24.0.zip && rm GeneBreak_1.24.0.tar.gz GeneBreak_1.24.0.zip
###
##############################################################################
##############################################################################
% Total % Received % Xferd Average Speed Time Time Time Current
Dload Upload Total Spent Left Speed
0 0 0 0 0 0 0 0 --:--:-- --:--:-- --:--:-- 0
2 4105k 2 96987 0 0 497k 0 0:00:08 --:--:-- 0:00:08 498k
40 4105k 40 1651k 0 0 1387k 0 0:00:02 0:00:01 0:00:01 1387k
100 4105k 100 4105k 0 0 1906k 0 0:00:02 0:00:02 --:--:-- 1907k
install for i386
* installing *source* package 'GeneBreak' ...
** using staged installation
** R
** data
** byte-compile and prepare package for lazy loading
Creating a new generic function for 'segmentData' in package 'GeneBreak'
** help
*** installing help indices
converting help for package 'GeneBreak'
finding HTML links ... done
CopyNumberBreakPointGenes-class html
CopyNumberBreakPoints-class html
GeneBreak html
accessOptions-CopyNumberBreakPoints-method
html
addGeneAnnotation-CopyNumberBreakPoints-method
html
bpFilter-CopyNumberBreakPoints-method html
bpGenes-CopyNumberBreakPointGenes-method
html
bpPlot-CopyNumberBreakPoints-method html
bpStats-CopyNumberBreakPoints-method html
breakpointData-CopyNumberBreakPoints-method
html
breakpointsPerGene-CopyNumberBreakPointGenes-method
html
callData-CopyNumberBreakPoints-method html
copynumber.data.chr18 html
copynumber.data.chr20 html
copynumber.data.chr21 html
ens.gene.ann.hg18 html
ens.gene.ann.hg19 html
ens.gene.ann.hg38 html
featureChromosomes-CopyNumberBreakPoints-method
html
featureInfo-CopyNumberBreakPoints-method
html
featuresPerGene-CopyNumberBreakPointGenes-method
html
geneChromosomes-CopyNumberBreakPointGenes-method
html
geneInfo-CopyNumberBreakPointGenes-method
html
getBreakpoints html
namesFeatures-CopyNumberBreakPoints-method
html
recurrentGenes-CopyNumberBreakPointGenes-method
html
sampleNames-CopyNumberBreakPoints-method
html
segmentData-CopyNumberBreakPoints-method
html
** building package indices
** installing vignettes
** testing if installed package can be loaded from temporary location
** testing if installed package can be loaded from final location
** testing if installed package keeps a record of temporary installation path
install for x64
* installing *source* package 'GeneBreak' ...
** testing if installed package can be loaded
* MD5 sums
packaged installation of 'GeneBreak' as GeneBreak_1.24.0.zip
* DONE (GeneBreak)
* installing to library 'C:/Users/biocbuild/bbs-3.14-bioc/R/library'
package 'GeneBreak' successfully unpacked and MD5 sums checked