| Back to Multiple platform build/check report for BioC 3.14 | 
 | 
This page was generated on 2022-04-13 12:06:31 -0400 (Wed, 13 Apr 2022).
| Hostname | OS | Arch (*) | R version | Installed pkgs | 
|---|---|---|---|---|
| nebbiolo2 | Linux (Ubuntu 20.04.4 LTS) | x86_64 | 4.1.3 (2022-03-10) -- "One Push-Up" | 4324 | 
| tokay2 | Windows Server 2012 R2 Standard | x64 | 4.1.3 (2022-03-10) -- "One Push-Up" | 4077 | 
| machv2 | macOS 10.14.6 Mojave | x86_64 | 4.1.3 (2022-03-10) -- "One Push-Up" | 4137 | 
| Click on any hostname to see more info about the system (e.g. compilers) (*) as reported by 'uname -p', except on Windows and Mac OS X | ||||
| To the developers/maintainers of the EpiDISH package: - Please allow up to 24 hours (and sometimes 48 hours) for your latest push to git@git.bioconductor.org:packages/EpiDISH.git to reflect on this report. See How and When does the builder pull? When will my changes propagate? for more information. - Make sure to use the following settings in order to reproduce any error or warning you see on this page. | 
| Package 589/2083 | Hostname | OS / Arch | INSTALL | BUILD | CHECK | BUILD BIN | ||||||||
| EpiDISH 2.10.0  (landing page) Shijie C. Zheng 
 | nebbiolo2 | Linux (Ubuntu 20.04.4 LTS) / x86_64 | OK | OK | OK |  | ||||||||
| tokay2 | Windows Server 2012 R2 Standard / x64 | OK | OK | OK | OK |  | ||||||||
| machv2 | macOS 10.14.6 Mojave / x86_64 | OK | OK | OK | OK |  | ||||||||
| Package: EpiDISH | 
| Version: 2.10.0 | 
| Command: C:\cygwin\bin\curl.exe -O http://155.52.207.166/BBS/3.14/bioc/src/contrib/EpiDISH_2.10.0.tar.gz && rm -rf EpiDISH.buildbin-libdir && mkdir EpiDISH.buildbin-libdir && C:\Users\biocbuild\bbs-3.14-bioc\R\bin\R.exe CMD INSTALL --merge-multiarch --build --library=EpiDISH.buildbin-libdir EpiDISH_2.10.0.tar.gz && C:\Users\biocbuild\bbs-3.14-bioc\R\bin\R.exe CMD INSTALL EpiDISH_2.10.0.zip && rm EpiDISH_2.10.0.tar.gz EpiDISH_2.10.0.zip | 
| StartedAt: 2022-04-12 04:32:30 -0400 (Tue, 12 Apr 2022) | 
| EndedAt: 2022-04-12 04:33:15 -0400 (Tue, 12 Apr 2022) | 
| EllapsedTime: 45.1 seconds | 
| RetCode: 0 | 
| Status: OK | 
##############################################################################
##############################################################################
###
### Running command:
###
###   C:\cygwin\bin\curl.exe -O http://155.52.207.166/BBS/3.14/bioc/src/contrib/EpiDISH_2.10.0.tar.gz && rm -rf EpiDISH.buildbin-libdir && mkdir EpiDISH.buildbin-libdir && C:\Users\biocbuild\bbs-3.14-bioc\R\bin\R.exe CMD INSTALL --merge-multiarch --build --library=EpiDISH.buildbin-libdir EpiDISH_2.10.0.tar.gz && C:\Users\biocbuild\bbs-3.14-bioc\R\bin\R.exe CMD INSTALL EpiDISH_2.10.0.zip && rm EpiDISH_2.10.0.tar.gz EpiDISH_2.10.0.zip
###
##############################################################################
##############################################################################
  % Total    % Received % Xferd  Average Speed   Time    Time     Time  Current
                                 Dload  Upload   Total   Spent    Left  Speed
  0     0    0     0    0     0      0      0 --:--:-- --:--:-- --:--:--     0
 44 1482k   44  662k    0     0   989k      0  0:00:01 --:--:--  0:00:01  989k
100 1482k  100 1482k    0     0  1288k      0  0:00:01  0:00:01 --:--:-- 1289k
install for i386
Warning in untar2(tarfile, files, list, exdir, restore_times) :
  failed to copy 'EpiDISH/./vignettes/EpiDISH.Rmd' to 'EpiDISH/README.md'
* installing *source* package 'EpiDISH' ...
** using staged installation
** R
** data
*** moving datasets to lazyload DB
** inst
** byte-compile and prepare package for lazy loading
** help
*** installing help indices
  converting help for package 'EpiDISH'
    finding HTML links ... done
    CellDMC                                 html  
    DoMetaEfron                             html  
    DummyBeta.m                             html  
    LiuDataSub.m                            html  
    centBloodSub.m                          html  
    centDHSbloodDMC.m                       html  
    centEpiFibFatIC.m                       html  
    centEpiFibIC.m                          html  
    epidish                                 html  
    hepidish                                html  
** building package indices
** installing vignettes
** testing if installed package can be loaded from temporary location
** testing if installed package can be loaded from final location
** testing if installed package keeps a record of temporary installation path
install for x64
Warning in untar2(tarfile, files, list, exdir, restore_times) :
  failed to copy 'EpiDISH/./vignettes/EpiDISH.Rmd' to 'EpiDISH/README.md'
* installing *source* package 'EpiDISH' ...
** testing if installed package can be loaded
* MD5 sums
packaged installation of 'EpiDISH' as EpiDISH_2.10.0.zip
* DONE (EpiDISH)
* installing to library 'C:/Users/biocbuild/bbs-3.14-bioc/R/library'
package 'EpiDISH' successfully unpacked and MD5 sums checked