| Back to Multiple platform build/check report for BioC 3.14 |
|
This page was generated on 2022-04-13 12:06:28 -0400 (Wed, 13 Apr 2022).
| Hostname | OS | Arch (*) | R version | Installed pkgs |
|---|---|---|---|---|
| nebbiolo2 | Linux (Ubuntu 20.04.4 LTS) | x86_64 | 4.1.3 (2022-03-10) -- "One Push-Up" | 4324 |
| tokay2 | Windows Server 2012 R2 Standard | x64 | 4.1.3 (2022-03-10) -- "One Push-Up" | 4077 |
| machv2 | macOS 10.14.6 Mojave | x86_64 | 4.1.3 (2022-03-10) -- "One Push-Up" | 4137 |
| Click on any hostname to see more info about the system (e.g. compilers) (*) as reported by 'uname -p', except on Windows and Mac OS X | ||||
|
To the developers/maintainers of the DMCHMM package: - Please allow up to 24 hours (and sometimes 48 hours) for your latest push to git@git.bioconductor.org:packages/DMCHMM.git to reflect on this report. See How and When does the builder pull? When will my changes propagate? for more information. - Make sure to use the following settings in order to reproduce any error or warning you see on this page. |
| Package 524/2083 | Hostname | OS / Arch | INSTALL | BUILD | CHECK | BUILD BIN | ||||||||
| DMCHMM 1.16.0 (landing page) Farhad Shokoohi
| nebbiolo2 | Linux (Ubuntu 20.04.4 LTS) / x86_64 | OK | ERROR | skipped | |||||||||
| tokay2 | Windows Server 2012 R2 Standard / x64 | OK | ERROR | skipped | skipped | |||||||||
| machv2 | macOS 10.14.6 Mojave / x86_64 | OK | ERROR | skipped | skipped | |||||||||
| Package: DMCHMM |
| Version: 1.16.0 |
| Command: C:\cygwin\bin\curl.exe -O http://155.52.207.166/BBS/3.14/bioc/src/contrib/DMCHMM_1.16.0.tar.gz && rm -rf DMCHMM.buildbin-libdir && mkdir DMCHMM.buildbin-libdir && C:\Users\biocbuild\bbs-3.14-bioc\R\bin\R.exe CMD INSTALL --merge-multiarch --build --library=DMCHMM.buildbin-libdir DMCHMM_1.16.0.tar.gz && C:\Users\biocbuild\bbs-3.14-bioc\R\bin\R.exe CMD INSTALL DMCHMM_1.16.0.zip && rm DMCHMM_1.16.0.tar.gz DMCHMM_1.16.0.zip |
| StartedAt: 2022-04-12 06:18:20 -0400 (Tue, 12 Apr 2022) |
| EndedAt: 2022-04-12 06:19:49 -0400 (Tue, 12 Apr 2022) |
| EllapsedTime: 89.3 seconds |
| RetCode: 0 |
| Status: OK |
##############################################################################
##############################################################################
###
### Running command:
###
### C:\cygwin\bin\curl.exe -O http://155.52.207.166/BBS/3.14/bioc/src/contrib/DMCHMM_1.16.0.tar.gz && rm -rf DMCHMM.buildbin-libdir && mkdir DMCHMM.buildbin-libdir && C:\Users\biocbuild\bbs-3.14-bioc\R\bin\R.exe CMD INSTALL --merge-multiarch --build --library=DMCHMM.buildbin-libdir DMCHMM_1.16.0.tar.gz && C:\Users\biocbuild\bbs-3.14-bioc\R\bin\R.exe CMD INSTALL DMCHMM_1.16.0.zip && rm DMCHMM_1.16.0.tar.gz DMCHMM_1.16.0.zip
###
##############################################################################
##############################################################################
% Total % Received % Xferd Average Speed Time Time Time Current
Dload Upload Total Spent Left Speed
0 0 0 0 0 0 0 0 --:--:-- --:--:-- --:--:-- 0
51 756k 51 392k 0 0 612k 0 0:00:01 --:--:-- 0:00:01 612k
100 756k 100 756k 0 0 778k 0 --:--:-- --:--:-- --:--:-- 778k
install for i386
* installing *source* package 'DMCHMM' ...
** using staged installation
** R
** inst
** byte-compile and prepare package for lazy loading
Warning: replacing previous import 'IRanges::windows' by 'grDevices::windows' when loading 'DMCHMM'
** help
*** installing help indices
converting help for package 'DMCHMM'
finding HTML links ... done
BSDMCs-class html
BSData-class html
finding level-2 HTML links ... done
DMCHMM-package html
cBSDMCs-method html
cBSData-method html
combine-method html
data html
findDMCs-method html
manhattanDMCs-method html
methHMEM-method html
methHMMCMC-method html
methLevels-method html
methReads-method html
methStates-method html
methVars-method html
params html
qqDMCs-method html
readBismark-method html
totalReads-method html
writeBED-method html
** building package indices
** installing vignettes
** testing if installed package can be loaded from temporary location
Warning: replacing previous import 'IRanges::windows' by 'grDevices::windows' when loading 'DMCHMM'
** testing if installed package can be loaded from final location
Warning: replacing previous import 'IRanges::windows' by 'grDevices::windows' when loading 'DMCHMM'
** testing if installed package keeps a record of temporary installation path
install for x64
* installing *source* package 'DMCHMM' ...
** testing if installed package can be loaded
Warning: replacing previous import 'IRanges::windows' by 'grDevices::windows' when loading 'DMCHMM'
* MD5 sums
packaged installation of 'DMCHMM' as DMCHMM_1.16.0.zip
* DONE (DMCHMM)
* installing to library 'C:/Users/biocbuild/bbs-3.14-bioc/R/library'
package 'DMCHMM' successfully unpacked and MD5 sums checked