| Back to Multiple platform build/check report for BioC 3.14 |
|
This page was generated on 2022-04-13 12:06:26 -0400 (Wed, 13 Apr 2022).
| Hostname | OS | Arch (*) | R version | Installed pkgs |
|---|---|---|---|---|
| nebbiolo2 | Linux (Ubuntu 20.04.4 LTS) | x86_64 | 4.1.3 (2022-03-10) -- "One Push-Up" | 4324 |
| tokay2 | Windows Server 2012 R2 Standard | x64 | 4.1.3 (2022-03-10) -- "One Push-Up" | 4077 |
| machv2 | macOS 10.14.6 Mojave | x86_64 | 4.1.3 (2022-03-10) -- "One Push-Up" | 4137 |
| Click on any hostname to see more info about the system (e.g. compilers) (*) as reported by 'uname -p', except on Windows and Mac OS X | ||||
|
To the developers/maintainers of the DEGseq package: - Please allow up to 24 hours (and sometimes 48 hours) for your latest push to git@git.bioconductor.org:packages/DEGseq.git to reflect on this report. See How and When does the builder pull? When will my changes propagate? for more information. - Make sure to use the following settings in order to reproduce any error or warning you see on this page. |
| Package 476/2083 | Hostname | OS / Arch | INSTALL | BUILD | CHECK | BUILD BIN | ||||||||
| DEGseq 1.48.0 (landing page) Likun Wang
| nebbiolo2 | Linux (Ubuntu 20.04.4 LTS) / x86_64 | OK | OK | OK | |||||||||
| tokay2 | Windows Server 2012 R2 Standard / x64 | OK | OK | OK | OK | |||||||||
| machv2 | macOS 10.14.6 Mojave / x86_64 | OK | OK | OK | OK | |||||||||
| Package: DEGseq |
| Version: 1.48.0 |
| Command: C:\cygwin\bin\curl.exe -O http://155.52.207.166/BBS/3.14/bioc/src/contrib/DEGseq_1.48.0.tar.gz && rm -rf DEGseq.buildbin-libdir && mkdir DEGseq.buildbin-libdir && C:\Users\biocbuild\bbs-3.14-bioc\R\bin\R.exe CMD INSTALL --merge-multiarch --build --library=DEGseq.buildbin-libdir DEGseq_1.48.0.tar.gz && C:\Users\biocbuild\bbs-3.14-bioc\R\bin\R.exe CMD INSTALL DEGseq_1.48.0.zip && rm DEGseq_1.48.0.tar.gz DEGseq_1.48.0.zip |
| StartedAt: 2022-04-12 04:46:11 -0400 (Tue, 12 Apr 2022) |
| EndedAt: 2022-04-12 04:47:26 -0400 (Tue, 12 Apr 2022) |
| EllapsedTime: 75.5 seconds |
| RetCode: 0 |
| Status: OK |
##############################################################################
##############################################################################
###
### Running command:
###
### C:\cygwin\bin\curl.exe -O http://155.52.207.166/BBS/3.14/bioc/src/contrib/DEGseq_1.48.0.tar.gz && rm -rf DEGseq.buildbin-libdir && mkdir DEGseq.buildbin-libdir && C:\Users\biocbuild\bbs-3.14-bioc\R\bin\R.exe CMD INSTALL --merge-multiarch --build --library=DEGseq.buildbin-libdir DEGseq_1.48.0.tar.gz && C:\Users\biocbuild\bbs-3.14-bioc\R\bin\R.exe CMD INSTALL DEGseq_1.48.0.zip && rm DEGseq_1.48.0.tar.gz DEGseq_1.48.0.zip
###
##############################################################################
##############################################################################
% Total % Received % Xferd Average Speed Time Time Time Current
Dload Upload Total Spent Left Speed
0 0 0 0 0 0 0 0 --:--:-- --:--:-- --:--:-- 0
19 1603k 19 308k 0 0 488k 0 0:00:03 --:--:-- 0:00:03 488k
94 1603k 94 1519k 0 0 932k 0 0:00:01 0:00:01 --:--:-- 932k
100 1603k 100 1603k 0 0 961k 0 0:00:01 0:00:01 --:--:-- 961k
install for i386
* installing *source* package 'DEGseq' ...
** using staged installation
** libs
"C:/rtools40/mingw32/bin/"g++ -std=gnu++11 -I"C:/Users/BIOCBU~1/BBS-3~1.14-/R/include" -DNDEBUG -I"C:/extsoft/include" -O2 -Wall -mfpmath=sse -msse2 -mstackrealign -c getGeneExp.cpp -o getGeneExp.o
C:/rtools40/mingw32/bin/g++ -std=gnu++11 -shared -s -static-libgcc -o DEGseq.dll tmp.def getGeneExp.o -LC:/extsoft/lib/i386 -LC:/extsoft/lib -LC:/Users/BIOCBU~1/BBS-3~1.14-/R/bin/i386 -lR
installing to C:/Users/biocbuild/bbs-3.14-bioc/meat/DEGseq.buildbin-libdir/00LOCK-DEGseq/00new/DEGseq/libs/i386
** R
** inst
** byte-compile and prepare package for lazy loading
** help
*** installing help indices
converting help for package 'DEGseq'
finding HTML links ... done
DEGexp html
DEGexp2 html
DEGseq html
GeneExpExample1000 html
GeneExpExample5000 html
getGeneExp html
kidneyChr21.bed html
kidneyChr21Bowtie html
liverChr21.bed html
liverChr21Bowtie html
readGeneExp html
refFlatChr21 html
** building package indices
** installing vignettes
** testing if installed package can be loaded from temporary location
** testing if installed package can be loaded from final location
** testing if installed package keeps a record of temporary installation path
install for x64
* installing *source* package 'DEGseq' ...
** libs
"C:/rtools40/mingw64/bin/"g++ -std=gnu++11 -I"C:/Users/BIOCBU~1/BBS-3~1.14-/R/include" -DNDEBUG -I"C:/extsoft/include" -O2 -Wall -mfpmath=sse -msse2 -mstackrealign -c getGeneExp.cpp -o getGeneExp.o
C:/rtools40/mingw64/bin/g++ -std=gnu++11 -shared -s -static-libgcc -o DEGseq.dll tmp.def getGeneExp.o -LC:/extsoft/lib/x64 -LC:/extsoft/lib -LC:/Users/BIOCBU~1/BBS-3~1.14-/R/bin/x64 -lR
installing to C:/Users/biocbuild/bbs-3.14-bioc/meat/DEGseq.buildbin-libdir/DEGseq/libs/x64
** testing if installed package can be loaded
* MD5 sums
packaged installation of 'DEGseq' as DEGseq_1.48.0.zip
* DONE (DEGseq)
* installing to library 'C:/Users/biocbuild/bbs-3.14-bioc/R/library'
package 'DEGseq' successfully unpacked and MD5 sums checked