| Back to Multiple platform build/check report for BioC 3.14 |
|
This page was generated on 2022-04-13 12:07:50 -0400 (Wed, 13 Apr 2022).
| Hostname | OS | Arch (*) | R version | Installed pkgs |
|---|---|---|---|---|
| nebbiolo2 | Linux (Ubuntu 20.04.4 LTS) | x86_64 | 4.1.3 (2022-03-10) -- "One Push-Up" | 4324 |
| tokay2 | Windows Server 2012 R2 Standard | x64 | 4.1.3 (2022-03-10) -- "One Push-Up" | 4077 |
| machv2 | macOS 10.14.6 Mojave | x86_64 | 4.1.3 (2022-03-10) -- "One Push-Up" | 4137 |
| Click on any hostname to see more info about the system (e.g. compilers) (*) as reported by 'uname -p', except on Windows and Mac OS X | ||||
|
To the developers/maintainers of the CopyNumberPlots package: - Please allow up to 24 hours (and sometimes 48 hours) for your latest push to git@git.bioconductor.org:packages/CopyNumberPlots.git to reflect on this report. See How and When does the builder pull? When will my changes propagate? for more information. - Make sure to use the following settings in order to reproduce any error or warning you see on this page. |
| Package 396/2083 | Hostname | OS / Arch | INSTALL | BUILD | CHECK | BUILD BIN | ||||||||
| CopyNumberPlots 1.10.0 (landing page) Bernat Gel
| nebbiolo2 | Linux (Ubuntu 20.04.4 LTS) / x86_64 | OK | OK | OK | |||||||||
| tokay2 | Windows Server 2012 R2 Standard / x64 | OK | OK | OK | OK | |||||||||
| machv2 | macOS 10.14.6 Mojave / x86_64 | OK | OK | OK | OK | |||||||||
| Package: CopyNumberPlots |
| Version: 1.10.0 |
| Command: /Library/Frameworks/R.framework/Resources/bin/R CMD check --install=check:CopyNumberPlots.install-out.txt --library=/Library/Frameworks/R.framework/Resources/library --no-vignettes --timings CopyNumberPlots_1.10.0.tar.gz |
| StartedAt: 2022-04-12 11:56:21 -0400 (Tue, 12 Apr 2022) |
| EndedAt: 2022-04-12 12:03:41 -0400 (Tue, 12 Apr 2022) |
| EllapsedTime: 440.1 seconds |
| RetCode: 0 |
| Status: OK |
| CheckDir: CopyNumberPlots.Rcheck |
| Warnings: 0 |
############################################################################## ############################################################################## ### ### Running command: ### ### /Library/Frameworks/R.framework/Resources/bin/R CMD check --install=check:CopyNumberPlots.install-out.txt --library=/Library/Frameworks/R.framework/Resources/library --no-vignettes --timings CopyNumberPlots_1.10.0.tar.gz ### ############################################################################## ############################################################################## * using log directory ‘/Users/biocbuild/bbs-3.14-bioc/meat/CopyNumberPlots.Rcheck’ * using R version 4.1.3 (2022-03-10) * using platform: x86_64-apple-darwin17.0 (64-bit) * using session charset: UTF-8 * using option ‘--no-vignettes’ * checking for file ‘CopyNumberPlots/DESCRIPTION’ ... OK * checking extension type ... Package * this is package ‘CopyNumberPlots’ version ‘1.10.0’ * package encoding: UTF-8 * checking package namespace information ... OK * checking package dependencies ... OK * checking if this is a source package ... OK * checking if there is a namespace ... OK * checking for hidden files and directories ... OK * checking for portable file names ... OK * checking for sufficient/correct file permissions ... OK * checking whether package ‘CopyNumberPlots’ can be installed ... OK * checking installed package size ... OK * checking package directory ... OK * checking ‘build’ directory ... OK * checking DESCRIPTION meta-information ... OK * checking top-level files ... OK * checking for left-over files ... OK * checking index information ... OK * checking package subdirectories ... OK * checking R files for non-ASCII characters ... OK * checking R files for syntax errors ... OK * checking whether the package can be loaded ... OK * checking whether the package can be loaded with stated dependencies ... OK * checking whether the package can be unloaded cleanly ... OK * checking whether the namespace can be loaded with stated dependencies ... OK * checking whether the namespace can be unloaded cleanly ... OK * checking dependencies in R code ... OK * checking S3 generic/method consistency ... OK * checking replacement functions ... OK * checking foreign function calls ... OK * checking R code for possible problems ... OK * checking Rd files ... OK * checking Rd metadata ... OK * checking Rd cross-references ... OK * checking for missing documentation entries ... OK * checking for code/documentation mismatches ... OK * checking Rd \usage sections ... OK * checking Rd contents ... OK * checking for unstated dependencies in examples ... OK * checking files in ‘vignettes’ ... OK * checking examples ... OK * checking for unstated dependencies in ‘tests’ ... OK * checking tests ... Running ‘testthat.R’ OK * checking for unstated dependencies in vignettes ... OK * checking package vignettes in ‘inst/doc’ ... OK * checking running R code from vignettes ... SKIPPED * checking re-building of vignette outputs ... SKIPPED * checking PDF version of manual ... OK * DONE Status: OK
CopyNumberPlots.Rcheck/00install.out
############################################################################## ############################################################################## ### ### Running command: ### ### /Library/Frameworks/R.framework/Resources/bin/R CMD INSTALL CopyNumberPlots ### ############################################################################## ############################################################################## * installing to library ‘/Library/Frameworks/R.framework/Versions/4.1/Resources/library’ * installing *source* package ‘CopyNumberPlots’ ... ** using staged installation ** R ** inst ** byte-compile and prepare package for lazy loading ** help *** installing help indices ** building package indices ** installing vignettes ** testing if installed package can be loaded from temporary location ** testing if installed package can be loaded from final location ** testing if installed package keeps a record of temporary installation path * DONE (CopyNumberPlots)
CopyNumberPlots.Rcheck/tests/testthat.Rout
R version 4.1.3 (2022-03-10) -- "One Push-Up"
Copyright (C) 2022 The R Foundation for Statistical Computing
Platform: x86_64-apple-darwin17.0 (64-bit)
R is free software and comes with ABSOLUTELY NO WARRANTY.
You are welcome to redistribute it under certain conditions.
Type 'license()' or 'licence()' for distribution details.
R is a collaborative project with many contributors.
Type 'contributors()' for more information and
'citation()' on how to cite R or R packages in publications.
Type 'demo()' for some demos, 'help()' for on-line help, or
'help.start()' for an HTML browser interface to help.
Type 'q()' to quit R.
> library(testthat)
> library(CopyNumberPlots)
Loading required package: karyoploteR
Loading required package: regioneR
Loading required package: GenomicRanges
Loading required package: stats4
Loading required package: BiocGenerics
Attaching package: 'BiocGenerics'
The following objects are masked from 'package:stats':
IQR, mad, sd, var, xtabs
The following objects are masked from 'package:base':
Filter, Find, Map, Position, Reduce, anyDuplicated, append,
as.data.frame, basename, cbind, colnames, dirname, do.call,
duplicated, eval, evalq, get, grep, grepl, intersect, is.unsorted,
lapply, mapply, match, mget, order, paste, pmax, pmax.int, pmin,
pmin.int, rank, rbind, rownames, sapply, setdiff, sort, table,
tapply, union, unique, unsplit, which.max, which.min
Loading required package: S4Vectors
Attaching package: 'S4Vectors'
The following objects are masked from 'package:base':
I, expand.grid, unname
Loading required package: IRanges
Loading required package: GenomeInfoDb
>
> test_check("CopyNumberPlots")
[ FAIL 0 | WARN 0 | SKIP 0 | PASS 26 ]
>
> proc.time()
user system elapsed
20.822 0.863 21.682
CopyNumberPlots.Rcheck/CopyNumberPlots-Ex.timings
| name | user | system | elapsed | |
| EnsemblStyle | 0.825 | 0.062 | 0.888 | |
| UCSCStyle | 0.655 | 0.085 | 0.740 | |
| Ztree2Hclust | 0.009 | 0.002 | 0.011 | |
| colByCopyNumber | 0.804 | 0.033 | 0.839 | |
| computeHclustPlotOrder | 0.029 | 0.003 | 0.032 | |
| getBAFColumn | 0.004 | 0.000 | 0.004 | |
| getChrColumn | 0.003 | 0.000 | 0.003 | |
| getColumn | 0.004 | 0.001 | 0.005 | |
| getCopyNumberColors | 0.001 | 0.001 | 0.002 | |
| getCopyNumberColumn | 0.002 | 0.000 | 0.002 | |
| getEndColumn | 0.002 | 0.001 | 0.002 | |
| getIDColumn | 0.002 | 0.000 | 0.003 | |
| getLOHColumn | 0.002 | 0.000 | 0.002 | |
| getLRRColumn | 0.003 | 0.001 | 0.004 | |
| getPosColumn | 0.003 | 0.001 | 0.004 | |
| getSegmentValueColumn | 0.003 | 0.000 | 0.003 | |
| getStartColumn | 0.003 | 0.000 | 0.003 | |
| loadCopyNumberCalls | 0.04 | 0.00 | 0.04 | |
| loadCopyNumberCallsCNVkit | 0.064 | 0.002 | 0.066 | |
| loadCopyNumberCallsCnmops | 0.330 | 0.003 | 0.335 | |
| loadCopyNumberCallsDECoN | 0.175 | 0.002 | 0.178 | |
| loadCopyNumberCallsDNAcopy | 1.110 | 0.014 | 1.129 | |
| loadCopyNumberCallsPanelcnmops | 0.577 | 0.012 | 0.593 | |
| loadCopyNumberCallsSeg | 0.052 | 0.001 | 0.053 | |
| loadCopyNumberCallspennCNV | 0.092 | 0.001 | 0.094 | |
| loadSNPData | 0.144 | 0.003 | 0.148 | |
| loadSNPDataDNAcopy | 1.045 | 0.007 | 1.053 | |
| loadSNPDataFromVCF | 0.001 | 0.001 | 0.002 | |
| plotBAF | 1.738 | 0.056 | 1.799 | |
| plotCopyNumberCalls | 0.362 | 0.033 | 0.397 | |
| plotCopyNumberCallsAsLines | 0.320 | 0.020 | 0.341 | |
| plotCopyNumberSummary | 0.319 | 0.004 | 0.325 | |
| plotLRR | 0.675 | 0.005 | 0.682 | |
| plotSingleCellCopyNumberCalls | 0.095 | 0.003 | 0.097 | |
| plotSingleCellCopyNumberSummary | 0.071 | 0.002 | 0.073 | |
| prepareLabels | 0.180 | 0.001 | 0.181 | |
| readHDF5Ztree | 0.000 | 0.000 | 0.001 | |
| removeNAs | 0.374 | 0.002 | 0.376 | |
| transformChr | 0.003 | 0.000 | 0.004 | |