| Back to Multiple platform build/check report for BioC 3.14 |
|
This page was generated on 2022-04-13 12:06:19 -0400 (Wed, 13 Apr 2022).
| Hostname | OS | Arch (*) | R version | Installed pkgs |
|---|---|---|---|---|
| nebbiolo2 | Linux (Ubuntu 20.04.4 LTS) | x86_64 | 4.1.3 (2022-03-10) -- "One Push-Up" | 4324 |
| tokay2 | Windows Server 2012 R2 Standard | x64 | 4.1.3 (2022-03-10) -- "One Push-Up" | 4077 |
| machv2 | macOS 10.14.6 Mojave | x86_64 | 4.1.3 (2022-03-10) -- "One Push-Up" | 4137 |
| Click on any hostname to see more info about the system (e.g. compilers) (*) as reported by 'uname -p', except on Windows and Mac OS X | ||||
|
To the developers/maintainers of the Chicago package: - Please allow up to 24 hours (and sometimes 48 hours) for your latest push to git@git.bioconductor.org:packages/Chicago.git to reflect on this report. See How and When does the builder pull? When will my changes propagate? for more information. - Make sure to use the following settings in order to reproduce any error or warning you see on this page. |
| Package 296/2083 | Hostname | OS / Arch | INSTALL | BUILD | CHECK | BUILD BIN | ||||||||
| Chicago 1.22.0 (landing page) Mikhail Spivakov
| nebbiolo2 | Linux (Ubuntu 20.04.4 LTS) / x86_64 | OK | OK | OK | |||||||||
| tokay2 | Windows Server 2012 R2 Standard / x64 | OK | OK | OK | OK | |||||||||
| machv2 | macOS 10.14.6 Mojave / x86_64 | OK | OK | OK | OK | |||||||||
| Package: Chicago |
| Version: 1.22.0 |
| Command: C:\cygwin\bin\curl.exe -O http://155.52.207.166/BBS/3.14/bioc/src/contrib/Chicago_1.22.0.tar.gz && rm -rf Chicago.buildbin-libdir && mkdir Chicago.buildbin-libdir && C:\Users\biocbuild\bbs-3.14-bioc\R\bin\R.exe CMD INSTALL --merge-multiarch --build --library=Chicago.buildbin-libdir Chicago_1.22.0.tar.gz && C:\Users\biocbuild\bbs-3.14-bioc\R\bin\R.exe CMD INSTALL Chicago_1.22.0.zip && rm Chicago_1.22.0.tar.gz Chicago_1.22.0.zip |
| StartedAt: 2022-04-12 05:18:29 -0400 (Tue, 12 Apr 2022) |
| EndedAt: 2022-04-12 05:20:18 -0400 (Tue, 12 Apr 2022) |
| EllapsedTime: 108.8 seconds |
| RetCode: 0 |
| Status: OK |
##############################################################################
##############################################################################
###
### Running command:
###
### C:\cygwin\bin\curl.exe -O http://155.52.207.166/BBS/3.14/bioc/src/contrib/Chicago_1.22.0.tar.gz && rm -rf Chicago.buildbin-libdir && mkdir Chicago.buildbin-libdir && C:\Users\biocbuild\bbs-3.14-bioc\R\bin\R.exe CMD INSTALL --merge-multiarch --build --library=Chicago.buildbin-libdir Chicago_1.22.0.tar.gz && C:\Users\biocbuild\bbs-3.14-bioc\R\bin\R.exe CMD INSTALL Chicago_1.22.0.zip && rm Chicago_1.22.0.tar.gz Chicago_1.22.0.zip
###
##############################################################################
##############################################################################
% Total % Received % Xferd Average Speed Time Time Time Current
Dload Upload Total Spent Left Speed
0 0 0 0 0 0 0 0 --:--:-- --:--:-- --:--:-- 0
78 433k 78 341k 0 0 534k 0 --:--:-- --:--:-- --:--:-- 534k
100 433k 100 433k 0 0 607k 0 --:--:-- --:--:-- --:--:-- 607k
install for i386
* installing *source* package 'Chicago' ...
** using staged installation
** R
** data
** inst
** byte-compile and prepare package for lazy loading
** help
*** installing help indices
converting help for package 'Chicago'
finding HTML links ... done
Chicago-package html
cdUnitTest html
chicagoData html
chicagoPipeline html
copyCD html
defaultSettings html
estimateBrownianComponent html
estimateDistFun html
estimateTechnicalNoise html
exportResults html
getPvals html
getScores html
getSkOnly html
mergeSamples html
modifySettings html
normaliseBaits html
normaliseOtherEnds html
overlapFragWithFeatures html
finding level-2 HTML links ... done
peakEnrichment4Features html
plotBaits html
plotDistFun html
readAndMerge html
readSample html
setExperiment html
** building package indices
** installing vignettes
** testing if installed package can be loaded from temporary location
** testing if installed package can be loaded from final location
** testing if installed package keeps a record of temporary installation path
install for x64
* installing *source* package 'Chicago' ...
** testing if installed package can be loaded
* MD5 sums
packaged installation of 'Chicago' as Chicago_1.22.0.zip
* DONE (Chicago)
* installing to library 'C:/Users/biocbuild/bbs-3.14-bioc/R/library'
package 'Chicago' successfully unpacked and MD5 sums checked