| Back to Multiple platform build/check report for BioC 3.14 | 
 | 
This page was generated on 2022-04-13 12:06:17 -0400 (Wed, 13 Apr 2022).
| Hostname | OS | Arch (*) | R version | Installed pkgs | 
|---|---|---|---|---|
| nebbiolo2 | Linux (Ubuntu 20.04.4 LTS) | x86_64 | 4.1.3 (2022-03-10) -- "One Push-Up" | 4324 | 
| tokay2 | Windows Server 2012 R2 Standard | x64 | 4.1.3 (2022-03-10) -- "One Push-Up" | 4077 | 
| machv2 | macOS 10.14.6 Mojave | x86_64 | 4.1.3 (2022-03-10) -- "One Push-Up" | 4137 | 
| Click on any hostname to see more info about the system (e.g. compilers) (*) as reported by 'uname -p', except on Windows and Mac OS X | ||||
| To the developers/maintainers of the CAMERA package: - Please allow up to 24 hours (and sometimes 48 hours) for your latest push to git@git.bioconductor.org:packages/CAMERA.git to reflect on this report. See How and When does the builder pull? When will my changes propagate? for more information. - Make sure to use the following settings in order to reproduce any error or warning you see on this page. | 
| Package 239/2083 | Hostname | OS / Arch | INSTALL | BUILD | CHECK | BUILD BIN | ||||||||
| CAMERA 1.50.0  (landing page) Steffen Neumann 
 | nebbiolo2 | Linux (Ubuntu 20.04.4 LTS) / x86_64 | OK | OK | OK |  | ||||||||
| tokay2 | Windows Server 2012 R2 Standard / x64 | OK | OK | OK | OK |  | ||||||||
| machv2 | macOS 10.14.6 Mojave / x86_64 | OK | OK | OK | OK |  | ||||||||
| Package: CAMERA | 
| Version: 1.50.0 | 
| Command: rm -rf CAMERA.buildbin-libdir && mkdir CAMERA.buildbin-libdir && C:\Users\biocbuild\bbs-3.14-bioc\R\bin\R.exe CMD INSTALL --merge-multiarch --build --library=CAMERA.buildbin-libdir CAMERA_1.50.0.tar.gz | 
| StartedAt: 2022-04-13 05:46:04 -0400 (Wed, 13 Apr 2022) | 
| EndedAt: 2022-04-13 05:47:39 -0400 (Wed, 13 Apr 2022) | 
| EllapsedTime: 95.2 seconds | 
| RetCode: 0 | 
| Status: OK | 
| PackageFile: CAMERA_1.50.0.zip | 
| PackageFileSize: 2.907 MiB | 
##############################################################################
##############################################################################
###
### Running command:
###
###   rm -rf CAMERA.buildbin-libdir && mkdir CAMERA.buildbin-libdir && C:\Users\biocbuild\bbs-3.14-bioc\R\bin\R.exe CMD INSTALL --merge-multiarch --build --library=CAMERA.buildbin-libdir CAMERA_1.50.0.tar.gz
###
##############################################################################
##############################################################################
install for i386
* installing *source* package 'CAMERA' ...
** using staged installation
** libs
"C:/rtools40/mingw32/bin/"gcc  -I"C:/Users/BIOCBU~1/BBS-3~1.14-/R/include" -DNDEBUG     -I"C:/extsoft/include"     -O2 -Wall  -std=gnu99 -mfpmath=sse -msse2 -mstackrealign  -c fastMatch.c -o fastMatch.o
C:/rtools40/mingw32/bin/gcc -shared -s -static-libgcc -o CAMERA.dll tmp.def fastMatch.o -LC:/extsoft/lib/i386 -LC:/extsoft/lib -LC:/Users/BIOCBU~1/BBS-3~1.14-/R/bin/i386 -lR
installing to C:/Users/biocbuild/bbs-3.14-bioc/meat/CAMERA.buildbin-libdir/00LOCK-CAMERA/00new/CAMERA/libs/i386
** R
** data
** inst
** byte-compile and prepare package for lazy loading
** help
*** installing help indices
  converting help for package 'CAMERA'
    finding HTML links ... done
    annotate-methods                        html  
    annotateDiffreport                      html  
    finding level-2 HTML links ... done
    calcCaS-methods                         html  
    calcCiS-methods                         html  
    calcIsotopes-methods                    html  
    calcPC-methods                          html  
    calcPC.hcs-methods                      html  
    calcPC.lpc-methods                      html  
    cleanParallel                           html  
    combinexsAnnos                          html  
    compoundLibraries                       html  
    compoundQuantiles-class                 html  
    compoundQuantiles                       html  
    findAdducts-methods                     html  
    findIsotopes-methods                    html  
    findIsotopesWithValidation-methods      html  
    findKendrickMasses                      html  
    findNeutralLoss                         html  
    findNeutralLossSpecs                    html  
    getAllPeakEICs-methods                  html  
    getAtomCount-compoundQuantiles-method   html  
    getIsotopeCluster                       html  
    getIsotopeProportion-compoundQuantiles-method
                                            html  
    getPeaklist-methods                     html  
    getReducedPeaklist-methods              html  
    getpspectra                             html  
    groupCorr-methods                       html  
    groupDen-methods                        html  
    groupFWHM-methods                       html  
    massWindowSizes                         html  
    mm14                                    html  
    plotEIC.xsAnnotate                      html  
    plotPsSpectrum.xsAnnotate               html  
    psDist-methods                          html  
    pspec2metfrag                           html  
    ruleSet-class                           html  
    xsAnnotate-class                        html  
    xsAnnotate                              html  
** building package indices
** installing vignettes
** testing if installed package can be loaded from temporary location
** testing if installed package can be loaded from final location
** testing if installed package keeps a record of temporary installation path
install for x64
* installing *source* package 'CAMERA' ...
** libs
"C:/rtools40/mingw64/bin/"gcc  -I"C:/Users/BIOCBU~1/BBS-3~1.14-/R/include" -DNDEBUG     -I"C:/extsoft/include"     -O2 -Wall  -std=gnu99 -mfpmath=sse -msse2 -mstackrealign  -c fastMatch.c -o fastMatch.o
C:/rtools40/mingw64/bin/gcc -shared -s -static-libgcc -o CAMERA.dll tmp.def fastMatch.o -LC:/extsoft/lib/x64 -LC:/extsoft/lib -LC:/Users/BIOCBU~1/BBS-3~1.14-/R/bin/x64 -lR
installing to C:/Users/biocbuild/bbs-3.14-bioc/meat/CAMERA.buildbin-libdir/CAMERA/libs/x64
** testing if installed package can be loaded
* MD5 sums
packaged installation of 'CAMERA' as CAMERA_1.50.0.zip
* DONE (CAMERA)