| Back to Multiple platform build/check report for BioC 3.14 | 
 | 
This page was generated on 2022-04-13 12:07:41 -0400 (Wed, 13 Apr 2022).
| Hostname | OS | Arch (*) | R version | Installed pkgs | 
|---|---|---|---|---|
| nebbiolo2 | Linux (Ubuntu 20.04.4 LTS) | x86_64 | 4.1.3 (2022-03-10) -- "One Push-Up" | 4324 | 
| tokay2 | Windows Server 2012 R2 Standard | x64 | 4.1.3 (2022-03-10) -- "One Push-Up" | 4077 | 
| machv2 | macOS 10.14.6 Mojave | x86_64 | 4.1.3 (2022-03-10) -- "One Push-Up" | 4137 | 
| Click on any hostname to see more info about the system (e.g. compilers) (*) as reported by 'uname -p', except on Windows and Mac OS X | ||||
| To the developers/maintainers of the BiocStyle package: - Please allow up to 24 hours (and sometimes 48 hours) for your latest push to git@git.bioconductor.org:packages/BiocStyle.git to reflect on this report. See How and When does the builder pull? When will my changes propagate? for more information. - Make sure to use the following settings in order to reproduce any error or warning you see on this page. | 
| Package 170/2083 | Hostname | OS / Arch | INSTALL | BUILD | CHECK | BUILD BIN | ||||||||
| BiocStyle 2.22.0  (landing page) Bioconductor Package 
 | nebbiolo2 | Linux (Ubuntu 20.04.4 LTS) / x86_64 | OK | OK | OK |  | ||||||||
| tokay2 | Windows Server 2012 R2 Standard / x64 | OK | OK | OK | OK |  | ||||||||
| machv2 | macOS 10.14.6 Mojave / x86_64 | OK | OK | OK | OK |  | ||||||||
| Package: BiocStyle | 
| Version: 2.22.0 | 
| Command: /Library/Frameworks/R.framework/Resources/bin/R CMD check --install=check:BiocStyle.install-out.txt --library=/Library/Frameworks/R.framework/Resources/library --no-vignettes --timings BiocStyle_2.22.0.tar.gz | 
| StartedAt: 2022-04-12 10:50:07 -0400 (Tue, 12 Apr 2022) | 
| EndedAt: 2022-04-12 10:51:29 -0400 (Tue, 12 Apr 2022) | 
| EllapsedTime: 82.3 seconds | 
| RetCode: 0 | 
| Status: OK | 
| CheckDir: BiocStyle.Rcheck | 
| Warnings: 0 | 
############################################################################## ############################################################################## ### ### Running command: ### ### /Library/Frameworks/R.framework/Resources/bin/R CMD check --install=check:BiocStyle.install-out.txt --library=/Library/Frameworks/R.framework/Resources/library --no-vignettes --timings BiocStyle_2.22.0.tar.gz ### ############################################################################## ############################################################################## * using log directory ‘/Users/biocbuild/bbs-3.14-bioc/meat/BiocStyle.Rcheck’ * using R version 4.1.3 (2022-03-10) * using platform: x86_64-apple-darwin17.0 (64-bit) * using session charset: UTF-8 * using option ‘--no-vignettes’ * checking for file ‘BiocStyle/DESCRIPTION’ ... OK * this is package ‘BiocStyle’ version ‘2.22.0’ * package encoding: UTF-8 * checking package namespace information ... OK * checking package dependencies ... OK * checking if this is a source package ... OK * checking if there is a namespace ... OK * checking for hidden files and directories ... OK * checking for portable file names ... OK * checking for sufficient/correct file permissions ... OK * checking whether package ‘BiocStyle’ can be installed ... OK * checking installed package size ... OK * checking package directory ... OK * checking ‘build’ directory ... OK * checking DESCRIPTION meta-information ... OK * checking top-level files ... OK * checking for left-over files ... OK * checking index information ... OK * checking package subdirectories ... OK * checking R files for non-ASCII characters ... OK * checking R files for syntax errors ... OK * checking whether the package can be loaded ... OK * checking whether the package can be loaded with stated dependencies ... OK * checking whether the package can be unloaded cleanly ... OK * checking whether the namespace can be loaded with stated dependencies ... OK * checking whether the namespace can be unloaded cleanly ... OK * checking dependencies in R code ... NOTE Unexported object imported by a ':::' call: ‘rmarkdown:::partition_yaml_front_matter’ See the note in ?`:::` about the use of this operator. * checking S3 generic/method consistency ... OK * checking replacement functions ... OK * checking foreign function calls ... OK * checking R code for possible problems ... OK * checking Rd files ... OK * checking Rd metadata ... OK * checking Rd cross-references ... OK * checking for missing documentation entries ... OK * checking for code/documentation mismatches ... OK * checking Rd \usage sections ... OK * checking Rd contents ... OK * checking for unstated dependencies in examples ... OK * checking sizes of PDF files under ‘inst/doc’ ... OK * checking files in ‘vignettes’ ... OK * checking examples ... OK * checking for unstated dependencies in ‘tests’ ... OK * checking tests ... Running ‘run_tests.R’ OK * checking for unstated dependencies in vignettes ... OK * checking package vignettes in ‘inst/doc’ ... OK * checking running R code from vignettes ... SKIPPED * checking re-building of vignette outputs ... SKIPPED * checking PDF version of manual ... OK * DONE Status: 1 NOTE See ‘/Users/biocbuild/bbs-3.14-bioc/meat/BiocStyle.Rcheck/00check.log’ for details.
BiocStyle.Rcheck/00install.out
############################################################################## ############################################################################## ### ### Running command: ### ### /Library/Frameworks/R.framework/Resources/bin/R CMD INSTALL BiocStyle ### ############################################################################## ############################################################################## * installing to library ‘/Library/Frameworks/R.framework/Versions/4.1/Resources/library’ * installing *source* package ‘BiocStyle’ ... ** using staged installation ** R ** inst ** byte-compile and prepare package for lazy loading ** help *** installing help indices ** building package indices ** installing vignettes ** testing if installed package can be loaded from temporary location ** testing if installed package can be loaded from final location ** testing if installed package keeps a record of temporary installation path * DONE (BiocStyle)
BiocStyle.Rcheck/tests/run_tests.Rout
R version 4.1.3 (2022-03-10) -- "One Push-Up"
Copyright (C) 2022 The R Foundation for Statistical Computing
Platform: x86_64-apple-darwin17.0 (64-bit)
R is free software and comes with ABSOLUTELY NO WARRANTY.
You are welcome to redistribute it under certain conditions.
Type 'license()' or 'licence()' for distribution details.
R is a collaborative project with many contributors.
Type 'contributors()' for more information and
'citation()' on how to cite R or R packages in publications.
Type 'demo()' for some demos, 'help()' for on-line help, or
'help.start()' for an HTML browser interface to help.
Type 'q()' to quit R.
> BiocGenerics:::testPackage("BiocStyle")
Writing to file maketitle_test_1.tex
Processing code chunks with options ...
 1 : keep.source term tex (label = style, maketitle_test_1.Rnw:5)
You can now run (pdf)latex on 'maketitle_test_1.tex'
Writing to file maketitle_test_2.tex
Processing code chunks with options ...
 1 : keep.source term tex (label = style, maketitle_test_2.Rnw:5)
You can now run (pdf)latex on 'maketitle_test_2.tex'
Writing to file maketitle_test_3.tex
Processing code chunks with options ...
 1 : keep.source term tex (label = style, maketitle_test_3.Rnw:5)
You can now run (pdf)latex on 'maketitle_test_3.tex'
Writing to file maketitle_test_4.tex
Processing code chunks with options ...
 1 : keep.source term tex (label = style, maketitle_test_4.Rnw:5)
You can now run (pdf)latex on 'maketitle_test_4.tex'
Writing to file maketitle_test_5.tex
Processing code chunks with options ...
 1 : keep.source term tex (label = style, maketitle_test_5.Rnw:5)
You can now run (pdf)latex on 'maketitle_test_5.tex'
processing file: file11f6c47a77b08.Rmd
   inline R code fragments
label: plot (with options) 
List of 2
 $ fig.cap: chr "Regular figure. The first sentence of the figure caption is automatically emphasized to serve as figure title."
 $ echo   : logi FALSE
  ordinary text without R code
label: small (with options) 
List of 3
 $ fig.cap  : chr "Small figure. A plot produced by a code chunk with option `fig.small = TRUE`."
 $ fig.small: logi TRUE
 $ echo     : logi FALSE
  ordinary text without R code
label: wide (with options) 
List of 3
 $ fig.cap : chr "Wide figure. A plot produced by a code chunk with option `fig.wide = TRUE`."
 $ fig.wide: logi TRUE
 $ echo    : logi FALSE
  ordinary text without R code
label: sessionInfo (with options) 
List of 1
 $ echo: logi FALSE
output file: file11f6c47a77b08.knit.md
/usr/local/bin/pandoc +RTS -K512m -RTS file11f6c47a77b08.knit.md --to latex --from markdown+autolink_bare_uris+tex_math_single_backslash --output file11f6c47a77b08.tex --lua-filter /Library/Frameworks/R.framework/Versions/4.1/Resources/library/bookdown/rmarkdown/lua/custom-environment.lua --lua-filter /Library/Frameworks/R.framework/Versions/4.1/Resources/library/rmarkdown/rmarkdown/lua/pagebreak.lua --lua-filter /Library/Frameworks/R.framework/Versions/4.1/Resources/library/rmarkdown/rmarkdown/lua/latex-div.lua --self-contained --table-of-contents --toc-depth 2 --number-sections --highlight-style tango --pdf-engine pdflatex --include-in-header /tmp/Rtmp47wGmz/11f6c447e6ef8.tex --variable graphics --wrap preserve --variable subparagraph --template /tmp/Rtmp47wGmz/BiocStyle/template.tex --variable tables=yes --standalone --variable 'compact-title:yes' 
Warning: LaTeX Warning: You have requested package `/Library/Frameworks/R.framework/Vers
Warning: ions/4.1/Resources/library/BiocStyle/resources/tex/Bioconductor',
Warning:                but the package provides `Bioconductor'.
Warning: Package geometry Warning: Over-specification in `h'-direction.
Warning:     `width' (384.1122pt) is ignored.
Warning: Package Fancyhdr Warning: \fancyhead's `E' option without twoside option is use
Warning: less on input line 162.
Warning: LaTeX Warning: Font shape declaration has incorrect series value `mc'.
Warning:                It should not contain an `m'! Please correct it.
Warning:                Found on input line 20.
Warning: LaTeX Warning: Font shape declaration has incorrect series value `mc'.
Warning:                It should not contain an `m'! Please correct it.
Warning:                Found on input line 23.
Warning: LaTeX Warning: Font shape declaration has incorrect series value `mc'.
Warning:                It should not contain an `m'! Please correct it.
Warning:                Found on input line 26.
Warning: LaTeX Warning: Font shape declaration has incorrect series value `mc'.
Warning:                It should not contain an `m'! Please correct it.
Warning:                Found on input line 46.
Output created: file11f6c47a77b08.pdf
RUNIT TEST PROTOCOL -- Tue Apr 12 10:51:18 2022 
*********************************************** 
Number of test functions: 3 
Number of errors: 0 
Number of failures: 0 
 
1 Test Suite : 
BiocStyle RUnit Tests - 3 test functions, 0 errors, 0 failures
Number of test functions: 3 
Number of errors: 0 
Number of failures: 0 
> 
> proc.time()
   user  system elapsed 
 31.596   8.545  41.130 
BiocStyle.Rcheck/BiocStyle-Ex.timings
| name | user | system | elapsed | |
| helpers | 0.008 | 0.007 | 0.016 | |
| html_document | 0.000 | 0.000 | 0.001 | |
| latex | 0.001 | 0.000 | 0.001 | |
| macros | 0.006 | 0.002 | 0.008 | |
| markdown | 0.000 | 0.000 | 0.001 | |
| md_document | 0 | 0 | 0 | |
| output | 0.000 | 0.001 | 0.000 | |
| pdf_document | 0.000 | 0.000 | 0.001 | |
| use_vignette | 0.003 | 0.002 | 0.006 | |