| Back to Multiple platform build/check report for BioC 3.14 |
|
This page was generated on 2022-04-13 12:06:14 -0400 (Wed, 13 Apr 2022).
| Hostname | OS | Arch (*) | R version | Installed pkgs |
|---|---|---|---|---|
| nebbiolo2 | Linux (Ubuntu 20.04.4 LTS) | x86_64 | 4.1.3 (2022-03-10) -- "One Push-Up" | 4324 |
| tokay2 | Windows Server 2012 R2 Standard | x64 | 4.1.3 (2022-03-10) -- "One Push-Up" | 4077 |
| machv2 | macOS 10.14.6 Mojave | x86_64 | 4.1.3 (2022-03-10) -- "One Push-Up" | 4137 |
| Click on any hostname to see more info about the system (e.g. compilers) (*) as reported by 'uname -p', except on Windows and Mac OS X | ||||
|
To the developers/maintainers of the BiocSklearn package: - Please allow up to 24 hours (and sometimes 48 hours) for your latest push to git@git.bioconductor.org:packages/BiocSklearn.git to reflect on this report. See How and When does the builder pull? When will my changes propagate? for more information. - Make sure to use the following settings in order to reproduce any error or warning you see on this page. |
| Package 169/2083 | Hostname | OS / Arch | INSTALL | BUILD | CHECK | BUILD BIN | ||||||||
| BiocSklearn 1.16.0 (landing page) Vince Carey
| nebbiolo2 | Linux (Ubuntu 20.04.4 LTS) / x86_64 | OK | OK | OK | |||||||||
| tokay2 | Windows Server 2012 R2 Standard / x64 | OK | OK | OK | OK | |||||||||
| machv2 | macOS 10.14.6 Mojave / x86_64 | OK | OK | OK | OK | |||||||||
| Package: BiocSklearn |
| Version: 1.16.0 |
| Command: C:\Users\biocbuild\bbs-3.14-bioc\R\bin\R.exe --arch x64 CMD check --no-multiarch --install=check:BiocSklearn.install-out.txt --library=C:\Users\biocbuild\bbs-3.14-bioc\R\library --no-vignettes --timings BiocSklearn_1.16.0.tar.gz |
| StartedAt: 2022-04-12 16:19:05 -0400 (Tue, 12 Apr 2022) |
| EndedAt: 2022-04-12 16:23:32 -0400 (Tue, 12 Apr 2022) |
| EllapsedTime: 267.2 seconds |
| RetCode: 0 |
| Status: OK |
| CheckDir: BiocSklearn.Rcheck |
| Warnings: 0 |
##############################################################################
##############################################################################
###
### Running command:
###
### C:\Users\biocbuild\bbs-3.14-bioc\R\bin\R.exe --arch x64 CMD check --no-multiarch --install=check:BiocSklearn.install-out.txt --library=C:\Users\biocbuild\bbs-3.14-bioc\R\library --no-vignettes --timings BiocSklearn_1.16.0.tar.gz
###
##############################################################################
##############################################################################
* using log directory 'C:/Users/biocbuild/bbs-3.14-bioc/meat/BiocSklearn.Rcheck'
* using R version 4.1.3 (2022-03-10)
* using platform: x86_64-w64-mingw32 (64-bit)
* using session charset: ISO8859-1
* using option '--no-vignettes'
* checking for file 'BiocSklearn/DESCRIPTION' ... OK
* this is package 'BiocSklearn' version '1.16.0'
* package encoding: UTF-8
* checking package namespace information ... OK
* checking package dependencies ... OK
* checking if this is a source package ... OK
* checking if there is a namespace ... OK
* checking for hidden files and directories ... NOTE
Found the following hidden files and directories:
.BBSoptions
These were most likely included in error. See section 'Package
structure' in the 'Writing R Extensions' manual.
* checking for portable file names ... OK
* checking whether package 'BiocSklearn' can be installed ... NOTE
Found the following notes/warnings:
Non-staged installation was used
See 'C:/Users/biocbuild/bbs-3.14-bioc/meat/BiocSklearn.Rcheck/00install.out' for details.
* checking installed package size ... NOTE
installed size is 32.7Mb
sub-directories of 1Mb or more:
ban_6_17 29.1Mb
hdf5 3.1Mb
* checking package directory ... OK
* checking 'build' directory ... OK
* checking DESCRIPTION meta-information ... OK
* checking top-level files ... OK
* checking for left-over files ... OK
* checking index information ... OK
* checking package subdirectories ... OK
* checking R files for non-ASCII characters ... OK
* checking R files for syntax errors ... OK
* checking whether the package can be loaded ... OK
* checking whether the package can be loaded with stated dependencies ... OK
* checking whether the package can be unloaded cleanly ... OK
* checking whether the namespace can be loaded with stated dependencies ... OK
* checking whether the namespace can be unloaded cleanly ... OK
* checking dependencies in R code ... OK
* checking S3 generic/method consistency ... OK
* checking replacement functions ... OK
* checking foreign function calls ... OK
* checking R code for possible problems ... OK
* checking Rd files ... OK
* checking Rd metadata ... OK
* checking Rd cross-references ... OK
* checking for missing documentation entries ... OK
* checking for code/documentation mismatches ... OK
* checking Rd \usage sections ... OK
* checking Rd contents ... OK
* checking for unstated dependencies in examples ... OK
* checking line endings in shell scripts ... OK
* checking files in 'vignettes' ... OK
* checking examples ... OK
Examples with CPU (user + system) or elapsed time > 5s
user system elapsed
skKMeans 1.79 2.14 18.97
skIncrPCA 2.03 0.86 97.31
* checking for unstated dependencies in 'tests' ... OK
* checking tests ...
Running 'testthat.R'
OK
* checking for unstated dependencies in vignettes ... OK
* checking package vignettes in 'inst/doc' ... OK
* checking running R code from vignettes ... SKIPPED
* checking re-building of vignette outputs ... SKIPPED
* checking PDF version of manual ... OK
* DONE
Status: 3 NOTEs
See
'C:/Users/biocbuild/bbs-3.14-bioc/meat/BiocSklearn.Rcheck/00check.log'
for details.
BiocSklearn.Rcheck/00install.out
##############################################################################
##############################################################################
###
### Running command:
###
### C:\Users\biocbuild\bbs-3.14-bioc\R\bin\R.exe --arch x64 CMD INSTALL --no-multiarch BiocSklearn
###
##############################################################################
##############################################################################
* installing to library 'C:/Users/biocbuild/bbs-3.14-bioc/R/library'
* installing *source* package 'BiocSklearn' ...
** using non-staged installation via StagedInstall field
**********************************************
WARNING: this package has a configure script
It probably needs manual configuration
**********************************************
** R
** inst
** byte-compile and prepare package for lazy loading
** help
*** installing help indices
converting help for package 'BiocSklearn'
finding HTML links ... done
H5matref html
SkDecomp-class html
SkDecomp html
SklearnEls html
h5mat html
skIncrPCA html
skIncrPCA_h5 html
skIncrPPCA html
skIncrPartialPCA html
skKMeans html
skPCA html
skPartialPCA_step html
** building package indices
** installing vignettes
** testing if installed package can be loaded
* DONE (BiocSklearn)
Making 'packages.html' ... done
BiocSklearn.Rcheck/tests/testthat.Rout
R version 4.1.3 (2022-03-10) -- "One Push-Up"
Copyright (C) 2022 The R Foundation for Statistical Computing
Platform: x86_64-w64-mingw32/x64 (64-bit)
R is free software and comes with ABSOLUTELY NO WARRANTY.
You are welcome to redistribute it under certain conditions.
Type 'license()' or 'licence()' for distribution details.
R is a collaborative project with many contributors.
Type 'contributors()' for more information and
'citation()' on how to cite R or R packages in publications.
Type 'demo()' for some demos, 'help()' for on-line help, or
'help.start()' for an HTML browser interface to help.
Type 'q()' to quit R.
> #library(testthat)
> #library(restfulSE)
>
> #test_check("BiocSklearn")
>
>
> proc.time()
user system elapsed
0.25 0.06 0.29
BiocSklearn.Rcheck/BiocSklearn-Ex.timings
| name | user | system | elapsed | |
| H5matref | 0 | 0 | 0 | |
| SklearnEls | 0 | 0 | 0 | |
| h5mat | 0 | 0 | 0 | |
| skIncrPCA | 2.03 | 0.86 | 97.31 | |
| skIncrPCA_h5 | 0.02 | 0.00 | 0.02 | |
| skIncrPPCA | 0.02 | 0.00 | 0.02 | |
| skIncrPartialPCA | 0.28 | 0.00 | 0.52 | |
| skKMeans | 1.79 | 2.14 | 18.97 | |
| skPCA | 0.09 | 0.02 | 0.06 | |
| skPartialPCA_step | 0 | 0 | 0 | |