| Back to Multiple platform build/check report for BioC 3.14 |
|
This page was generated on 2022-04-13 12:07:41 -0400 (Wed, 13 Apr 2022).
| Hostname | OS | Arch (*) | R version | Installed pkgs |
|---|---|---|---|---|
| nebbiolo2 | Linux (Ubuntu 20.04.4 LTS) | x86_64 | 4.1.3 (2022-03-10) -- "One Push-Up" | 4324 |
| tokay2 | Windows Server 2012 R2 Standard | x64 | 4.1.3 (2022-03-10) -- "One Push-Up" | 4077 |
| machv2 | macOS 10.14.6 Mojave | x86_64 | 4.1.3 (2022-03-10) -- "One Push-Up" | 4137 |
| Click on any hostname to see more info about the system (e.g. compilers) (*) as reported by 'uname -p', except on Windows and Mac OS X | ||||
|
To the developers/maintainers of the BiocPkgTools package: - Please allow up to 24 hours (and sometimes 48 hours) for your latest push to git@git.bioconductor.org:packages/BiocPkgTools.git to reflect on this report. See How and When does the builder pull? When will my changes propagate? for more information. - Make sure to use the following settings in order to reproduce any error or warning you see on this page. |
| Package 166/2083 | Hostname | OS / Arch | INSTALL | BUILD | CHECK | BUILD BIN | ||||||||
| BiocPkgTools 1.12.2 (landing page) Sean Davis
| nebbiolo2 | Linux (Ubuntu 20.04.4 LTS) / x86_64 | OK | OK | OK | |||||||||
| tokay2 | Windows Server 2012 R2 Standard / x64 | OK | OK | OK | OK | |||||||||
| machv2 | macOS 10.14.6 Mojave / x86_64 | OK | OK | OK | OK | |||||||||
| Package: BiocPkgTools |
| Version: 1.12.2 |
| Command: /Library/Frameworks/R.framework/Resources/bin/R CMD check --install=check:BiocPkgTools.install-out.txt --library=/Library/Frameworks/R.framework/Resources/library --no-vignettes --timings BiocPkgTools_1.12.2.tar.gz |
| StartedAt: 2022-04-12 10:49:11 -0400 (Tue, 12 Apr 2022) |
| EndedAt: 2022-04-12 10:54:38 -0400 (Tue, 12 Apr 2022) |
| EllapsedTime: 326.8 seconds |
| RetCode: 0 |
| Status: OK |
| CheckDir: BiocPkgTools.Rcheck |
| Warnings: 0 |
##############################################################################
##############################################################################
###
### Running command:
###
### /Library/Frameworks/R.framework/Resources/bin/R CMD check --install=check:BiocPkgTools.install-out.txt --library=/Library/Frameworks/R.framework/Resources/library --no-vignettes --timings BiocPkgTools_1.12.2.tar.gz
###
##############################################################################
##############################################################################
* using log directory ‘/Users/biocbuild/bbs-3.14-bioc/meat/BiocPkgTools.Rcheck’
* using R version 4.1.3 (2022-03-10)
* using platform: x86_64-apple-darwin17.0 (64-bit)
* using session charset: UTF-8
* using option ‘--no-vignettes’
* checking for file ‘BiocPkgTools/DESCRIPTION’ ... OK
* checking extension type ... Package
* this is package ‘BiocPkgTools’ version ‘1.12.2’
* package encoding: UTF-8
* checking package namespace information ... OK
* checking package dependencies ... OK
* checking if this is a source package ... OK
* checking if there is a namespace ... OK
* checking for hidden files and directories ... OK
* checking for portable file names ... OK
* checking for sufficient/correct file permissions ... OK
* checking whether package ‘BiocPkgTools’ can be installed ... OK
* checking installed package size ... OK
* checking package directory ... OK
* checking ‘build’ directory ... OK
* checking DESCRIPTION meta-information ... OK
* checking top-level files ... OK
* checking for left-over files ... OK
* checking index information ... OK
* checking package subdirectories ... OK
* checking R files for non-ASCII characters ... OK
* checking R files for syntax errors ... OK
* checking whether the package can be loaded ... OK
* checking whether the package can be loaded with stated dependencies ... OK
* checking whether the package can be unloaded cleanly ... OK
* checking whether the namespace can be loaded with stated dependencies ... OK
* checking whether the namespace can be unloaded cleanly ... OK
* checking dependencies in R code ... NOTE
Unexported objects imported by ':::' calls:
‘BiocManager:::.repositories’ ‘BiocManager:::.repositories_bioc’
‘BiocManager:::.version_bioc’
See the note in ?`:::` about the use of this operator.
* checking S3 generic/method consistency ... OK
* checking replacement functions ... OK
* checking foreign function calls ... OK
* checking R code for possible problems ... OK
* checking Rd files ... OK
* checking Rd metadata ... OK
* checking Rd cross-references ... OK
* checking for missing documentation entries ... OK
* checking for code/documentation mismatches ... OK
* checking Rd \usage sections ... OK
* checking Rd contents ... OK
* checking for unstated dependencies in examples ... OK
* checking files in ‘vignettes’ ... OK
* checking examples ... OK
Examples with CPU (user + system) or elapsed time > 5s
user system elapsed
biocBuildReport 6.642 27.930 40.397
pkgCombDependencyGain 9.903 0.377 11.009
pkgDepMetrics 8.803 0.316 9.819
class-dependencies 8.090 0.160 8.263
get_bioc_data 7.034 0.378 9.128
firstInBioc 6.225 0.204 7.584
biocDownloadStats 4.093 0.169 6.127
* checking for unstated dependencies in ‘tests’ ... OK
* checking tests ...
Running ‘testthat.R’
OK
* checking for unstated dependencies in vignettes ... OK
* checking package vignettes in ‘inst/doc’ ... OK
* checking running R code from vignettes ... SKIPPED
* checking re-building of vignette outputs ... SKIPPED
* checking PDF version of manual ... OK
* DONE
Status: 1 NOTE
See
‘/Users/biocbuild/bbs-3.14-bioc/meat/BiocPkgTools.Rcheck/00check.log’
for details.
BiocPkgTools.Rcheck/00install.out
############################################################################## ############################################################################## ### ### Running command: ### ### /Library/Frameworks/R.framework/Resources/bin/R CMD INSTALL BiocPkgTools ### ############################################################################## ############################################################################## * installing to library ‘/Library/Frameworks/R.framework/Versions/4.1/Resources/library’ * installing *source* package ‘BiocPkgTools’ ... ** using staged installation ** R ** inst ** byte-compile and prepare package for lazy loading ** help *** installing help indices ** building package indices ** installing vignettes ** testing if installed package can be loaded from temporary location ** testing if installed package can be loaded from final location ** testing if installed package keeps a record of temporary installation path * DONE (BiocPkgTools)
BiocPkgTools.Rcheck/tests/testthat.Rout
R version 4.1.3 (2022-03-10) -- "One Push-Up"
Copyright (C) 2022 The R Foundation for Statistical Computing
Platform: x86_64-apple-darwin17.0 (64-bit)
R is free software and comes with ABSOLUTELY NO WARRANTY.
You are welcome to redistribute it under certain conditions.
Type 'license()' or 'licence()' for distribution details.
R is a collaborative project with many contributors.
Type 'contributors()' for more information and
'citation()' on how to cite R or R packages in publications.
Type 'demo()' for some demos, 'help()' for on-line help, or
'help.start()' for an HTML browser interface to help.
Type 'q()' to quit R.
> library(testthat)
> library(BiocPkgTools)
Loading required package: htmlwidgets
>
> test_check("BiocPkgTools")
trying URL 'https://bioconductor.org/checkResults/3.14/bioc-LATEST/report.tgz'
Content type 'application/x-gzip' length 61279682 bytes (58.4 MB)
==================================================
downloaded 58.4 MB
trying URL 'https://bioconductor.org/packages/3.14/bioc/vignettes/a4/inst/doc/a4vignette.pdf'
Content type 'application/pdf' length 1297193 bytes (1.2 MB)
==================================================
downloaded 1.2 MB
[ FAIL 0 | WARN 0 | SKIP 0 | PASS 27 ]
>
> proc.time()
user system elapsed
48.819 25.409 81.237
BiocPkgTools.Rcheck/BiocPkgTools-Ex.timings
| name | user | system | elapsed | |
| anacondaDownloadStats | 1.317 | 0.041 | 2.556 | |
| biocBuildReport | 6.642 | 27.930 | 40.397 | |
| biocDownloadStats | 4.093 | 0.169 | 6.127 | |
| biocMaintained | 2.078 | 0.088 | 2.605 | |
| biocPkgList | 1.813 | 0.063 | 2.161 | |
| biocPkgRanges | 0.000 | 0.000 | 0.001 | |
| biocRevDepEmail | 3.707 | 0.116 | 4.618 | |
| buildPkgDependencyDataFrame | 3.816 | 0.123 | 4.501 | |
| buildPkgDependencyIgraph | 1.906 | 0.055 | 2.239 | |
| class-dependencies | 8.090 | 0.160 | 8.263 | |
| firstInBioc | 6.225 | 0.204 | 7.584 | |
| generateBiocPkgDOI | 0 | 0 | 0 | |
| getBiocVignette | 2.272 | 0.127 | 3.104 | |
| get_bioc_data | 7.034 | 0.378 | 9.128 | |
| githubDetails | 2.008 | 0.272 | 2.939 | |
| githubURLParts | 1.720 | 0.078 | 2.172 | |
| inducedSubgraphByPkgs | 2.036 | 0.059 | 2.462 | |
| pkgCombDependencyGain | 9.903 | 0.377 | 11.009 | |
| pkgDepImports | 0.329 | 0.009 | 0.339 | |
| pkgDepMetrics | 8.803 | 0.316 | 9.819 | |
| pkgDownloadStats | 0.057 | 0.001 | 0.233 | |
| problemPage | 0.001 | 0.000 | 0.000 | |
| subgraphByDegree | 1.968 | 0.059 | 2.309 | |