| Back to Multiple platform build/check report for BioC 3.14 |
|
This page was generated on 2022-04-13 12:05:06 -0400 (Wed, 13 Apr 2022).
| Hostname | OS | Arch (*) | R version | Installed pkgs |
|---|---|---|---|---|
| nebbiolo2 | Linux (Ubuntu 20.04.4 LTS) | x86_64 | 4.1.3 (2022-03-10) -- "One Push-Up" | 4324 |
| tokay2 | Windows Server 2012 R2 Standard | x64 | 4.1.3 (2022-03-10) -- "One Push-Up" | 4077 |
| machv2 | macOS 10.14.6 Mojave | x86_64 | 4.1.3 (2022-03-10) -- "One Push-Up" | 4137 |
| Click on any hostname to see more info about the system (e.g. compilers) (*) as reported by 'uname -p', except on Windows and Mac OS X | ||||
|
To the developers/maintainers of the BicARE package: - Please allow up to 24 hours (and sometimes 48 hours) for your latest push to git@git.bioconductor.org:packages/BicARE.git to reflect on this report. See How and When does the builder pull? When will my changes propagate? for more information. - Make sure to use the following settings in order to reproduce any error or warning you see on this page. |
| Package 145/2083 | Hostname | OS / Arch | INSTALL | BUILD | CHECK | BUILD BIN | ||||||||
| BicARE 1.52.0 (landing page) Pierre Gestraud
| nebbiolo2 | Linux (Ubuntu 20.04.4 LTS) / x86_64 | OK | OK | OK | |||||||||
| tokay2 | Windows Server 2012 R2 Standard / x64 | OK | OK | OK | OK | |||||||||
| machv2 | macOS 10.14.6 Mojave / x86_64 | OK | OK | OK | OK | |||||||||
| Package: BicARE |
| Version: 1.52.0 |
| Command: /home/biocbuild/bbs-3.14-bioc/R/bin/R CMD INSTALL BicARE |
| StartedAt: 2022-04-12 03:27:00 -0400 (Tue, 12 Apr 2022) |
| EndedAt: 2022-04-12 03:27:19 -0400 (Tue, 12 Apr 2022) |
| EllapsedTime: 19.1 seconds |
| RetCode: 0 |
| Status: OK |
##############################################################################
##############################################################################
###
### Running command:
###
### /home/biocbuild/bbs-3.14-bioc/R/bin/R CMD INSTALL BicARE
###
##############################################################################
##############################################################################
* installing to library ‘/home/biocbuild/bbs-3.14-bioc/R/library’
* installing *source* package ‘BicARE’ ...
** using staged installation
** libs
gcc -I"/home/biocbuild/bbs-3.14-bioc/R/include" -DNDEBUG -I/usr/local/include -fpic -g -O2 -Wall -c BicARE.c -o BicARE.o
BicARE.c: In function ‘floc’:
BicARE.c:439:12: warning: unused variable ‘invk’ [-Wunused-variable]
439 | double invk = 1/(double)*k;
| ^~~~
gcc -shared -L/home/biocbuild/bbs-3.14-bioc/R/lib -L/usr/local/lib -o BicARE.so BicARE.o -L/home/biocbuild/bbs-3.14-bioc/R/lib -lR
installing to /home/biocbuild/bbs-3.14-bioc/R/library/00LOCK-BicARE/00new/BicARE/libs
** R
** data
** inst
** byte-compile and prepare package for lazy loading
** help
*** installing help indices
** building package indices
** installing vignettes
** testing if installed package can be loaded from temporary location
** checking absolute paths in shared objects and dynamic libraries
** testing if installed package can be loaded from final location
** testing if installed package keeps a record of temporary installation path
* DONE (BicARE)