| Back to Multiple platform build/check report for BioC 3.13 |
|
This page was generated on 2021-10-15 15:06:26 -0400 (Fri, 15 Oct 2021).
|
To the developers/maintainers of the tricycle package: - Please allow up to 24 hours (and sometimes 48 hours) for your latest push to git@git.bioconductor.org:packages/tricycle.git to reflect on this report. See How and When does the builder pull? When will my changes propagate? here for more information. - Make sure to use the following settings in order to reproduce any error or warning you see on this page. |
| Package 1961/2041 | Hostname | OS / Arch | INSTALL | BUILD | CHECK | BUILD BIN | ||||||||
| tricycle 1.0.0 (landing page) Shijie Zheng
| nebbiolo1 | Linux (Ubuntu 20.04.2 LTS) / x86_64 | OK | OK | OK | |||||||||
| tokay2 | Windows Server 2012 R2 Standard / x64 | OK | OK | OK | OK | |||||||||
| machv2 | macOS 10.14.6 Mojave / x86_64 | OK | OK | OK | OK | |||||||||
| Package: tricycle |
| Version: 1.0.0 |
| Command: C:\cygwin\bin\curl.exe -O http://155.52.207.165/BBS/3.13/bioc/src/contrib/tricycle_1.0.0.tar.gz && rm -rf tricycle.buildbin-libdir && mkdir tricycle.buildbin-libdir && C:\Users\biocbuild\bbs-3.13-bioc\R\bin\R.exe CMD INSTALL --merge-multiarch --build --library=tricycle.buildbin-libdir tricycle_1.0.0.tar.gz && C:\Users\biocbuild\bbs-3.13-bioc\R\bin\R.exe CMD INSTALL tricycle_1.0.0.zip && rm tricycle_1.0.0.tar.gz tricycle_1.0.0.zip |
| StartedAt: 2021-10-14 09:25:34 -0400 (Thu, 14 Oct 2021) |
| EndedAt: 2021-10-14 09:26:39 -0400 (Thu, 14 Oct 2021) |
| EllapsedTime: 64.5 seconds |
| RetCode: 0 |
| Status: OK |
##############################################################################
##############################################################################
###
### Running command:
###
### C:\cygwin\bin\curl.exe -O http://155.52.207.165/BBS/3.13/bioc/src/contrib/tricycle_1.0.0.tar.gz && rm -rf tricycle.buildbin-libdir && mkdir tricycle.buildbin-libdir && C:\Users\biocbuild\bbs-3.13-bioc\R\bin\R.exe CMD INSTALL --merge-multiarch --build --library=tricycle.buildbin-libdir tricycle_1.0.0.tar.gz && C:\Users\biocbuild\bbs-3.13-bioc\R\bin\R.exe CMD INSTALL tricycle_1.0.0.zip && rm tricycle_1.0.0.tar.gz tricycle_1.0.0.zip
###
##############################################################################
##############################################################################
% Total % Received % Xferd Average Speed Time Time Time Current
Dload Upload Total Spent Left Speed
0 0 0 0 0 0 0 0 --:--:-- --:--:-- --:--:-- 0
60 3135k 60 1883k 0 0 2652k 0 0:00:01 --:--:-- 0:00:01 2653k
100 3135k 100 3135k 0 0 3111k 0 0:00:01 0:00:01 --:--:-- 3113k
install for i386
* installing *source* package 'tricycle' ...
** using staged installation
** R
** data
** inst
** byte-compile and prepare package for lazy loading
** help
*** installing help indices
converting help for package 'tricycle'
finding HTML links ... done
RevelioGeneList html
circle_scale_legend html
estimate_Schwabe_stage html
finding level-2 HTML links ... done
estimate_cycle_position html
fit_periodic_loess html
neuroRef html
neurosphere_example html
plot_ccposition_den html
plot_emb_circle_scale html
project_cycle_space html
run_pca_cc_genes html
*** copying figures
** building package indices
** installing vignettes
** testing if installed package can be loaded from temporary location
** testing if installed package can be loaded from final location
** testing if installed package keeps a record of temporary installation path
install for x64
* installing *source* package 'tricycle' ...
** testing if installed package can be loaded
* MD5 sums
packaged installation of 'tricycle' as tricycle_1.0.0.zip
* DONE (tricycle)
* installing to library 'C:/Users/biocbuild/bbs-3.13-bioc/R/library'
package 'tricycle' successfully unpacked and MD5 sums checked