| Back to Multiple platform build/check report for BioC 3.13 |
|
This page was generated on 2021-10-15 15:06:24 -0400 (Fri, 15 Oct 2021).
|
To the developers/maintainers of the supersigs package: - Please allow up to 24 hours (and sometimes 48 hours) for your latest push to git@git.bioconductor.org:packages/supersigs.git to reflect on this report. See How and When does the builder pull? When will my changes propagate? here for more information. - Make sure to use the following settings in order to reproduce any error or warning you see on this page. |
| Package 1871/2041 | Hostname | OS / Arch | INSTALL | BUILD | CHECK | BUILD BIN | ||||||||
| supersigs 1.0.0 (landing page) Albert Kuo
| nebbiolo1 | Linux (Ubuntu 20.04.2 LTS) / x86_64 | OK | OK | OK | |||||||||
| tokay2 | Windows Server 2012 R2 Standard / x64 | OK | OK | OK | OK | |||||||||
| machv2 | macOS 10.14.6 Mojave / x86_64 | OK | OK | OK | OK | |||||||||
| Package: supersigs |
| Version: 1.0.0 |
| Command: C:\cygwin\bin\curl.exe -O http://155.52.207.165/BBS/3.13/bioc/src/contrib/supersigs_1.0.0.tar.gz && rm -rf supersigs.buildbin-libdir && mkdir supersigs.buildbin-libdir && C:\Users\biocbuild\bbs-3.13-bioc\R\bin\R.exe CMD INSTALL --merge-multiarch --build --library=supersigs.buildbin-libdir supersigs_1.0.0.tar.gz && C:\Users\biocbuild\bbs-3.13-bioc\R\bin\R.exe CMD INSTALL supersigs_1.0.0.zip && rm supersigs_1.0.0.tar.gz supersigs_1.0.0.zip |
| StartedAt: 2021-10-14 11:00:53 -0400 (Thu, 14 Oct 2021) |
| EndedAt: 2021-10-14 11:01:53 -0400 (Thu, 14 Oct 2021) |
| EllapsedTime: 59.3 seconds |
| RetCode: 0 |
| Status: OK |
##############################################################################
##############################################################################
###
### Running command:
###
### C:\cygwin\bin\curl.exe -O http://155.52.207.165/BBS/3.13/bioc/src/contrib/supersigs_1.0.0.tar.gz && rm -rf supersigs.buildbin-libdir && mkdir supersigs.buildbin-libdir && C:\Users\biocbuild\bbs-3.13-bioc\R\bin\R.exe CMD INSTALL --merge-multiarch --build --library=supersigs.buildbin-libdir supersigs_1.0.0.tar.gz && C:\Users\biocbuild\bbs-3.13-bioc\R\bin\R.exe CMD INSTALL supersigs_1.0.0.zip && rm supersigs_1.0.0.tar.gz supersigs_1.0.0.zip
###
##############################################################################
##############################################################################
% Total % Received % Xferd Average Speed Time Time Time Current
Dload Upload Total Spent Left Speed
0 0 0 0 0 0 0 0 --:--:-- --:--:-- --:--:-- 0
11 2680k 11 317k 0 0 1054k 0 0:00:02 --:--:-- 0:00:02 1055k
100 2680k 100 2680k 0 0 2152k 0 0:00:01 0:00:01 --:--:-- 2154k
install for i386
* installing *source* package 'supersigs' ...
** using staged installation
** R
** data
*** moving datasets to lazyload DB
** byte-compile and prepare package for lazy loading
** help
*** installing help indices
converting help for package 'supersigs'
finding HTML links ... done
SuperSig-class html
example_dt html
get_signature html
make_matrix html
partial_signature html
predict_signature html
process_vcf html
simplify_signature html
supersig_ls html
** building package indices
** installing vignettes
** testing if installed package can be loaded from temporary location
** testing if installed package can be loaded from final location
** testing if installed package keeps a record of temporary installation path
install for x64
* installing *source* package 'supersigs' ...
** testing if installed package can be loaded
* MD5 sums
packaged installation of 'supersigs' as supersigs_1.0.0.zip
* DONE (supersigs)
* installing to library 'C:/Users/biocbuild/bbs-3.13-bioc/R/library'
package 'supersigs' successfully unpacked and MD5 sums checked