| Back to Multiple platform build/check report for BioC 3.13 |
|
This page was generated on 2021-10-15 15:06:18 -0400 (Fri, 15 Oct 2021).
|
To the developers/maintainers of the recountmethylation package: - Please allow up to 24 hours (and sometimes 48 hours) for your latest push to git@git.bioconductor.org:packages/recountmethylation.git to reflect on this report. See How and When does the builder pull? When will my changes propagate? here for more information. - Make sure to use the following settings in order to reproduce any error or warning you see on this page. |
| Package 1543/2041 | Hostname | OS / Arch | INSTALL | BUILD | CHECK | BUILD BIN | ||||||||
| recountmethylation 1.2.3 (landing page) Sean K Maden
| nebbiolo1 | Linux (Ubuntu 20.04.2 LTS) / x86_64 | OK | OK | OK | |||||||||
| tokay2 | Windows Server 2012 R2 Standard / x64 | OK | OK | OK | OK | |||||||||
| machv2 | macOS 10.14.6 Mojave / x86_64 | OK | OK | OK | OK | |||||||||
| Package: recountmethylation |
| Version: 1.2.3 |
| Command: C:\Users\biocbuild\bbs-3.13-bioc\R\bin\R.exe CMD check --force-multiarch --install=check:recountmethylation.install-out.txt --library=C:\Users\biocbuild\bbs-3.13-bioc\R\library --no-vignettes --timings recountmethylation_1.2.3.tar.gz |
| StartedAt: 2021-10-15 04:17:04 -0400 (Fri, 15 Oct 2021) |
| EndedAt: 2021-10-15 04:19:31 -0400 (Fri, 15 Oct 2021) |
| EllapsedTime: 146.1 seconds |
| RetCode: 0 |
| Status: OK |
| CheckDir: recountmethylation.Rcheck |
| Warnings: 0 |
##############################################################################
##############################################################################
###
### Running command:
###
### C:\Users\biocbuild\bbs-3.13-bioc\R\bin\R.exe CMD check --force-multiarch --install=check:recountmethylation.install-out.txt --library=C:\Users\biocbuild\bbs-3.13-bioc\R\library --no-vignettes --timings recountmethylation_1.2.3.tar.gz
###
##############################################################################
##############################################################################
* using log directory 'C:/Users/biocbuild/bbs-3.13-bioc/meat/recountmethylation.Rcheck'
* using R version 4.1.1 (2021-08-10)
* using platform: x86_64-w64-mingw32 (64-bit)
* using session charset: ISO8859-1
* using option '--no-vignettes'
* checking for file 'recountmethylation/DESCRIPTION' ... OK
* this is package 'recountmethylation' version '1.2.3'
* package encoding: UTF-8
* checking package namespace information ... OK
* checking package dependencies ... OK
* checking if this is a source package ... OK
* checking if there is a namespace ... OK
* checking for hidden files and directories ... OK
* checking for portable file names ... OK
* checking whether package 'recountmethylation' can be installed ... OK
* checking installed package size ... OK
* checking package directory ... OK
* checking 'build' directory ... OK
* checking DESCRIPTION meta-information ... OK
* checking top-level files ... OK
* checking for left-over files ... OK
* checking index information ... OK
* checking package subdirectories ... OK
* checking R files for non-ASCII characters ... OK
* checking R files for syntax errors ... OK
* loading checks for arch 'i386'
** checking whether the package can be loaded ... OK
** checking whether the package can be loaded with stated dependencies ... OK
** checking whether the package can be unloaded cleanly ... OK
** checking whether the namespace can be loaded with stated dependencies ... OK
** checking whether the namespace can be unloaded cleanly ... OK
* loading checks for arch 'x64'
** checking whether the package can be loaded ... OK
** checking whether the package can be loaded with stated dependencies ... OK
** checking whether the package can be unloaded cleanly ... OK
** checking whether the namespace can be loaded with stated dependencies ... OK
** checking whether the namespace can be unloaded cleanly ... OK
* checking dependencies in R code ... OK
* checking S3 generic/method consistency ... OK
* checking replacement functions ... OK
* checking foreign function calls ... OK
* checking R code for possible problems ... OK
* checking Rd files ... OK
* checking Rd metadata ... OK
* checking Rd cross-references ... OK
* checking for missing documentation entries ... OK
* checking for code/documentation mismatches ... OK
* checking Rd \usage sections ... OK
* checking Rd contents ... OK
* checking for unstated dependencies in examples ... OK
* checking files in 'vignettes' ... OK
* checking examples ...
** running examples for arch 'i386' ... OK
Examples with CPU (user + system) or elapsed time > 5s
user system elapsed
gds_idat2rg 17.81 1.60 31.60
gds_idatquery 1.70 0.31 14.39
** running examples for arch 'x64' ... OK
Examples with CPU (user + system) or elapsed time > 5s
user system elapsed
gds_idat2rg 19.21 1.00 32.15
gds_idatquery 0.98 0.38 12.63
* checking for unstated dependencies in 'tests' ... OK
* checking tests ...
** running tests for arch 'i386' ...
Running 'test-servermatrix.R'
OK
** running tests for arch 'x64' ...
Running 'test-servermatrix.R'
OK
* checking for unstated dependencies in vignettes ... OK
* checking package vignettes in 'inst/doc' ... OK
* checking running R code from vignettes ... SKIPPED
* checking re-building of vignette outputs ... SKIPPED
* checking PDF version of manual ... OK
* DONE
Status: OK
recountmethylation.Rcheck/00install.out
##############################################################################
##############################################################################
###
### Running command:
###
### C:\cygwin\bin\curl.exe -O http://155.52.207.165/BBS/3.13/bioc/src/contrib/recountmethylation_1.2.3.tar.gz && rm -rf recountmethylation.buildbin-libdir && mkdir recountmethylation.buildbin-libdir && C:\Users\biocbuild\bbs-3.13-bioc\R\bin\R.exe CMD INSTALL --merge-multiarch --build --library=recountmethylation.buildbin-libdir recountmethylation_1.2.3.tar.gz && C:\Users\biocbuild\bbs-3.13-bioc\R\bin\R.exe CMD INSTALL recountmethylation_1.2.3.zip && rm recountmethylation_1.2.3.tar.gz recountmethylation_1.2.3.zip
###
##############################################################################
##############################################################################
% Total % Received % Xferd Average Speed Time Time Time Current
Dload Upload Total Spent Left Speed
0 0 0 0 0 0 0 0 --:--:-- --:--:-- --:--:-- 0
25 3664k 25 943k 0 0 1487k 0 0:00:02 --:--:-- 0:00:02 1486k
91 3664k 91 3346k 0 0 1987k 0 0:00:01 0:00:01 --:--:-- 1988k
100 3664k 100 3664k 0 0 2042k 0 0:00:01 0:00:01 --:--:-- 2042k
install for i386
* installing *source* package 'recountmethylation' ...
** using staged installation
** R
** inst
** byte-compile and prepare package for lazy loading
** help
*** installing help indices
converting help for package 'recountmethylation'
finding HTML links ... done
data_mdpost html
gds_idat2rg html
gds_idatquery html
get_rmdl html
get_servermatrix html
getdb html
getrg html
hread html
matchds_1to2 html
rgse html
servermatrix html
smfilt html
** building package indices
** installing vignettes
** testing if installed package can be loaded from temporary location
** testing if installed package can be loaded from final location
** testing if installed package keeps a record of temporary installation path
install for x64
* installing *source* package 'recountmethylation' ...
** testing if installed package can be loaded
* MD5 sums
packaged installation of 'recountmethylation' as recountmethylation_1.2.3.zip
* DONE (recountmethylation)
* installing to library 'C:/Users/biocbuild/bbs-3.13-bioc/R/library'
package 'recountmethylation' successfully unpacked and MD5 sums checked
|
recountmethylation.Rcheck/tests_i386/test-servermatrix.Rout
R version 4.1.1 (2021-08-10) -- "Kick Things"
Copyright (C) 2021 The R Foundation for Statistical Computing
Platform: i386-w64-mingw32/i386 (32-bit)
R is free software and comes with ABSOLUTELY NO WARRANTY.
You are welcome to redistribute it under certain conditions.
Type 'license()' or 'licence()' for distribution details.
R is a collaborative project with many contributors.
Type 'contributors()' for more information and
'citation()' on how to cite R or R packages in publications.
Type 'demo()' for some demos, 'help()' for on-line help, or
'help.start()' for an HTML browser interface to help.
Type 'q()' to quit R.
> testthat::context("Test the server matrix properties")
>
> testthat::test_that("Properties of server matrix returned from get_rmdl
+ and servermatrix", {
+ sm <- recountmethylation::get_servermatrix()
+ testthat::expect_true(is(sm, "matrix"))
+ testthat::expect_equal(ncol(sm), 4)
+ testthat::expect_true(is(sm[,1], "character"))
+ })
Test passed
>
> proc.time()
user system elapsed
1.45 0.14 1.79
|
recountmethylation.Rcheck/tests_x64/test-servermatrix.Rout
R version 4.1.1 (2021-08-10) -- "Kick Things"
Copyright (C) 2021 The R Foundation for Statistical Computing
Platform: x86_64-w64-mingw32/x64 (64-bit)
R is free software and comes with ABSOLUTELY NO WARRANTY.
You are welcome to redistribute it under certain conditions.
Type 'license()' or 'licence()' for distribution details.
R is a collaborative project with many contributors.
Type 'contributors()' for more information and
'citation()' on how to cite R or R packages in publications.
Type 'demo()' for some demos, 'help()' for on-line help, or
'help.start()' for an HTML browser interface to help.
Type 'q()' to quit R.
> testthat::context("Test the server matrix properties")
>
> testthat::test_that("Properties of server matrix returned from get_rmdl
+ and servermatrix", {
+ sm <- recountmethylation::get_servermatrix()
+ testthat::expect_true(is(sm, "matrix"))
+ testthat::expect_equal(ncol(sm), 4)
+ testthat::expect_true(is(sm[,1], "character"))
+ })
Test passed
>
> proc.time()
user system elapsed
1.50 0.12 1.82
|
|
recountmethylation.Rcheck/examples_i386/recountmethylation-Ex.timings
|
recountmethylation.Rcheck/examples_x64/recountmethylation-Ex.timings
|