| Back to Multiple platform build/check report for BioC 3.13 |
|
This page was generated on 2021-10-15 15:06:17 -0400 (Fri, 15 Oct 2021).
|
To the developers/maintainers of the quantsmooth package: - Please allow up to 24 hours (and sometimes 48 hours) for your latest push to git@git.bioconductor.org:packages/quantsmooth.git to reflect on this report. See How and When does the builder pull? When will my changes propagate? here for more information. - Make sure to use the following settings in order to reproduce any error or warning you see on this page. |
| Package 1482/2041 | Hostname | OS / Arch | INSTALL | BUILD | CHECK | BUILD BIN | ||||||||
| quantsmooth 1.58.0 (landing page) Jan Oosting
| nebbiolo1 | Linux (Ubuntu 20.04.2 LTS) / x86_64 | OK | OK | OK | |||||||||
| tokay2 | Windows Server 2012 R2 Standard / x64 | OK | OK | OK | OK | |||||||||
| machv2 | macOS 10.14.6 Mojave / x86_64 | OK | OK | OK | OK | |||||||||
| Package: quantsmooth |
| Version: 1.58.0 |
| Command: C:\cygwin\bin\curl.exe -O http://155.52.207.165/BBS/3.13/bioc/src/contrib/quantsmooth_1.58.0.tar.gz && rm -rf quantsmooth.buildbin-libdir && mkdir quantsmooth.buildbin-libdir && C:\Users\biocbuild\bbs-3.13-bioc\R\bin\R.exe CMD INSTALL --merge-multiarch --build --library=quantsmooth.buildbin-libdir quantsmooth_1.58.0.tar.gz && C:\Users\biocbuild\bbs-3.13-bioc\R\bin\R.exe CMD INSTALL quantsmooth_1.58.0.zip && rm quantsmooth_1.58.0.tar.gz quantsmooth_1.58.0.zip |
| StartedAt: 2021-10-14 07:26:57 -0400 (Thu, 14 Oct 2021) |
| EndedAt: 2021-10-14 07:28:02 -0400 (Thu, 14 Oct 2021) |
| EllapsedTime: 64.7 seconds |
| RetCode: 0 |
| Status: OK |
##############################################################################
##############################################################################
###
### Running command:
###
### C:\cygwin\bin\curl.exe -O http://155.52.207.165/BBS/3.13/bioc/src/contrib/quantsmooth_1.58.0.tar.gz && rm -rf quantsmooth.buildbin-libdir && mkdir quantsmooth.buildbin-libdir && C:\Users\biocbuild\bbs-3.13-bioc\R\bin\R.exe CMD INSTALL --merge-multiarch --build --library=quantsmooth.buildbin-libdir quantsmooth_1.58.0.tar.gz && C:\Users\biocbuild\bbs-3.13-bioc\R\bin\R.exe CMD INSTALL quantsmooth_1.58.0.zip && rm quantsmooth_1.58.0.tar.gz quantsmooth_1.58.0.zip
###
##############################################################################
##############################################################################
% Total % Received % Xferd Average Speed Time Time Time Current
Dload Upload Total Spent Left Speed
0 0 0 0 0 0 0 0 --:--:-- --:--:-- --:--:-- 0
100 106k 100 106k 0 0 409k 0 --:--:-- --:--:-- --:--:-- 410k
install for i386
* installing *source* package 'quantsmooth' ...
** using staged installation
** R
** data
** byte-compile and prepare package for lazy loading
** help
*** installing help indices
converting help for package 'quantsmooth'
finding HTML links ... done
Chromosome14 html
chrom.bands html
drawSimpleChrom html
getChangedIdx html
getChangedRegions html
getLambdaMin html
grid.chromosome html
lengthChromosome html
numericCHR html
paintCytobands html
plotChromosome html
plotSmoothed html
position2Cytoband html
prepareGenomePlot html
quantsmooth html
quantsmooth.cv html
quantsmooth.seg html
scaleto html
** building package indices
** installing vignettes
** testing if installed package can be loaded from temporary location
** testing if installed package can be loaded from final location
** testing if installed package keeps a record of temporary installation path
install for x64
* installing *source* package 'quantsmooth' ...
** testing if installed package can be loaded
* MD5 sums
packaged installation of 'quantsmooth' as quantsmooth_1.58.0.zip
* DONE (quantsmooth)
* installing to library 'C:/Users/biocbuild/bbs-3.13-bioc/R/library'
package 'quantsmooth' successfully unpacked and MD5 sums checked