| Back to Multiple platform build/check report for BioC 3.13 |
|
This page was generated on 2021-10-15 15:06:16 -0400 (Fri, 15 Oct 2021).
|
To the developers/maintainers of the pickgene package: - Please allow up to 24 hours (and sometimes 48 hours) for your latest push to git@git.bioconductor.org:packages/pickgene.git to reflect on this report. See How and When does the builder pull? When will my changes propagate? here for more information. - Make sure to use the following settings in order to reproduce any error or warning you see on this page. |
| Package 1392/2041 | Hostname | OS / Arch | INSTALL | BUILD | CHECK | BUILD BIN | ||||||||
| pickgene 1.64.0 (landing page) Brian S. Yandell
| nebbiolo1 | Linux (Ubuntu 20.04.2 LTS) / x86_64 | OK | OK | WARNINGS | |||||||||
| tokay2 | Windows Server 2012 R2 Standard / x64 | OK | OK | WARNINGS | OK | |||||||||
| machv2 | macOS 10.14.6 Mojave / x86_64 | OK | OK | WARNINGS | OK | |||||||||
| Package: pickgene |
| Version: 1.64.0 |
| Command: C:\cygwin\bin\curl.exe -O http://155.52.207.165/BBS/3.13/bioc/src/contrib/pickgene_1.64.0.tar.gz && rm -rf pickgene.buildbin-libdir && mkdir pickgene.buildbin-libdir && C:\Users\biocbuild\bbs-3.13-bioc\R\bin\R.exe CMD INSTALL --merge-multiarch --build --library=pickgene.buildbin-libdir pickgene_1.64.0.tar.gz && C:\Users\biocbuild\bbs-3.13-bioc\R\bin\R.exe CMD INSTALL pickgene_1.64.0.zip && rm pickgene_1.64.0.tar.gz pickgene_1.64.0.zip |
| StartedAt: 2021-10-14 07:06:58 -0400 (Thu, 14 Oct 2021) |
| EndedAt: 2021-10-14 07:10:29 -0400 (Thu, 14 Oct 2021) |
| EllapsedTime: 211.5 seconds |
| RetCode: 0 |
| Status: OK |
##############################################################################
##############################################################################
###
### Running command:
###
### C:\cygwin\bin\curl.exe -O http://155.52.207.165/BBS/3.13/bioc/src/contrib/pickgene_1.64.0.tar.gz && rm -rf pickgene.buildbin-libdir && mkdir pickgene.buildbin-libdir && C:\Users\biocbuild\bbs-3.13-bioc\R\bin\R.exe CMD INSTALL --merge-multiarch --build --library=pickgene.buildbin-libdir pickgene_1.64.0.tar.gz && C:\Users\biocbuild\bbs-3.13-bioc\R\bin\R.exe CMD INSTALL pickgene_1.64.0.zip && rm pickgene_1.64.0.tar.gz pickgene_1.64.0.zip
###
##############################################################################
##############################################################################
% Total % Received % Xferd Average Speed Time Time Time Current
Dload Upload Total Spent Left Speed
0 0 0 0 0 0 0 0 --:--:-- --:--:-- --:--:-- 0
100 33001 100 33001 0 0 278k 0 --:--:-- --:--:-- --:--:-- 280k
install for i386
* installing *source* package 'pickgene' ...
** using staged installation
** R
** byte-compile and prepare package for lazy loading
Note: possible error in 'oddsplot(exp(data[[x]]), ': unused argument (chip = "")
** help
*** installing help indices
converting help for package 'pickgene'
finding HTML links ... done
Simulation.pickgene html
em.ggb html
model.pickgene html
oddsplot html
pickgene-internal html
pickgene html
robustscale html
** building package indices
** installing vignettes
** testing if installed package can be loaded from temporary location
** testing if installed package can be loaded from final location
** testing if installed package keeps a record of temporary installation path
install for x64
* installing *source* package 'pickgene' ...
** testing if installed package can be loaded
* MD5 sums
packaged installation of 'pickgene' as pickgene_1.64.0.zip
* DONE (pickgene)
* installing to library 'C:/Users/biocbuild/bbs-3.13-bioc/R/library'
package 'pickgene' successfully unpacked and MD5 sums checked