| Back to Multiple platform build/check report for BioC 3.13 | 
 | 
This page was generated on 2021-10-15 15:05:41 -0400 (Fri, 15 Oct 2021).
| To the developers/maintainers of the gage package: - Please allow up to 24 hours (and sometimes 48 hours) for your latest push to git@git.bioconductor.org:packages/gage.git to reflect on this report. See How and When does the builder pull? When will my changes propagate? here for more information. - Make sure to use the following settings in order to reproduce any error or warning you see on this page. | 
| Package 685/2041 | Hostname | OS / Arch | INSTALL | BUILD | CHECK | BUILD BIN | ||||||||
| gage 2.42.0  (landing page) Weijun Luo 
 | nebbiolo1 | Linux (Ubuntu 20.04.2 LTS) / x86_64 | OK | OK | WARNINGS |  | ||||||||
| tokay2 | Windows Server 2012 R2 Standard / x64 | OK | OK | WARNINGS | OK |  | ||||||||
| machv2 | macOS 10.14.6 Mojave / x86_64 | OK | OK | WARNINGS | OK |  | ||||||||
| Package: gage | 
| Version: 2.42.0 | 
| Command: /home/biocbuild/bbs-3.13-bioc/R/bin/R CMD build --keep-empty-dirs --no-resave-data gage | 
| StartedAt: 2021-10-14 07:18:05 -0400 (Thu, 14 Oct 2021) | 
| EndedAt: 2021-10-14 07:19:58 -0400 (Thu, 14 Oct 2021) | 
| EllapsedTime: 113.5 seconds | 
| RetCode: 0 | 
| Status: OK | 
| PackageFile: gage_2.42.0.tar.gz | 
| PackageFileSize: 4.207 MiB | 
##############################################################################
##############################################################################
###
### Running command:
###
###   /home/biocbuild/bbs-3.13-bioc/R/bin/R CMD build --keep-empty-dirs --no-resave-data gage
###
##############################################################################
##############################################################################
* checking for file ‘gage/DESCRIPTION’ ... OK
* preparing ‘gage’:
* checking DESCRIPTION meta-information ... OK
* installing the package to build vignettes
* creating vignettes ... OK
* checking for LF line-endings in source and make files and shell scripts
* checking for empty or unneeded directories
* looking to see if a ‘data/datalist’ file should be added
  NB: this package now depends on R (>= 3.5.0)
  WARNING: Added dependency on R >= 3.5.0 because serialized objects in
  serialize/load version 3 cannot be read in older versions of R.
  File(s) containing such objects:
    ‘gage/data/khier.rda’ ‘gage/data/korg.rda’
* building ‘gage_2.42.0.tar.gz’