| Back to Multiple platform build/check report for BioC 3.13 |
|
This page was generated on 2021-10-15 15:06:01 -0400 (Fri, 15 Oct 2021).
|
To the developers/maintainers of the consensusDE package: - Please allow up to 24 hours (and sometimes 48 hours) for your latest push to git@git.bioconductor.org:packages/consensusDE.git to reflect on this report. See How and When does the builder pull? When will my changes propagate? here for more information. - Make sure to use the following settings in order to reproduce any error or warning you see on this page. |
| Package 379/2041 | Hostname | OS / Arch | INSTALL | BUILD | CHECK | BUILD BIN | ||||||||
| consensusDE 1.10.0 (landing page) Ashley J. Waardenberg
| nebbiolo1 | Linux (Ubuntu 20.04.2 LTS) / x86_64 | OK | OK | OK | |||||||||
| tokay2 | Windows Server 2012 R2 Standard / x64 | OK | OK | OK | OK | |||||||||
| machv2 | macOS 10.14.6 Mojave / x86_64 | OK | OK | OK | OK | |||||||||
| Package: consensusDE |
| Version: 1.10.0 |
| Command: rm -rf consensusDE.buildbin-libdir && mkdir consensusDE.buildbin-libdir && C:\Users\biocbuild\bbs-3.13-bioc\R\bin\R.exe CMD INSTALL --merge-multiarch --build --library=consensusDE.buildbin-libdir consensusDE_1.10.0.tar.gz |
| StartedAt: 2021-10-15 08:43:26 -0400 (Fri, 15 Oct 2021) |
| EndedAt: 2021-10-15 08:44:47 -0400 (Fri, 15 Oct 2021) |
| EllapsedTime: 81.1 seconds |
| RetCode: 0 |
| Status: OK |
| PackageFile: consensusDE_1.10.0.zip |
| PackageFileSize: 519 KiB |
##############################################################################
##############################################################################
###
### Running command:
###
### rm -rf consensusDE.buildbin-libdir && mkdir consensusDE.buildbin-libdir && C:\Users\biocbuild\bbs-3.13-bioc\R\bin\R.exe CMD INSTALL --merge-multiarch --build --library=consensusDE.buildbin-libdir consensusDE_1.10.0.tar.gz
###
##############################################################################
##############################################################################
install for i386
* installing *source* package 'consensusDE' ...
** using staged installation
** R
** inst
** byte-compile and prepare package for lazy loading
** help
*** installing help indices
converting help for package 'consensusDE'
finding HTML links ... done
buildSummarized html
diag_plots html
multi_de_pairs html
** building package indices
** installing vignettes
** testing if installed package can be loaded from temporary location
** testing if installed package can be loaded from final location
** testing if installed package keeps a record of temporary installation path
install for x64
* installing *source* package 'consensusDE' ...
** testing if installed package can be loaded
* MD5 sums
packaged installation of 'consensusDE' as consensusDE_1.10.0.zip
* DONE (consensusDE)