| Back to Multiple platform build/check report for BioC 3.13 |
|
This page was generated on 2021-10-15 15:05:59 -0400 (Fri, 15 Oct 2021).
|
To the developers/maintainers of the cbaf package: - Please allow up to 24 hours (and sometimes 48 hours) for your latest push to git@git.bioconductor.org:packages/cbaf.git to reflect on this report. See How and When does the builder pull? When will my changes propagate? here for more information. - Make sure to use the following settings in order to reproduce any error or warning you see on this page. |
| Package 248/2041 | Hostname | OS / Arch | INSTALL | BUILD | CHECK | BUILD BIN | ||||||||
| cbaf 1.14.0 (landing page) Arman Shahrisa
| nebbiolo1 | Linux (Ubuntu 20.04.2 LTS) / x86_64 | OK | OK | OK | |||||||||
| tokay2 | Windows Server 2012 R2 Standard / x64 | OK | OK | OK | OK | |||||||||
| machv2 | macOS 10.14.6 Mojave / x86_64 | OK | OK | OK | OK | |||||||||
| Package: cbaf |
| Version: 1.14.0 |
| Command: rm -rf cbaf.buildbin-libdir && mkdir cbaf.buildbin-libdir && C:\Users\biocbuild\bbs-3.13-bioc\R\bin\R.exe CMD INSTALL --merge-multiarch --build --library=cbaf.buildbin-libdir cbaf_1.14.0.tar.gz |
| StartedAt: 2021-10-15 08:25:40 -0400 (Fri, 15 Oct 2021) |
| EndedAt: 2021-10-15 08:26:57 -0400 (Fri, 15 Oct 2021) |
| EllapsedTime: 76.4 seconds |
| RetCode: 0 |
| Status: OK |
| PackageFile: cbaf_1.14.0.zip |
| PackageFileSize: 906 KiB |
##############################################################################
##############################################################################
###
### Running command:
###
### rm -rf cbaf.buildbin-libdir && mkdir cbaf.buildbin-libdir && C:\Users\biocbuild\bbs-3.13-bioc\R\bin\R.exe CMD INSTALL --merge-multiarch --build --library=cbaf.buildbin-libdir cbaf_1.14.0.tar.gz
###
##############################################################################
##############################################################################
install for i386
* installing *source* package 'cbaf' ...
** using staged installation
** R
** inst
** byte-compile and prepare package for lazy loading
** help
*** installing help indices
converting help for package 'cbaf'
finding HTML links ... done
automatedStatistics html
availableData html
cleanDatabase html
heatmapOutput html
obtainMultipleStudies html
obtainOneStudy html
processMultipleStudies html
processOneStudy html
xlsxOutput html
** building package indices
** installing vignettes
** testing if installed package can be loaded from temporary location
** testing if installed package can be loaded from final location
** testing if installed package keeps a record of temporary installation path
install for x64
* installing *source* package 'cbaf' ...
** testing if installed package can be loaded
* MD5 sums
packaged installation of 'cbaf' as cbaf_1.14.0.zip
* DONE (cbaf)