| Back to Multiple platform build/check report for BioC 3.13 |
|
This page was generated on 2021-10-15 15:06:26 -0400 (Fri, 15 Oct 2021).
|
To the developers/maintainers of the TreeAndLeaf package: - Please allow up to 24 hours (and sometimes 48 hours) for your latest push to git@git.bioconductor.org:packages/TreeAndLeaf.git to reflect on this report. See How and When does the builder pull? When will my changes propagate? here for more information. - Make sure to use the following settings in order to reproduce any error or warning you see on this page. |
| Package 1955/2041 | Hostname | OS / Arch | INSTALL | BUILD | CHECK | BUILD BIN | ||||||||
| TreeAndLeaf 1.4.2 (landing page) Milena A. Cardoso
| nebbiolo1 | Linux (Ubuntu 20.04.2 LTS) / x86_64 | OK | OK | OK | |||||||||
| tokay2 | Windows Server 2012 R2 Standard / x64 | OK | OK | OK | OK | |||||||||
| machv2 | macOS 10.14.6 Mojave / x86_64 | OK | OK | OK | OK | |||||||||
| Package: TreeAndLeaf |
| Version: 1.4.2 |
| Command: chmod a+r TreeAndLeaf -R && C:\Users\biocbuild\bbs-3.13-bioc\R\bin\R.exe CMD build --keep-empty-dirs --no-resave-data TreeAndLeaf |
| StartedAt: 2021-10-14 18:54:03 -0400 (Thu, 14 Oct 2021) |
| EndedAt: 2021-10-14 18:54:28 -0400 (Thu, 14 Oct 2021) |
| EllapsedTime: 25.3 seconds |
| RetCode: 0 |
| Status: OK |
| PackageFile: TreeAndLeaf_1.4.2.tar.gz |
| PackageFileSize: 5.579 MiB |
##############################################################################
##############################################################################
###
### Running command:
###
### chmod a+r TreeAndLeaf -R && C:\Users\biocbuild\bbs-3.13-bioc\R\bin\R.exe CMD build --keep-empty-dirs --no-resave-data TreeAndLeaf
###
##############################################################################
##############################################################################
* checking for file 'TreeAndLeaf/DESCRIPTION' ... OK
* preparing 'TreeAndLeaf':
* checking DESCRIPTION meta-information ... OK
* installing the package to build vignettes
* creating vignettes ... OK
Warning: 'inst/doc' files
'TreeAndLeaf.Rmd', 'TreeAndLeaf.html', 'TreeAndLeaf.R'
ignored as vignettes have been rebuilt.
Run R CMD build with --no-build-vignettes to prevent rebuilding.
* checking for LF line-endings in source and make files and shell scripts
* checking for empty or unneeded directories
* looking to see if a 'data/datalist' file should be added
* building 'TreeAndLeaf_1.4.2.tar.gz'