| Back to Multiple platform build/check report for BioC 3.13 | 
 | 
This page was generated on 2021-10-15 15:06:15 -0400 (Fri, 15 Oct 2021).
| To the developers/maintainers of the PathoStat package: - Please allow up to 24 hours (and sometimes 48 hours) for your latest push to git@git.bioconductor.org:packages/PathoStat.git to reflect on this report. See How and When does the builder pull? When will my changes propagate? here for more information. - Make sure to use the following settings in order to reproduce any error or warning you see on this page. | 
| Package 1350/2041 | Hostname | OS / Arch | INSTALL | BUILD | CHECK | BUILD BIN | ||||||||
| PathoStat 1.18.0  (landing page) Solaiappan Manimaran 
 | nebbiolo1 | Linux (Ubuntu 20.04.2 LTS) / x86_64 | OK | OK | OK |  | ||||||||
| tokay2 | Windows Server 2012 R2 Standard / x64 | OK | OK | OK | OK |  | ||||||||
| machv2 | macOS 10.14.6 Mojave / x86_64 | OK | OK | OK | OK |  | ||||||||
| Package: PathoStat | 
| Version: 1.18.0 | 
| Command: rm -rf PathoStat.buildbin-libdir && mkdir PathoStat.buildbin-libdir && C:\Users\biocbuild\bbs-3.13-bioc\R\bin\R.exe CMD INSTALL --merge-multiarch --build --library=PathoStat.buildbin-libdir PathoStat_1.18.0.tar.gz | 
| StartedAt: 2021-10-15 10:53:17 -0400 (Fri, 15 Oct 2021) | 
| EndedAt: 2021-10-15 10:54:30 -0400 (Fri, 15 Oct 2021) | 
| EllapsedTime: 72.7 seconds | 
| RetCode: 0 | 
| Status: OK | 
| PackageFile: PathoStat_1.18.0.zip | 
| PackageFileSize: 1.093 MiB | 
##############################################################################
##############################################################################
###
### Running command:
###
###   rm -rf PathoStat.buildbin-libdir && mkdir PathoStat.buildbin-libdir && C:\Users\biocbuild\bbs-3.13-bioc\R\bin\R.exe CMD INSTALL --merge-multiarch --build --library=PathoStat.buildbin-libdir PathoStat_1.18.0.tar.gz
###
##############################################################################
##############################################################################
install for i386
* installing *source* package 'PathoStat' ...
** using staged installation
** R
** data
** inst
** byte-compile and prepare package for lazy loading
** help
*** installing help indices
  converting help for package 'PathoStat'
    finding HTML links ... done
    Bootstrap_LOOCV_LR_AUC                  html  
    Chisq_Test_Pam                          html  
    Fisher_Test_Pam                         html  
    GET_PAM                                 html  
    LOOAUC_simple_multiple_noplot_one_df    html  
    LOOAUC_simple_multiple_one_df           html  
    PathoStat-class                         html  
    TranslateIdToTaxLevel                   html  
    Wilcox_Test_df                          html  
    findRAfromCount                         html  
    findTaxonMat                            html  
    findTaxonomy                            html  
    findTaxonomy300                         html  
    formatTaxTable                          html  
    getShinyInput                           html  
    getShinyInputCombat                     html  
    getShinyInputOrig                       html  
    getSignatureFromMultipleGlmnet          html  
    grepTid                                 html  
    loadPathoscopeReports                   html  
    loadPstat                               html  
    log2CPM                                 html  
    percent                                 html  
    phyloseq_to_edgeR                       html  
    plotPCAPlotly                           html  
    plotPCoAPlotly                          html  
    pstat_data                              html  
    readPathoscopeData                      html  
    runPathoStat                            html  
    savePstat                               html  
    setShinyInput                           html  
    setShinyInputCombat                     html  
    setShinyInputOrig                       html  
    summarizeTable                          html  
** building package indices
** installing vignettes
** testing if installed package can be loaded from temporary location
** testing if installed package can be loaded from final location
** testing if installed package keeps a record of temporary installation path
install for x64
* installing *source* package 'PathoStat' ...
** testing if installed package can be loaded
* MD5 sums
packaged installation of 'PathoStat' as PathoStat_1.18.0.zip
* DONE (PathoStat)