| Back to Multiple platform build/check report for BioC 3.13 |
|
This page was generated on 2021-10-15 15:06:47 -0400 (Fri, 15 Oct 2021).
|
To the developers/maintainers of the PPInfer package: - Please allow up to 24 hours (and sometimes 48 hours) for your latest push to git@git.bioconductor.org:packages/PPInfer.git to reflect on this report. See How and When does the builder pull? When will my changes propagate? here for more information. - Make sure to use the following settings in order to reproduce any error or warning you see on this page. |
| Package 1420/2041 | Hostname | OS / Arch | INSTALL | BUILD | CHECK | BUILD BIN | ||||||||
| PPInfer 1.18.0 (landing page) Dongmin Jung
| nebbiolo1 | Linux (Ubuntu 20.04.2 LTS) / x86_64 | OK | OK | OK | |||||||||
| tokay2 | Windows Server 2012 R2 Standard / x64 | OK | OK | OK | OK | |||||||||
| machv2 | macOS 10.14.6 Mojave / x86_64 | OK | OK | OK | OK | |||||||||
| Package: PPInfer |
| Version: 1.18.0 |
| Command: /Library/Frameworks/R.framework/Versions/Current/Resources/bin/R CMD check --install=check:PPInfer.install-out.txt --library=/Library/Frameworks/R.framework/Versions/Current/Resources/library --no-vignettes --timings PPInfer_1.18.0.tar.gz |
| StartedAt: 2021-10-14 22:28:22 -0400 (Thu, 14 Oct 2021) |
| EndedAt: 2021-10-14 22:35:40 -0400 (Thu, 14 Oct 2021) |
| EllapsedTime: 437.9 seconds |
| RetCode: 0 |
| Status: OK |
| CheckDir: PPInfer.Rcheck |
| Warnings: 0 |
##############################################################################
##############################################################################
###
### Running command:
###
### /Library/Frameworks/R.framework/Versions/Current/Resources/bin/R CMD check --install=check:PPInfer.install-out.txt --library=/Library/Frameworks/R.framework/Versions/Current/Resources/library --no-vignettes --timings PPInfer_1.18.0.tar.gz
###
##############################################################################
##############################################################################
* using log directory ‘/Users/biocbuild/bbs-3.13-bioc/meat/PPInfer.Rcheck’
* using R version 4.1.1 (2021-08-10)
* using platform: x86_64-apple-darwin17.0 (64-bit)
* using session charset: UTF-8
* using option ‘--no-vignettes’
* checking for file ‘PPInfer/DESCRIPTION’ ... OK
* checking extension type ... Package
* this is package ‘PPInfer’ version ‘1.18.0’
* checking package namespace information ... OK
* checking package dependencies ... NOTE
Depends: includes the non-default packages:
'biomaRt', 'fgsea', 'kernlab', 'ggplot2', 'igraph', 'STRINGdb',
'yeastExpData'
Adding so many packages to the search path is excessive and importing
selectively is preferable.
* checking if this is a source package ... OK
* checking if there is a namespace ... OK
* checking for hidden files and directories ... NOTE
Found the following hidden files and directories:
.git_fetch_output.txt
.git_merge_output.txt
These were most likely included in error. See section ‘Package
structure’ in the ‘Writing R Extensions’ manual.
* checking for portable file names ... OK
* checking for sufficient/correct file permissions ... OK
* checking whether package ‘PPInfer’ can be installed ... OK
* checking installed package size ... OK
* checking package directory ... OK
* checking ‘build’ directory ... OK
* checking DESCRIPTION meta-information ... OK
* checking top-level files ... OK
* checking for left-over files ... OK
* checking index information ... OK
* checking package subdirectories ... OK
* checking R files for non-ASCII characters ... OK
* checking R files for syntax errors ... OK
* checking whether the package can be loaded ... OK
* checking whether the package can be loaded with stated dependencies ... OK
* checking whether the package can be unloaded cleanly ... OK
* checking whether the namespace can be loaded with stated dependencies ... OK
* checking whether the namespace can be unloaded cleanly ... OK
* checking dependencies in R code ... OK
* checking S3 generic/method consistency ... OK
* checking replacement functions ... OK
* checking foreign function calls ... OK
* checking R code for possible problems ... NOTE
ORA: no visible global function definition for ‘txtProgressBar’
ORA: no visible global function definition for ‘fisher.test’
ORA: no visible global function definition for ‘setTxtProgressBar’
ORA: no visible global function definition for ‘p.adjust’
ORA.barplot: no visible global function definition for ‘p.adjust’
enrich.net: no visible global function definition for ‘stack’
enrich.net: no visible global function definition for ‘adjustcolor’
enrich.net : <anonymous>: no visible global function definition for
‘adjustcolor’
enrich.net: no visible binding for global variable ‘legend’
net.infer: no visible global function definition for ‘na.omit’
net.infer.ST: no visible global function definition for ‘na.omit’
ppi.infer.human: no visible global function definition for ‘na.omit’
ppi.infer.mouse: no visible global function definition for ‘na.omit’
Undefined global functions or variables:
adjustcolor fisher.test legend na.omit p.adjust setTxtProgressBar
stack txtProgressBar
Consider adding
importFrom("grDevices", "adjustcolor")
importFrom("graphics", "legend")
importFrom("stats", "fisher.test", "na.omit", "p.adjust")
importFrom("utils", "setTxtProgressBar", "stack", "txtProgressBar")
to your NAMESPACE file.
* checking Rd files ... OK
* checking Rd metadata ... OK
* checking Rd cross-references ... OK
* checking for missing documentation entries ... OK
* checking for code/documentation mismatches ... OK
* checking Rd \usage sections ... OK
* checking Rd contents ... OK
* checking for unstated dependencies in examples ... OK
* checking sizes of PDF files under ‘inst/doc’ ... OK
* checking installed files from ‘inst/doc’ ... OK
* checking files in ‘vignettes’ ... OK
* checking examples ... OK
Examples with CPU (user + system) or elapsed time > 5s
user system elapsed
ppi.infer.human 46.271 1.206 62.832
ppi.infer.mouse 39.810 0.969 70.379
ORA.barplot 1.740 0.064 47.457
ORA 1.578 0.161 42.001
* checking for unstated dependencies in vignettes ... OK
* checking package vignettes in ‘inst/doc’ ... OK
* checking running R code from vignettes ... SKIPPED
* checking re-building of vignette outputs ... SKIPPED
* checking PDF version of manual ... OK
* DONE
Status: 3 NOTEs
See
‘/Users/biocbuild/bbs-3.13-bioc/meat/PPInfer.Rcheck/00check.log’
for details.
PPInfer.Rcheck/00install.out
############################################################################## ############################################################################## ### ### Running command: ### ### /Library/Frameworks/R.framework/Versions/Current/Resources/bin/R CMD INSTALL PPInfer ### ############################################################################## ############################################################################## * installing to library ‘/Library/Frameworks/R.framework/Versions/4.1/Resources/library’ * installing *source* package ‘PPInfer’ ... ** using staged installation ** R ** inst ** byte-compile and prepare package for lazy loading ** help *** installing help indices ** building package indices ** installing vignettes ‘PPInfer.Rnw’ ** testing if installed package can be loaded from temporary location ** testing if installed package can be loaded from final location ** testing if installed package keeps a record of temporary installation path * DONE (PPInfer)
PPInfer.Rcheck/PPInfer-Ex.timings
| name | user | system | elapsed | |
| GSEA.barplot | 3.840 | 0.072 | 3.929 | |
| ORA | 1.578 | 0.161 | 42.001 | |
| ORA.barplot | 1.740 | 0.064 | 47.457 | |
| enrich.net | 2.705 | 0.056 | 2.764 | |
| net.infer | 2.944 | 0.023 | 2.974 | |
| net.infer.ST | 0.113 | 0.003 | 0.117 | |
| net.kernel | 0.045 | 0.003 | 0.050 | |
| ppi.infer.human | 46.271 | 1.206 | 62.832 | |
| ppi.infer.mouse | 39.810 | 0.969 | 70.379 | |
| self.train.kernel | 0.110 | 0.004 | 0.115 | |