| Back to Multiple platform build/check report for BioC 3.13 |
|
This page was generated on 2021-10-15 15:06:11 -0400 (Fri, 15 Oct 2021).
|
To the developers/maintainers of the Melissa package: - Please allow up to 24 hours (and sometimes 48 hours) for your latest push to git@git.bioconductor.org:packages/Melissa.git to reflect on this report. See How and When does the builder pull? When will my changes propagate? here for more information. - Make sure to use the following settings in order to reproduce any error or warning you see on this page. |
| Package 1068/2041 | Hostname | OS / Arch | INSTALL | BUILD | CHECK | BUILD BIN | ||||||||
| Melissa 1.8.0 (landing page) C. A. Kapourani
| nebbiolo1 | Linux (Ubuntu 20.04.2 LTS) / x86_64 | OK | OK | OK | |||||||||
| tokay2 | Windows Server 2012 R2 Standard / x64 | OK | OK | OK | OK | |||||||||
| machv2 | macOS 10.14.6 Mojave / x86_64 | OK | OK | OK | OK | |||||||||
| Package: Melissa |
| Version: 1.8.0 |
| Command: rm -rf Melissa.buildbin-libdir && mkdir Melissa.buildbin-libdir && C:\Users\biocbuild\bbs-3.13-bioc\R\bin\R.exe CMD INSTALL --merge-multiarch --build --library=Melissa.buildbin-libdir Melissa_1.8.0.tar.gz |
| StartedAt: 2021-10-15 10:15:41 -0400 (Fri, 15 Oct 2021) |
| EndedAt: 2021-10-15 10:17:13 -0400 (Fri, 15 Oct 2021) |
| EllapsedTime: 91.1 seconds |
| RetCode: 0 |
| Status: OK |
| PackageFile: Melissa_1.8.0.zip |
| PackageFileSize: 3.665 MiB |
##############################################################################
##############################################################################
###
### Running command:
###
### rm -rf Melissa.buildbin-libdir && mkdir Melissa.buildbin-libdir && C:\Users\biocbuild\bbs-3.13-bioc\R\bin\R.exe CMD INSTALL --merge-multiarch --build --library=Melissa.buildbin-libdir Melissa_1.8.0.tar.gz
###
##############################################################################
##############################################################################
install for i386
* installing *source* package 'Melissa' ...
** using staged installation
** R
** data
*** moving datasets to lazyload DB
** inst
** byte-compile and prepare package for lazy loading
** help
*** installing help indices
converting help for package 'Melissa'
finding HTML links ... done
Melissa html
binarise_files html
cluster_ari html
cluster_error html
create_melissa_data_obj html
eval_cluster_performance html
eval_imputation_performance html
extract_y html
filter_regions html
impute_met_files html
impute_test_met html
init_design_matrix html
log_sum_exp html
melissa_encode_dt html
melissa_gibbs html
melissa_synth_dt html
melissa_vb html
REDIRECT:topic Previous alias or file overwritten by alias: C:/Users/biocbuild/bbs-3.13-bioc/meat/Melissa.buildbin-libdir/00LOCK-Melissa/00new/Melissa/help/melissa.html
partition_dataset html
plot_melissa_profiles html
** building package indices
** installing vignettes
** testing if installed package can be loaded from temporary location
** testing if installed package can be loaded from final location
** testing if installed package keeps a record of temporary installation path
install for x64
* installing *source* package 'Melissa' ...
** testing if installed package can be loaded
* MD5 sums
packaged installation of 'Melissa' as Melissa_1.8.0.zip
* DONE (Melissa)