| Back to Multiple platform build/check report for BioC 3.13 |
|
This page was generated on 2021-10-15 15:06:07 -0400 (Fri, 15 Oct 2021).
|
To the developers/maintainers of the HIBAG package: - Please allow up to 24 hours (and sometimes 48 hours) for your latest push to git@git.bioconductor.org:packages/HIBAG.git to reflect on this report. See How and When does the builder pull? When will my changes propagate? here for more information. - Make sure to use the following settings in order to reproduce any error or warning you see on this page. |
| Package 855/2041 | Hostname | OS / Arch | INSTALL | BUILD | CHECK | BUILD BIN | ||||||||
| HIBAG 1.28.0 (landing page) Xiuwen Zheng
| nebbiolo1 | Linux (Ubuntu 20.04.2 LTS) / x86_64 | OK | OK | OK | |||||||||
| tokay2 | Windows Server 2012 R2 Standard / x64 | OK | OK | OK | OK | |||||||||
| machv2 | macOS 10.14.6 Mojave / x86_64 | OK | OK | OK | OK | |||||||||
| Package: HIBAG |
| Version: 1.28.0 |
| Command: C:\cygwin\bin\curl.exe -O http://155.52.207.165/BBS/3.13/bioc/src/contrib/HIBAG_1.28.0.tar.gz && rm -rf HIBAG.buildbin-libdir && mkdir HIBAG.buildbin-libdir && C:\Users\biocbuild\bbs-3.13-bioc\R\bin\R.exe CMD INSTALL --merge-multiarch --build --library=HIBAG.buildbin-libdir HIBAG_1.28.0.tar.gz && C:\Users\biocbuild\bbs-3.13-bioc\R\bin\R.exe CMD INSTALL HIBAG_1.28.0.zip && rm HIBAG_1.28.0.tar.gz HIBAG_1.28.0.zip |
| StartedAt: 2021-10-14 06:55:57 -0400 (Thu, 14 Oct 2021) |
| EndedAt: 2021-10-14 06:58:12 -0400 (Thu, 14 Oct 2021) |
| EllapsedTime: 135.0 seconds |
| RetCode: 0 |
| Status: OK |
##############################################################################
##############################################################################
###
### Running command:
###
### C:\cygwin\bin\curl.exe -O http://155.52.207.165/BBS/3.13/bioc/src/contrib/HIBAG_1.28.0.tar.gz && rm -rf HIBAG.buildbin-libdir && mkdir HIBAG.buildbin-libdir && C:\Users\biocbuild\bbs-3.13-bioc\R\bin\R.exe CMD INSTALL --merge-multiarch --build --library=HIBAG.buildbin-libdir HIBAG_1.28.0.tar.gz && C:\Users\biocbuild\bbs-3.13-bioc\R\bin\R.exe CMD INSTALL HIBAG_1.28.0.zip && rm HIBAG_1.28.0.tar.gz HIBAG_1.28.0.zip
###
##############################################################################
##############################################################################
% Total % Received % Xferd Average Speed Time Time Time Current
Dload Upload Total Spent Left Speed
0 0 0 0 0 0 0 0 --:--:-- --:--:-- --:--:-- 0
40 583k 40 238k 0 0 637k 0 --:--:-- --:--:-- --:--:-- 637k
100 583k 100 583k 0 0 1407k 0 --:--:-- --:--:-- --:--:-- 1407k
install for i386
* installing *source* package 'HIBAG' ...
** using staged installation
** libs
"C:/rtools40/mingw32/bin/"g++ -std=gnu++11 -I"C:/Users/BIOCBU~1/BBS-3~1.13-/R/include" -DNDEBUG -I'C:/Users/biocbuild/bbs-3.13-bioc/R/library/RcppParallel/include' -I"c:/extsoft/include" -DRCPP_PARALLEL_USE_TBB=1 -I../inst/include -O2 -Wall -mfpmath=sse -msse2 -mstackrealign -c HIBAG.cpp -o HIBAG.o
"C:/rtools40/mingw32/bin/"g++ -std=gnu++11 -I"C:/Users/BIOCBU~1/BBS-3~1.13-/R/include" -DNDEBUG -I'C:/Users/biocbuild/bbs-3.13-bioc/R/library/RcppParallel/include' -I"c:/extsoft/include" -DRCPP_PARALLEL_USE_TBB=1 -I../inst/include -O2 -Wall -mfpmath=sse -msse2 -mstackrealign -c LibHLA.cpp -o LibHLA.o
"C:/rtools40/mingw32/bin/"g++ -std=gnu++11 -I"C:/Users/BIOCBU~1/BBS-3~1.13-/R/include" -DNDEBUG -I'C:/Users/biocbuild/bbs-3.13-bioc/R/library/RcppParallel/include' -I"c:/extsoft/include" -DRCPP_PARALLEL_USE_TBB=1 -I../inst/include -O2 -Wall -mfpmath=sse -msse2 -mstackrealign -c LibHLA_ext_avx.cpp -o LibHLA_ext_avx.o
"C:/rtools40/mingw32/bin/"g++ -std=gnu++11 -I"C:/Users/BIOCBU~1/BBS-3~1.13-/R/include" -DNDEBUG -I'C:/Users/biocbuild/bbs-3.13-bioc/R/library/RcppParallel/include' -I"c:/extsoft/include" -DRCPP_PARALLEL_USE_TBB=1 -I../inst/include -O2 -Wall -mfpmath=sse -msse2 -mstackrealign -c LibHLA_ext_avx2.cpp -o LibHLA_ext_avx2.o
"C:/rtools40/mingw32/bin/"g++ -std=gnu++11 -I"C:/Users/BIOCBU~1/BBS-3~1.13-/R/include" -DNDEBUG -I'C:/Users/biocbuild/bbs-3.13-bioc/R/library/RcppParallel/include' -I"c:/extsoft/include" -DRCPP_PARALLEL_USE_TBB=1 -I../inst/include -O2 -Wall -mfpmath=sse -msse2 -mstackrealign LibHLA_ext_avx512bw.cpp -c -o LibHLA_ext_avx512bw.o
"C:/rtools40/mingw32/bin/"g++ -std=gnu++11 -I"C:/Users/BIOCBU~1/BBS-3~1.13-/R/include" -DNDEBUG -I'C:/Users/biocbuild/bbs-3.13-bioc/R/library/RcppParallel/include' -I"c:/extsoft/include" -DRCPP_PARALLEL_USE_TBB=1 -I../inst/include -O2 -Wall -mfpmath=sse -msse2 -mstackrealign LibHLA_ext_avx512f.cpp -c -o LibHLA_ext_avx512f.o
"C:/rtools40/mingw32/bin/"g++ -std=gnu++11 -I"C:/Users/BIOCBU~1/BBS-3~1.13-/R/include" -DNDEBUG -I'C:/Users/biocbuild/bbs-3.13-bioc/R/library/RcppParallel/include' -I"c:/extsoft/include" -DRCPP_PARALLEL_USE_TBB=1 -I../inst/include -O2 -Wall -mfpmath=sse -msse2 -mstackrealign -c LibHLA_ext_sse2.cpp -o LibHLA_ext_sse2.o
"C:/rtools40/mingw32/bin/"g++ -std=gnu++11 -I"C:/Users/BIOCBU~1/BBS-3~1.13-/R/include" -DNDEBUG -I'C:/Users/biocbuild/bbs-3.13-bioc/R/library/RcppParallel/include' -I"c:/extsoft/include" -DRCPP_PARALLEL_USE_TBB=1 -I../inst/include -O2 -Wall -mfpmath=sse -msse2 -mstackrealign -c LibHLA_ext_sse4_2.cpp -o LibHLA_ext_sse4_2.o
C:/rtools40/mingw32/bin/g++ -shared -s -static-libgcc -o HIBAG.dll tmp.def HIBAG.o LibHLA.o LibHLA_ext_avx.o LibHLA_ext_avx2.o LibHLA_ext_avx512bw.o LibHLA_ext_avx512f.o LibHLA_ext_sse2.o LibHLA_ext_sse4_2.o -LC:/Users/biocbuild/bbs-3.13-bioc/R/library/RcppParallel/lib/i386 -ltbb -ltbbmalloc -Lc:/extsoft/lib/i386 -Lc:/extsoft/lib -LC:/Users/BIOCBU~1/BBS-3~1.13-/R/bin/i386 -lR
installing to C:/Users/biocbuild/bbs-3.13-bioc/meat/HIBAG.buildbin-libdir/00LOCK-HIBAG/00new/HIBAG/libs/i386
** R
** data
*** moving datasets to lazyload DB
** inst
** byte-compile and prepare package for lazy loading
** help
*** installing help indices
converting help for package 'HIBAG'
finding HTML links ... done
HIBAG-package html
HLA_Type_Table html
HapMap_CEU_Geno html
hlaAASeqClass html
hlaAllele html
hlaAlleleClass html
hlaAlleleDigit html
hlaAlleleSubset html
hlaAlleleToVCF html
hlaAssocTest html
hlaAttrBagClass html
hlaAttrBagObj html
hlaAttrBagging html
hlaBED2Geno html
hlaCheckAllele html
hlaCheckSNPs html
hlaClose html
hlaCombineAllele html
hlaCombineModelObj html
hlaCompareAllele html
hlaConvSequence html
hlaDistance html
hlaFlankingSNP html
hlaGDS2Geno html
hlaGeno2PED html
hlaGenoAFreq html
hlaGenoCombine html
hlaGenoLD html
hlaGenoMFreq html
hlaGenoMRate html
hlaGenoMRate_Samp html
hlaGenoSubset html
hlaGenoSwitchStrand html
hlaLDMatrix html
hlaLociInfo html
hlaMakeSNPGeno html
hlaModelFiles html
hlaModelFromObj html
hlaOutOfBag html
hlaParallelAttrBagging html
hlaPredMerge html
hlaPredict html
hlaPublish html
hlaReport html
hlaReportPlot html
hlaSNPGenoClass html
hlaSNPID html
hlaSampleAllele html
hlaSetKernelTarget html
hlaSplitAllele html
hlaSubModelObj html
hlaUniqueAllele html
plot.hlaAttrBagObj html
print.hlaAttrBagClass html
summary.hlaAlleleClass html
summary.hlaSNPGenoClass html
** building package indices
** installing vignettes
'HIBAG.Rmd'
'HLA_Association.Rmd'
'Implementation.Rmd'
** testing if installed package can be loaded from temporary location
** testing if installed package can be loaded from final location
** testing if installed package keeps a record of temporary installation path
install for x64
* installing *source* package 'HIBAG' ...
** libs
"C:/rtools40/mingw64/bin/"g++ -std=gnu++11 -I"C:/Users/BIOCBU~1/BBS-3~1.13-/R/include" -DNDEBUG -I'C:/Users/biocbuild/bbs-3.13-bioc/R/library/RcppParallel/include' -I"C:/extsoft/include" -DRCPP_PARALLEL_USE_TBB=1 -I../inst/include -O2 -Wall -mfpmath=sse -msse2 -mstackrealign -c HIBAG.cpp -o HIBAG.o
"C:/rtools40/mingw64/bin/"g++ -std=gnu++11 -I"C:/Users/BIOCBU~1/BBS-3~1.13-/R/include" -DNDEBUG -I'C:/Users/biocbuild/bbs-3.13-bioc/R/library/RcppParallel/include' -I"C:/extsoft/include" -DRCPP_PARALLEL_USE_TBB=1 -I../inst/include -O2 -Wall -mfpmath=sse -msse2 -mstackrealign -c LibHLA.cpp -o LibHLA.o
"C:/rtools40/mingw64/bin/"g++ -std=gnu++11 -I"C:/Users/BIOCBU~1/BBS-3~1.13-/R/include" -DNDEBUG -I'C:/Users/biocbuild/bbs-3.13-bioc/R/library/RcppParallel/include' -I"C:/extsoft/include" -DRCPP_PARALLEL_USE_TBB=1 -I../inst/include -O2 -Wall -mfpmath=sse -msse2 -mstackrealign -c LibHLA_ext_avx.cpp -o LibHLA_ext_avx.o
"C:/rtools40/mingw64/bin/"g++ -std=gnu++11 -I"C:/Users/BIOCBU~1/BBS-3~1.13-/R/include" -DNDEBUG -I'C:/Users/biocbuild/bbs-3.13-bioc/R/library/RcppParallel/include' -I"C:/extsoft/include" -DRCPP_PARALLEL_USE_TBB=1 -I../inst/include -O2 -Wall -mfpmath=sse -msse2 -mstackrealign -c LibHLA_ext_avx2.cpp -o LibHLA_ext_avx2.o
"C:/rtools40/mingw64/bin/"g++ -std=gnu++11 -I"C:/Users/BIOCBU~1/BBS-3~1.13-/R/include" -DNDEBUG -I'C:/Users/biocbuild/bbs-3.13-bioc/R/library/RcppParallel/include' -I"C:/extsoft/include" -DRCPP_PARALLEL_USE_TBB=1 -I../inst/include -O2 -Wall -mfpmath=sse -msse2 -mstackrealign -ffixed-xmm16 -ffixed-xmm17 -ffixed-xmm18 -ffixed-xmm19 -ffixed-xmm20 -ffixed-xmm21 -ffixed-xmm22 -ffixed-xmm23 -ffixed-xmm24 -ffixed-xmm25 -ffixed-xmm26 -ffixed-xmm27 -ffixed-xmm28 -ffixed-xmm29 -ffixed-xmm30 -ffixed-xmm31 LibHLA_ext_avx512bw.cpp -c -o LibHLA_ext_avx512bw.o
"C:/rtools40/mingw64/bin/"g++ -std=gnu++11 -I"C:/Users/BIOCBU~1/BBS-3~1.13-/R/include" -DNDEBUG -I'C:/Users/biocbuild/bbs-3.13-bioc/R/library/RcppParallel/include' -I"C:/extsoft/include" -DRCPP_PARALLEL_USE_TBB=1 -I../inst/include -O2 -Wall -mfpmath=sse -msse2 -mstackrealign -ffixed-xmm16 -ffixed-xmm17 -ffixed-xmm18 -ffixed-xmm19 -ffixed-xmm20 -ffixed-xmm21 -ffixed-xmm22 -ffixed-xmm23 -ffixed-xmm24 -ffixed-xmm25 -ffixed-xmm26 -ffixed-xmm27 -ffixed-xmm28 -ffixed-xmm29 -ffixed-xmm30 -ffixed-xmm31 LibHLA_ext_avx512f.cpp -c -o LibHLA_ext_avx512f.o
"C:/rtools40/mingw64/bin/"g++ -std=gnu++11 -I"C:/Users/BIOCBU~1/BBS-3~1.13-/R/include" -DNDEBUG -I'C:/Users/biocbuild/bbs-3.13-bioc/R/library/RcppParallel/include' -I"C:/extsoft/include" -DRCPP_PARALLEL_USE_TBB=1 -I../inst/include -O2 -Wall -mfpmath=sse -msse2 -mstackrealign -c LibHLA_ext_sse2.cpp -o LibHLA_ext_sse2.o
"C:/rtools40/mingw64/bin/"g++ -std=gnu++11 -I"C:/Users/BIOCBU~1/BBS-3~1.13-/R/include" -DNDEBUG -I'C:/Users/biocbuild/bbs-3.13-bioc/R/library/RcppParallel/include' -I"C:/extsoft/include" -DRCPP_PARALLEL_USE_TBB=1 -I../inst/include -O2 -Wall -mfpmath=sse -msse2 -mstackrealign -c LibHLA_ext_sse4_2.cpp -o LibHLA_ext_sse4_2.o
C:/rtools40/mingw64/bin/g++ -shared -s -static-libgcc -o HIBAG.dll tmp.def HIBAG.o LibHLA.o LibHLA_ext_avx.o LibHLA_ext_avx2.o LibHLA_ext_avx512bw.o LibHLA_ext_avx512f.o LibHLA_ext_sse2.o LibHLA_ext_sse4_2.o -LC:/Users/biocbuild/bbs-3.13-bioc/R/library/RcppParallel/lib/x64 -ltbb -ltbbmalloc -LC:/extsoft/lib/x64 -LC:/extsoft/lib -LC:/Users/BIOCBU~1/BBS-3~1.13-/R/bin/x64 -lR
installing to C:/Users/biocbuild/bbs-3.13-bioc/meat/HIBAG.buildbin-libdir/HIBAG/libs/x64
** testing if installed package can be loaded
* MD5 sums
packaged installation of 'HIBAG' as HIBAG_1.28.0.zip
* DONE (HIBAG)
* installing to library 'C:/Users/biocbuild/bbs-3.13-bioc/R/library'
package 'HIBAG' successfully unpacked and MD5 sums checked