| Back to Build/check report for BioC 3.12 experimental data | 
  | 
This page was generated on 2021-05-06 14:10:16 -0400 (Thu, 06 May 2021).
| 
To the developers/maintainers of the yriMulti package: Please make sure to use the following settings in order to reproduce any error or warning you see on this page.  | 
| Package 397/398 | Hostname | OS / Arch | INSTALL | BUILD | CHECK | ||||||||
VJ Carey 
  | malbec1 | Linux (Ubuntu 18.04.5 LTS) / x86_64 | ERROR | ERROR | skipped | ||||||||
| Package: yriMulti | 
| Version: 0.20.0 | 
| Command: /home/biocbuild/bbs-3.12-bioc/R/bin/R CMD build --keep-empty-dirs --no-resave-data yriMulti | 
| StartedAt: 2021-05-06 11:34:02 -0400 (Thu, 06 May 2021) | 
| EndedAt: 2021-05-06 11:34:13 -0400 (Thu, 06 May 2021) | 
| EllapsedTime: 10.7 seconds | 
| RetCode: 1 | 
| Status: ERROR | 
| PackageFile: None | 
| PackageFileSize: NA | 
##############################################################################
##############################################################################
###
### Running command:
###
###   /home/biocbuild/bbs-3.12-bioc/R/bin/R CMD build --keep-empty-dirs --no-resave-data yriMulti
###
##############################################################################
##############################################################################
* checking for file ‘yriMulti/DESCRIPTION’ ... OK
* preparing ‘yriMulti’:
* checking DESCRIPTION meta-information ... OK
* installing the package to process help pages
      -----------------------------------
ERROR: dependency ‘gQTLBase’ is not available for package ‘yriMulti’
* removing ‘/tmp/RtmpOCU0Kl/Rinst378042d4b5eb/yriMulti’
      -----------------------------------
ERROR: package installation failed