| Back to Build/check report for BioC 3.12 experimental data | 
  | 
This page was generated on 2021-05-06 14:10:14 -0400 (Thu, 06 May 2021).
| 
To the developers/maintainers of the shinyMethylData package: Please make sure to use the following settings in order to reproduce any error or warning you see on this page.  | 
| Package 342/398 | Hostname | OS / Arch | INSTALL | BUILD | CHECK | ||||||||
| shinyMethylData 1.10.0  (landing page) Jean-Philippe Fortin 
  | malbec1 | Linux (Ubuntu 18.04.5 LTS) / x86_64 | OK | OK | OK | ||||||||
| Package: shinyMethylData | 
| Version: 1.10.0 | 
| Command: /home/biocbuild/bbs-3.12-bioc/R/bin/R CMD build --keep-empty-dirs --no-resave-data shinyMethylData | 
| StartedAt: 2021-05-06 11:24:20 -0400 (Thu, 06 May 2021) | 
| EndedAt: 2021-05-06 11:24:23 -0400 (Thu, 06 May 2021) | 
| EllapsedTime: 3.1 seconds | 
| RetCode: 0 | 
| Status: OK | 
| PackageFile: shinyMethylData_1.10.0.tar.gz | 
| PackageFileSize: 35.58 MiB | 
############################################################################## ############################################################################## ### ### Running command: ### ### /home/biocbuild/bbs-3.12-bioc/R/bin/R CMD build --keep-empty-dirs --no-resave-data shinyMethylData ### ############################################################################## ############################################################################## * checking for file ‘shinyMethylData/DESCRIPTION’ ... OK * preparing ‘shinyMethylData’: * checking DESCRIPTION meta-information ... OK * checking for LF line-endings in source and make files and shell scripts * checking for empty or unneeded directories * building ‘shinyMethylData_1.10.0.tar.gz’