| Back to Build/check report for BioC 3.12 experimental data | 
  | 
This page was generated on 2021-05-06 14:10:14 -0400 (Thu, 06 May 2021).
| 
To the developers/maintainers of the serumStimulation package: Please make sure to use the following settings in order to reproduce any error or warning you see on this page.  | 
| Package 339/398 | Hostname | OS / Arch | INSTALL | BUILD | CHECK | ||||||||
| serumStimulation 1.26.0  (landing page) Morten Hansen, 
  | malbec1 | Linux (Ubuntu 18.04.5 LTS) / x86_64 | OK | OK | OK | ||||||||
| Package: serumStimulation | 
| Version: 1.26.0 | 
| Command: /home/biocbuild/bbs-3.12-bioc/R/bin/R CMD build --keep-empty-dirs --no-resave-data serumStimulation | 
| StartedAt: 2021-05-06 11:23:53 -0400 (Thu, 06 May 2021) | 
| EndedAt: 2021-05-06 11:23:54 -0400 (Thu, 06 May 2021) | 
| EllapsedTime: 0.8 seconds | 
| RetCode: 0 | 
| Status: OK | 
| PackageFile: serumStimulation_1.26.0.tar.gz | 
| PackageFileSize: 4.041 MiB | 
############################################################################## ############################################################################## ### ### Running command: ### ### /home/biocbuild/bbs-3.12-bioc/R/bin/R CMD build --keep-empty-dirs --no-resave-data serumStimulation ### ############################################################################## ############################################################################## * checking for file ‘serumStimulation/DESCRIPTION’ ... OK * preparing ‘serumStimulation’: * checking DESCRIPTION meta-information ... OK * checking for LF line-endings in source and make files and shell scripts * checking for empty or unneeded directories * looking to see if a ‘data/datalist’ file should be added * building ‘serumStimulation_1.26.0.tar.gz’