| Back to Build/check report for BioC 3.12 experimental data | 
  | 
This page was generated on 2021-05-06 14:10:13 -0400 (Thu, 06 May 2021).
| 
To the developers/maintainers of the rRDPData package: Please make sure to use the following settings in order to reproduce any error or warning you see on this page.  | 
| Package 319/398 | Hostname | OS / Arch | INSTALL | BUILD | CHECK | ||||||||
| rRDPData 1.10.0  (landing page) Michael Hahsler 
  | malbec1 | Linux (Ubuntu 18.04.5 LTS) / x86_64 | OK | OK | OK | ||||||||
| Package: rRDPData | 
| Version: 1.10.0 | 
| Command: /home/biocbuild/bbs-3.12-bioc/R/bin/R CMD build --keep-empty-dirs --no-resave-data rRDPData | 
| StartedAt: 2021-05-06 11:17:49 -0400 (Thu, 06 May 2021) | 
| EndedAt: 2021-05-06 11:18:08 -0400 (Thu, 06 May 2021) | 
| EllapsedTime: 19.2 seconds | 
| RetCode: 0 | 
| Status: OK | 
| PackageFile: rRDPData_1.10.0.tar.gz | 
| PackageFileSize: 17.27 MiB | 
############################################################################## ############################################################################## ### ### Running command: ### ### /home/biocbuild/bbs-3.12-bioc/R/bin/R CMD build --keep-empty-dirs --no-resave-data rRDPData ### ############################################################################## ############################################################################## * checking for file ‘rRDPData/DESCRIPTION’ ... OK * preparing ‘rRDPData’: * checking DESCRIPTION meta-information ... OK * checking for LF line-endings in source and make files and shell scripts * checking for empty or unneeded directories * building ‘rRDPData_1.10.0.tar.gz’