| Back to Build/check report for BioC 3.12 experimental data | 
  | 
This page was generated on 2021-05-06 14:10:13 -0400 (Thu, 06 May 2021).
| 
To the developers/maintainers of the pwrEWAS.data package: Please make sure to use the following settings in order to reproduce any error or warning you see on this page.  | 
| Package 293/398 | Hostname | OS / Arch | INSTALL | BUILD | CHECK | ||||||||
| pwrEWAS.data 1.4.0  (landing page) Stefan Graw 
  | malbec1 | Linux (Ubuntu 18.04.5 LTS) / x86_64 | OK | OK | OK | ||||||||
| Package: pwrEWAS.data | 
| Version: 1.4.0 | 
| Command: /home/biocbuild/bbs-3.12-bioc/R/bin/R CMD build --keep-empty-dirs --no-resave-data pwrEWAS.data | 
| StartedAt: 2021-05-06 11:14:07 -0400 (Thu, 06 May 2021) | 
| EndedAt: 2021-05-06 11:14:11 -0400 (Thu, 06 May 2021) | 
| EllapsedTime: 3.7 seconds | 
| RetCode: 0 | 
| Status: OK | 
| PackageFile: pwrEWAS.data_1.4.0.tar.gz | 
| PackageFileSize: 144.8 KiB | 
############################################################################## ############################################################################## ### ### Running command: ### ### /home/biocbuild/bbs-3.12-bioc/R/bin/R CMD build --keep-empty-dirs --no-resave-data pwrEWAS.data ### ############################################################################## ############################################################################## * checking for file ‘pwrEWAS.data/DESCRIPTION’ ... OK * preparing ‘pwrEWAS.data’: * checking DESCRIPTION meta-information ... OK * installing the package to build vignettes * creating vignettes ... OK * checking for LF line-endings in source and make files and shell scripts * checking for empty or unneeded directories * building ‘pwrEWAS.data_1.4.0.tar.gz’