| Back to Build/check report for BioC 3.12 experimental data | 
  | 
This page was generated on 2021-05-06 14:10:11 -0400 (Thu, 06 May 2021).
| 
To the developers/maintainers of the mAPKLData package: Please make sure to use the following settings in order to reproduce any error or warning you see on this page.  | 
| Package 211/398 | Hostname | OS / Arch | INSTALL | BUILD | CHECK | ||||||||
| mAPKLData 1.22.0  (landing page) Argiris Sakellariou 
  | malbec1 | Linux (Ubuntu 18.04.5 LTS) / x86_64 | OK | OK | WARNINGS | ||||||||
| Package: mAPKLData | 
| Version: 1.22.0 | 
| Command: /home/biocbuild/bbs-3.12-bioc/R/bin/R CMD INSTALL mAPKLData | 
| StartedAt: 2021-05-06 09:53:17 -0400 (Thu, 06 May 2021) | 
| EndedAt: 2021-05-06 09:53:26 -0400 (Thu, 06 May 2021) | 
| EllapsedTime: 9.0 seconds | 
| RetCode: 0 | 
| Status: OK | 
############################################################################## ############################################################################## ### ### Running command: ### ### /home/biocbuild/bbs-3.12-bioc/R/bin/R CMD INSTALL mAPKLData ### ############################################################################## ############################################################################## * installing to library ‘/home/biocbuild/bbs-3.12-bioc/R/library’ * installing *source* package ‘mAPKLData’ ... ** using staged installation ** data ** help *** installing help indices ** building package indices ** installing vignettes ** testing if installed package can be loaded from temporary location ** testing if installed package can be loaded from final location ** testing if installed package keeps a record of temporary installation path * DONE (mAPKLData)