| Back to Build/check report for BioC 3.12 experimental data | 
  | 
This page was generated on 2021-05-06 14:10:07 -0400 (Thu, 06 May 2021).
| 
To the developers/maintainers of the curatedBreastData package: Please make sure to use the following settings in order to reproduce any error or warning you see on this page.  | 
| Package 83/398 | Hostname | OS / Arch | INSTALL | BUILD | CHECK | ||||||||
| curatedBreastData 2.18.0  (landing page) Katie Planey 
  | malbec1 | Linux (Ubuntu 18.04.5 LTS) / x86_64 | OK | OK | OK | ||||||||
| Package: curatedBreastData | 
| Version: 2.18.0 | 
| Command: /home/biocbuild/bbs-3.12-bioc/R/bin/R CMD check --install=check:curatedBreastData.install-out.txt --library=/home/biocbuild/bbs-3.12-bioc/R/library --no-vignettes --timings curatedBreastData_2.18.0.tar.gz | 
| StartedAt: 2021-05-06 11:49:30 -0400 (Thu, 06 May 2021) | 
| EndedAt: 2021-05-06 11:54:56 -0400 (Thu, 06 May 2021) | 
| EllapsedTime: 325.2 seconds | 
| RetCode: 0 | 
| Status: OK | 
| CheckDir: curatedBreastData.Rcheck | 
| Warnings: 0 | 
##############################################################################
##############################################################################
###
### Running command:
###
###   /home/biocbuild/bbs-3.12-bioc/R/bin/R CMD check --install=check:curatedBreastData.install-out.txt --library=/home/biocbuild/bbs-3.12-bioc/R/library --no-vignettes --timings curatedBreastData_2.18.0.tar.gz
###
##############################################################################
##############################################################################
* using log directory ‘/home/biocbuild/bbs-3.12-data-experiment/meat/curatedBreastData.Rcheck’
* using R version 4.0.5 (2021-03-31)
* using platform: x86_64-pc-linux-gnu (64-bit)
* using session charset: UTF-8
* using option ‘--no-vignettes’
* checking for file ‘curatedBreastData/DESCRIPTION’ ... OK
* checking extension type ... Package
* this is package ‘curatedBreastData’ version ‘2.18.0’
* checking package namespace information ... OK
* checking package dependencies ... OK
* checking if this is a source package ... OK
* checking if there is a namespace ... OK
* checking for hidden files and directories ... OK
* checking for portable file names ... OK
* checking for sufficient/correct file permissions ... OK
* checking whether package ‘curatedBreastData’ can be installed ... OK
* checking installed package size ... NOTE
  installed size is 282.8Mb
  sub-directories of 1Mb or more:
    data  282.7Mb
* checking package directory ... OK
* checking ‘build’ directory ... OK
* checking DESCRIPTION meta-information ... OK
* checking top-level files ... OK
* checking for left-over files ... OK
* checking index information ... OK
* checking package subdirectories ... OK
* checking R files for non-ASCII characters ... OK
* checking R files for syntax errors ... OK
* checking whether the package can be loaded ... OK
* checking whether the package can be loaded with stated dependencies ... OK
* checking whether the package can be unloaded cleanly ... OK
* checking whether the namespace can be loaded with stated dependencies ... OK
* checking whether the namespace can be unloaded cleanly ... OK
* checking dependencies in R code ... OK
* checking S3 generic/method consistency ... OK
* checking replacement functions ... OK
* checking foreign function calls ... OK
* checking R code for possible problems ... OK
* checking Rd files ... OK
* checking Rd metadata ... OK
* checking Rd cross-references ... OK
* checking for missing documentation entries ... OK
* checking for code/documentation mismatches ... OK
* checking Rd \usage sections ... OK
* checking Rd contents ... OK
* checking for unstated dependencies in examples ... OK
* checking contents of ‘data’ directory ... OK
* checking data for non-ASCII characters ... OK
* checking data for ASCII and uncompressed saves ... OK
* checking files in ‘vignettes’ ... OK
* checking examples ... OK
Examples with CPU (user + system) or elapsed time > 5s
                               user system elapsed
collapseDupProbes            59.544  0.496  60.105
processExpressionSet         33.400  0.236  33.663
filterAndImputeSamples       30.860  0.524  31.411
filterGenesByVariance        28.548  0.196  28.768
curatedBreastDataExprSetList 27.980  0.328  28.329
removeDuplicatedPatients     28.016  0.248  28.287
* checking for unstated dependencies in vignettes ... OK
* checking package vignettes in ‘inst/doc’ ... OK
* checking running R code from vignettes ... SKIPPED
* checking re-building of vignette outputs ... SKIPPED
* checking PDF version of manual ... OK
* DONE
Status: 1 NOTE
See
  ‘/home/biocbuild/bbs-3.12-data-experiment/meat/curatedBreastData.Rcheck/00check.log’
for details.
curatedBreastData.Rcheck/00install.out
############################################################################## ############################################################################## ### ### Running command: ### ### /home/biocbuild/bbs-3.12-bioc/R/bin/R CMD INSTALL curatedBreastData ### ############################################################################## ############################################################################## * installing to library ‘/home/biocbuild/bbs-3.12-bioc/R/library’ * installing *source* package ‘curatedBreastData’ ... ** using staged installation ** R ** data ** inst ** byte-compile and prepare package for lazy loading ** help *** installing help indices ** building package indices ** installing vignettes ** testing if installed package can be loaded from temporary location ** testing if installed package can be loaded from final location ** testing if installed package keeps a record of temporary installation path * DONE (curatedBreastData)
curatedBreastData.Rcheck/curatedBreastData-Ex.timings
| name | user | system | elapsed | |
| clinicalData | 0.056 | 0.000 | 0.056 | |
| collapseDupProbes | 59.544 | 0.496 | 60.105 | |
| curatedBreastData-package | 0 | 0 | 0 | |
| curatedBreastDataExprSetList | 27.980 | 0.328 | 28.329 | |
| filterAndImputeSamples | 30.860 | 0.524 | 31.411 | |
| filterGenesByVariance | 28.548 | 0.196 | 28.768 | |
| processExpressionSet | 33.400 | 0.236 | 33.663 | |
| processExpressionSetList | 0.000 | 0.000 | 0.001 | |
| removeDuplicatedPatients | 28.016 | 0.248 | 28.287 | |