| Back to Build/check report for BioC 3.12 experimental data | 
  | 
This page was generated on 2021-05-06 14:10:14 -0400 (Thu, 06 May 2021).
| 
To the developers/maintainers of the SomatiCAData package: Please make sure to use the following settings in order to reproduce any error or warning you see on this page.  | 
| Package 350/398 | Hostname | OS / Arch | INSTALL | BUILD | CHECK | ||||||||
| SomatiCAData 1.28.0  (landing page) Mengjie Chen 
  | malbec1 | Linux (Ubuntu 18.04.5 LTS) / x86_64 | OK | OK | WARNINGS | ||||||||
| Package: SomatiCAData | 
| Version: 1.28.0 | 
| Command: /home/biocbuild/bbs-3.12-bioc/R/bin/R CMD build --keep-empty-dirs --no-resave-data SomatiCAData | 
| StartedAt: 2021-05-06 11:25:27 -0400 (Thu, 06 May 2021) | 
| EndedAt: 2021-05-06 11:25:33 -0400 (Thu, 06 May 2021) | 
| EllapsedTime: 6.1 seconds | 
| RetCode: 0 | 
| Status: OK | 
| PackageFile: SomatiCAData_1.28.0.tar.gz | 
| PackageFileSize: 32.14 MiB | 
############################################################################## ############################################################################## ### ### Running command: ### ### /home/biocbuild/bbs-3.12-bioc/R/bin/R CMD build --keep-empty-dirs --no-resave-data SomatiCAData ### ############################################################################## ############################################################################## * checking for file ‘SomatiCAData/DESCRIPTION’ ... OK * preparing ‘SomatiCAData’: * checking DESCRIPTION meta-information ... OK * checking for LF line-endings in source and make files and shell scripts * checking for empty or unneeded directories * building ‘SomatiCAData_1.28.0.tar.gz’