| Back to Build/check report for BioC 3.12 experimental data | 
  | 
This page was generated on 2021-05-06 14:10:13 -0400 (Thu, 06 May 2021).
| 
To the developers/maintainers of the RnBeads.hg19 package: Please make sure to use the following settings in order to reproduce any error or warning you see on this page.  | 
| Package 313/398 | Hostname | OS / Arch | INSTALL | BUILD | CHECK | ||||||||
| RnBeads.hg19 1.22.0  (landing page) RnBeadsAnnotationCreator 
  | malbec1 | Linux (Ubuntu 18.04.5 LTS) / x86_64 | OK | OK | WARNINGS | ||||||||
| Package: RnBeads.hg19 | 
| Version: 1.22.0 | 
| Command: /home/biocbuild/bbs-3.12-bioc/R/bin/R CMD build --keep-empty-dirs --no-resave-data RnBeads.hg19 | 
| StartedAt: 2021-05-06 11:17:19 -0400 (Thu, 06 May 2021) | 
| EndedAt: 2021-05-06 11:17:28 -0400 (Thu, 06 May 2021) | 
| EllapsedTime: 8.5 seconds | 
| RetCode: 0 | 
| Status: OK | 
| PackageFile: RnBeads.hg19_1.22.0.tar.gz | 
| PackageFileSize: 100.1 MiB | 
############################################################################## ############################################################################## ### ### Running command: ### ### /home/biocbuild/bbs-3.12-bioc/R/bin/R CMD build --keep-empty-dirs --no-resave-data RnBeads.hg19 ### ############################################################################## ############################################################################## * checking for file ‘RnBeads.hg19/DESCRIPTION’ ... OK * preparing ‘RnBeads.hg19’: * checking DESCRIPTION meta-information ... OK * checking for LF line-endings in source and make files and shell scripts * checking for empty or unneeded directories * looking to see if a ‘data/datalist’ file should be added * building ‘RnBeads.hg19_1.22.0.tar.gz’