| Back to Build/check report for BioC 3.12 experimental data | 
  | 
This page was generated on 2021-05-06 14:10:13 -0400 (Thu, 06 May 2021).
| 
To the developers/maintainers of the PtH2O2lipids package: Please make sure to use the following settings in order to reproduce any error or warning you see on this page.  | 
| Package 288/398 | Hostname | OS / Arch | INSTALL | BUILD | CHECK | ||||||||
| PtH2O2lipids 1.16.0  (landing page) James Collins 
  | malbec1 | Linux (Ubuntu 18.04.5 LTS) / x86_64 | OK | OK | WARNINGS | ||||||||
| Package: PtH2O2lipids | 
| Version: 1.16.0 | 
| Command: /home/biocbuild/bbs-3.12-bioc/R/bin/R CMD build --keep-empty-dirs --no-resave-data PtH2O2lipids | 
| StartedAt: 2021-05-06 11:14:00 -0400 (Thu, 06 May 2021) | 
| EndedAt: 2021-05-06 11:14:02 -0400 (Thu, 06 May 2021) | 
| EllapsedTime: 1.7 seconds | 
| RetCode: 0 | 
| Status: OK | 
| PackageFile: PtH2O2lipids_1.16.0.tar.gz | 
| PackageFileSize: 15.48 MiB | 
############################################################################## ############################################################################## ### ### Running command: ### ### /home/biocbuild/bbs-3.12-bioc/R/bin/R CMD build --keep-empty-dirs --no-resave-data PtH2O2lipids ### ############################################################################## ############################################################################## * checking for file ‘PtH2O2lipids/DESCRIPTION’ ... OK * preparing ‘PtH2O2lipids’: * checking DESCRIPTION meta-information ... OK * checking for LF line-endings in source and make files and shell scripts * checking for empty or unneeded directories * looking to see if a ‘data/datalist’ file should be added * building ‘PtH2O2lipids_1.16.0.tar.gz’