| Back to Build/check report for BioC 3.12 experimental data | 
  | 
This page was generated on 2021-05-06 14:10:11 -0400 (Thu, 06 May 2021).
| 
To the developers/maintainers of the Iyer517 package: Please make sure to use the following settings in order to reproduce any error or warning you see on this page.  | 
| Package 191/398 | Hostname | OS / Arch | INSTALL | BUILD | CHECK | ||||||||
| Iyer517 1.32.0  (landing page) Vince Carey 
  | malbec1 | Linux (Ubuntu 18.04.5 LTS) / x86_64 | OK | OK | OK | ||||||||
| Package: Iyer517 | 
| Version: 1.32.0 | 
| Command: /home/biocbuild/bbs-3.12-bioc/R/bin/R CMD build --keep-empty-dirs --no-resave-data Iyer517 | 
| StartedAt: 2021-05-06 11:00:51 -0400 (Thu, 06 May 2021) | 
| EndedAt: 2021-05-06 11:00:57 -0400 (Thu, 06 May 2021) | 
| EllapsedTime: 5.7 seconds | 
| RetCode: 0 | 
| Status: OK | 
| PackageFile: Iyer517_1.32.0.tar.gz | 
| PackageFileSize: 248.5 KiB | 
############################################################################## ############################################################################## ### ### Running command: ### ### /home/biocbuild/bbs-3.12-bioc/R/bin/R CMD build --keep-empty-dirs --no-resave-data Iyer517 ### ############################################################################## ############################################################################## * checking for file ‘Iyer517/DESCRIPTION’ ... OK * preparing ‘Iyer517’: * checking DESCRIPTION meta-information ... OK * installing the package to build vignettes * creating vignettes ... OK * checking for LF line-endings in source and make files and shell scripts * checking for empty or unneeded directories * looking to see if a ‘data/datalist’ file should be added * building ‘Iyer517_1.32.0.tar.gz’