| Back to Build/check report for BioC 3.12 experimental data | 
  | 
This page was generated on 2021-05-06 14:10:09 -0400 (Thu, 06 May 2021).
| 
To the developers/maintainers of the GeuvadisTranscriptExpr package: Please make sure to use the following settings in order to reproduce any error or warning you see on this page.  | 
| Package 143/398 | Hostname | OS / Arch | INSTALL | BUILD | CHECK | ||||||||
| GeuvadisTranscriptExpr 1.18.0  (landing page) Malgorzata Nowicka 
  | malbec1 | Linux (Ubuntu 18.04.5 LTS) / x86_64 | OK | OK | OK | ||||||||
| Package: GeuvadisTranscriptExpr | 
| Version: 1.18.0 | 
| Command: /home/biocbuild/bbs-3.12-bioc/R/bin/R CMD INSTALL GeuvadisTranscriptExpr | 
| StartedAt: 2021-05-06 09:52:04 -0400 (Thu, 06 May 2021) | 
| EndedAt: 2021-05-06 09:52:14 -0400 (Thu, 06 May 2021) | 
| EllapsedTime: 10.0 seconds | 
| RetCode: 0 | 
| Status: OK | 
############################################################################## ############################################################################## ### ### Running command: ### ### /home/biocbuild/bbs-3.12-bioc/R/bin/R CMD INSTALL GeuvadisTranscriptExpr ### ############################################################################## ############################################################################## * installing to library ‘/home/biocbuild/bbs-3.12-bioc/R/library’ * installing *source* package ‘GeuvadisTranscriptExpr’ ... ** using staged installation ** R ** data *** moving datasets to lazyload DB ** inst ** byte-compile and prepare package for lazy loading ** help *** installing help indices ** building package indices ** installing vignettes ** testing if installed package can be loaded from temporary location ** testing if installed package can be loaded from final location ** testing if installed package keeps a record of temporary installation path * DONE (GeuvadisTranscriptExpr)