| Back to Build/check report for BioC 3.12 experimental data | 
  | 
This page was generated on 2021-05-06 14:10:05 -0400 (Thu, 06 May 2021).
| 
To the developers/maintainers of the Affyhgu133Plus2Expr package: Please make sure to use the following settings in order to reproduce any error or warning you see on this page.  | 
| Package 7/398 | Hostname | OS / Arch | INSTALL | BUILD | CHECK | ||||||||
| Affyhgu133Plus2Expr 1.24.0  (landing page) Zhicheng Ji 
  | malbec1 | Linux (Ubuntu 18.04.5 LTS) / x86_64 | OK | OK | OK | ||||||||
| Package: Affyhgu133Plus2Expr | 
| Version: 1.24.0 | 
| Command: /home/biocbuild/bbs-3.12-bioc/R/bin/R CMD build --keep-empty-dirs --no-resave-data Affyhgu133Plus2Expr | 
| StartedAt: 2021-05-06 10:19:01 -0400 (Thu, 06 May 2021) | 
| EndedAt: 2021-05-06 10:19:23 -0400 (Thu, 06 May 2021) | 
| EllapsedTime: 22.0 seconds | 
| RetCode: 0 | 
| Status: OK | 
| PackageFile: Affyhgu133Plus2Expr_1.24.0.tar.gz | 
| PackageFileSize: 224.4 MiB | 
############################################################################## ############################################################################## ### ### Running command: ### ### /home/biocbuild/bbs-3.12-bioc/R/bin/R CMD build --keep-empty-dirs --no-resave-data Affyhgu133Plus2Expr ### ############################################################################## ############################################################################## * checking for file ‘Affyhgu133Plus2Expr/DESCRIPTION’ ... OK * preparing ‘Affyhgu133Plus2Expr’: * checking DESCRIPTION meta-information ... OK * checking for LF line-endings in source and make files and shell scripts * checking for empty or unneeded directories * looking to see if a ‘data/datalist’ file should be added * building ‘Affyhgu133Plus2Expr_1.24.0.tar.gz’