| Back to Build/check report for BioC 3.12 experimental data | 
  | 
This page was generated on 2021-05-06 14:10:05 -0400 (Thu, 06 May 2021).
| 
To the developers/maintainers of the ARRmData package: Please make sure to use the following settings in order to reproduce any error or warning you see on this page.  | 
| Package 18/398 | Hostname | OS / Arch | INSTALL | BUILD | CHECK | ||||||||
| ARRmData 1.26.0  (landing page) Jean-Philippe Fortin 
  | malbec1 | Linux (Ubuntu 18.04.5 LTS) / x86_64 | OK | OK | OK | ||||||||
| Package: ARRmData | 
| Version: 1.26.0 | 
| Command: /home/biocbuild/bbs-3.12-bioc/R/bin/R CMD INSTALL ARRmData | 
| StartedAt: 2021-05-06 09:56:04 -0400 (Thu, 06 May 2021) | 
| EndedAt: 2021-05-06 09:56:08 -0400 (Thu, 06 May 2021) | 
| EllapsedTime: 4.2 seconds | 
| RetCode: 0 | 
| Status: OK | 
############################################################################## ############################################################################## ### ### Running command: ### ### /home/biocbuild/bbs-3.12-bioc/R/bin/R CMD INSTALL ARRmData ### ############################################################################## ############################################################################## * installing to library ‘/home/biocbuild/bbs-3.12-bioc/R/library’ * installing *source* package ‘ARRmData’ ... ** using staged installation ** data ** help *** installing help indices ** building package indices ** testing if installed package can be loaded from temporary location ** testing if installed package can be loaded from final location ** testing if installed package keeps a record of temporary installation path * DONE (ARRmData)