| Back to Build/check report for BioC 3.12 experimental data |
|
This page was generated on 2021-05-06 14:10:05 -0400 (Thu, 06 May 2021).
|
To the developers/maintainers of the affydata package: Please make sure to use the following settings in order to reproduce any error or warning you see on this page. |
| Package 4/398 | Hostname | OS / Arch | INSTALL | BUILD | CHECK | ||||||||
| affydata 1.38.0 (landing page) Harris Jaffee
| malbec1 | Linux (Ubuntu 18.04.5 LTS) / x86_64 | OK | OK | WARNINGS | ||||||||
| Package: affydata |
| Version: 1.38.0 |
| Command: /home/biocbuild/bbs-3.12-bioc/R/bin/R CMD INSTALL affydata |
| StartedAt: 2021-05-06 09:57:39 -0400 (Thu, 06 May 2021) |
| EndedAt: 2021-05-06 09:57:46 -0400 (Thu, 06 May 2021) |
| EllapsedTime: 6.8 seconds |
| RetCode: 0 |
| Status: OK |
##############################################################################
##############################################################################
###
### Running command:
###
### /home/biocbuild/bbs-3.12-bioc/R/bin/R CMD INSTALL affydata
###
##############################################################################
##############################################################################
* installing to library ‘/home/biocbuild/bbs-3.12-bioc/R/library’
* installing *source* package ‘affydata’ ...
** using staged installation
** R
** data
** inst
** byte-compile and prepare package for lazy loading
** help
*** installing help indices
** building package indices
** installing vignettes
** testing if installed package can be loaded from temporary location
Package LibPath
[1,] "affydata" "/home/biocbuild/bbs-3.12-bioc/R/library/00LOCK-affydata/00new"
Item Title
[1,] "Dilution" "AffyBatch instance Dilution"
** testing if installed package can be loaded from final location
Package LibPath Item
[1,] "affydata" "/home/biocbuild/bbs-3.12-bioc/R/library" "Dilution"
Title
[1,] "AffyBatch instance Dilution"
** testing if installed package keeps a record of temporary installation path
* DONE (affydata)