| Back to Multiple platform build/check report for BioC 3.12 |
|
This page was generated on 2021-05-06 12:34:14 -0400 (Thu, 06 May 2021).
|
To the developers/maintainers of the zellkonverter package: Please make sure to use the following settings in order to reproduce any error or warning you see on this page. |
| Package 1971/1974 | Hostname | OS / Arch | INSTALL | BUILD | CHECK | BUILD BIN | ||||||||
| zellkonverter 1.0.3 (landing page) Luke Zappia
| malbec1 | Linux (Ubuntu 18.04.5 LTS) / x86_64 | OK | OK | OK | |||||||||
| tokay1 | Windows Server 2012 R2 Standard / x64 | OK | OK | OK | OK | |||||||||
| merida1 | macOS 10.14.6 Mojave / x86_64 | OK | OK | OK | OK | |||||||||
| Package: zellkonverter |
| Version: 1.0.3 |
| Command: C:\Users\biocbuild\bbs-3.12-bioc\R\bin\R.exe --arch x64 CMD INSTALL --no-multiarch zellkonverter |
| StartedAt: 2021-05-05 17:48:59 -0400 (Wed, 05 May 2021) |
| EndedAt: 2021-05-05 17:49:27 -0400 (Wed, 05 May 2021) |
| EllapsedTime: 28.5 seconds |
| RetCode: 0 |
| Status: OK |
##############################################################################
##############################################################################
###
### Running command:
###
### C:\Users\biocbuild\bbs-3.12-bioc\R\bin\R.exe --arch x64 CMD INSTALL --no-multiarch zellkonverter
###
##############################################################################
##############################################################################
* installing to library 'C:/Users/biocbuild/bbs-3.12-bioc/R/library'
* installing *source* package 'zellkonverter' ...
** using non-staged installation via StagedInstall field
** R
** inst
** byte-compile and prepare package for lazy loading
** help
*** installing help indices
converting help for package 'zellkonverter'
finding HTML links ... done
AnnData-Conversion html
finding level-2 HTML links ... done
AnnDataDependencies html
readH5AD html
writeH5AD html
zellkonverter-package html
*** copying figures
** building package indices
** installing vignettes
** testing if installed package can be loaded
* DONE (zellkonverter)
Making 'packages.html' ... done