| Back to Multiple platform build/check report for BioC 3.12 |
|
This page was generated on 2021-05-06 12:34:11 -0400 (Thu, 06 May 2021).
|
To the developers/maintainers of the vulcan package: Please make sure to use the following settings in order to reproduce any error or warning you see on this page. |
| Package 1947/1974 | Hostname | OS / Arch | INSTALL | BUILD | CHECK | BUILD BIN | ||||||||
| vulcan 1.12.0 (landing page) Federico M. Giorgi
| malbec1 | Linux (Ubuntu 18.04.5 LTS) / x86_64 | OK | OK | OK | |||||||||
| tokay1 | Windows Server 2012 R2 Standard / x64 | OK | OK | OK | OK | |||||||||
| merida1 | macOS 10.14.6 Mojave / x86_64 | OK | OK | OK | OK | |||||||||
| Package: vulcan |
| Version: 1.12.0 |
| Command: C:\cygwin\bin\curl.exe -O http://172.29.0.3/BBS/3.12/bioc/src/contrib/vulcan_1.12.0.tar.gz && rm -rf vulcan.buildbin-libdir && mkdir vulcan.buildbin-libdir && C:\Users\biocbuild\bbs-3.12-bioc\R\bin\R.exe CMD INSTALL --merge-multiarch --build --library=vulcan.buildbin-libdir vulcan_1.12.0.tar.gz && C:\Users\biocbuild\bbs-3.12-bioc\R\bin\R.exe CMD INSTALL vulcan_1.12.0.zip && rm vulcan_1.12.0.tar.gz vulcan_1.12.0.zip |
| StartedAt: 2021-05-05 19:16:03 -0400 (Wed, 05 May 2021) |
| EndedAt: 2021-05-05 19:17:43 -0400 (Wed, 05 May 2021) |
| EllapsedTime: 99.1 seconds |
| RetCode: 0 |
| Status: OK |
##############################################################################
##############################################################################
###
### Running command:
###
### C:\cygwin\bin\curl.exe -O http://172.29.0.3/BBS/3.12/bioc/src/contrib/vulcan_1.12.0.tar.gz && rm -rf vulcan.buildbin-libdir && mkdir vulcan.buildbin-libdir && C:\Users\biocbuild\bbs-3.12-bioc\R\bin\R.exe CMD INSTALL --merge-multiarch --build --library=vulcan.buildbin-libdir vulcan_1.12.0.tar.gz && C:\Users\biocbuild\bbs-3.12-bioc\R\bin\R.exe CMD INSTALL vulcan_1.12.0.zip && rm vulcan_1.12.0.tar.gz vulcan_1.12.0.zip
###
##############################################################################
##############################################################################
% Total % Received % Xferd Average Speed Time Time Time Current
Dload Upload Total Spent Left Speed
0 0 0 0 0 0 0 0 --:--:-- --:--:-- --:--:-- 0
100 143k 100 143k 0 0 10.0M 0 --:--:-- --:--:-- --:--:-- 10.8M
install for i386
* installing *source* package 'vulcan' ...
** using staged installation
** R
** inst
** byte-compile and prepare package for lazy loading
** help
*** installing help indices
converting help for package 'vulcan'
finding HTML links ... done
average_fragment_length html
corr2p html
densityauc html
dpareto html
fisherp html
gsea html
kmgformat html
null_gsea html
p2corr html
p2z html
pareto.fit html
plot_gsea html
ppareto html
rea html
slice html
stouffer html
textplot2 html
val2col html
vulcan html
vulcan.annotate html
vulcan.import html
vulcan.normalize html
vulcan.pathways html
wstouffer html
z2p html
** building package indices
** installing vignettes
** testing if installed package can be loaded from temporary location
** testing if installed package can be loaded from final location
** testing if installed package keeps a record of temporary installation path
install for x64
* installing *source* package 'vulcan' ...
** testing if installed package can be loaded
* MD5 sums
packaged installation of 'vulcan' as vulcan_1.12.0.zip
* DONE (vulcan)
* installing to library 'C:/Users/biocbuild/bbs-3.12-bioc/R/library'
package 'vulcan' successfully unpacked and MD5 sums checked