| Back to Multiple platform build/check report for BioC 3.12 |
|
This page was generated on 2021-05-06 12:34:06 -0400 (Thu, 06 May 2021).
|
To the developers/maintainers of the tximport package: Please make sure to use the following settings in order to reproduce any error or warning you see on this page. |
| Package 1916/1974 | Hostname | OS / Arch | INSTALL | BUILD | CHECK | BUILD BIN | ||||||||
| tximport 1.18.0 (landing page) Michael Love
| malbec1 | Linux (Ubuntu 18.04.5 LTS) / x86_64 | OK | OK | OK | |||||||||
| tokay1 | Windows Server 2012 R2 Standard / x64 | OK | OK | OK | OK | |||||||||
| merida1 | macOS 10.14.6 Mojave / x86_64 | OK | OK | OK | OK | |||||||||
| Package: tximport |
| Version: 1.18.0 |
| Command: C:\cygwin\bin\curl.exe -O http://172.29.0.3/BBS/3.12/bioc/src/contrib/tximport_1.18.0.tar.gz && rm -rf tximport.buildbin-libdir && mkdir tximport.buildbin-libdir && C:\Users\biocbuild\bbs-3.12-bioc\R\bin\R.exe CMD INSTALL --merge-multiarch --build --library=tximport.buildbin-libdir tximport_1.18.0.tar.gz && C:\Users\biocbuild\bbs-3.12-bioc\R\bin\R.exe CMD INSTALL tximport_1.18.0.zip && rm tximport_1.18.0.tar.gz tximport_1.18.0.zip |
| StartedAt: 2021-05-05 16:47:43 -0400 (Wed, 05 May 2021) |
| EndedAt: 2021-05-05 16:48:22 -0400 (Wed, 05 May 2021) |
| EllapsedTime: 39.6 seconds |
| RetCode: 0 |
| Status: OK |
##############################################################################
##############################################################################
###
### Running command:
###
### C:\cygwin\bin\curl.exe -O http://172.29.0.3/BBS/3.12/bioc/src/contrib/tximport_1.18.0.tar.gz && rm -rf tximport.buildbin-libdir && mkdir tximport.buildbin-libdir && C:\Users\biocbuild\bbs-3.12-bioc\R\bin\R.exe CMD INSTALL --merge-multiarch --build --library=tximport.buildbin-libdir tximport_1.18.0.tar.gz && C:\Users\biocbuild\bbs-3.12-bioc\R\bin\R.exe CMD INSTALL tximport_1.18.0.zip && rm tximport_1.18.0.tar.gz tximport_1.18.0.zip
###
##############################################################################
##############################################################################
% Total % Received % Xferd Average Speed Time Time Time Current
Dload Upload Total Spent Left Speed
0 0 0 0 0 0 0 0 --:--:-- --:--:-- --:--:-- 0
100 35412 100 35412 0 0 2448k 0 --:--:-- --:--:-- --:--:-- 2660k
install for i386
* installing *source* package 'tximport' ...
** using staged installation
** R
** inst
** byte-compile and prepare package for lazy loading
** help
*** installing help indices
converting help for package 'tximport'
finding HTML links ... done
makeCountsFromAbundance html
summarizeToGene html
tximport-package html
tximport html
** building package indices
** installing vignettes
** testing if installed package can be loaded from temporary location
** testing if installed package can be loaded from final location
** testing if installed package keeps a record of temporary installation path
install for x64
* installing *source* package 'tximport' ...
** testing if installed package can be loaded
* MD5 sums
packaged installation of 'tximport' as tximport_1.18.0.zip
* DONE (tximport)
* installing to library 'C:/Users/biocbuild/bbs-3.12-bioc/R/library'
package 'tximport' successfully unpacked and MD5 sums checked