| Back to Multiple platform build/check report for BioC 3.12 |
|
This page was generated on 2021-05-06 12:37:16 -0400 (Thu, 06 May 2021).
|
To the developers/maintainers of the trio package: Please make sure to use the following settings in order to reproduce any error or warning you see on this page. |
| Package 1899/1974 | Hostname | OS / Arch | INSTALL | BUILD | CHECK | BUILD BIN | ||||||||
| trio 3.28.0 (landing page) Holger Schwender
| malbec1 | Linux (Ubuntu 18.04.5 LTS) / x86_64 | OK | OK | OK | |||||||||
| tokay1 | Windows Server 2012 R2 Standard / x64 | OK | OK | OK | OK | |||||||||
| merida1 | macOS 10.14.6 Mojave / x86_64 | OK | OK | OK | OK | |||||||||
| Package: trio |
| Version: 3.28.0 |
| Command: /Library/Frameworks/R.framework/Versions/Current/Resources/bin/R CMD check --install=check:trio.install-out.txt --library=/Library/Frameworks/R.framework/Versions/Current/Resources/library --no-vignettes --timings trio_3.28.0.tar.gz |
| StartedAt: 2021-05-06 07:02:50 -0400 (Thu, 06 May 2021) |
| EndedAt: 2021-05-06 07:06:37 -0400 (Thu, 06 May 2021) |
| EllapsedTime: 226.9 seconds |
| RetCode: 0 |
| Status: OK |
| CheckDir: trio.Rcheck |
| Warnings: 0 |
##############################################################################
##############################################################################
###
### Running command:
###
### /Library/Frameworks/R.framework/Versions/Current/Resources/bin/R CMD check --install=check:trio.install-out.txt --library=/Library/Frameworks/R.framework/Versions/Current/Resources/library --no-vignettes --timings trio_3.28.0.tar.gz
###
##############################################################################
##############################################################################
* using log directory ‘/Users/biocbuild/bbs-3.12-bioc/meat/trio.Rcheck’
* using R version 4.0.5 (2021-03-31)
* using platform: x86_64-apple-darwin17.0 (64-bit)
* using session charset: UTF-8
* using option ‘--no-vignettes’
* checking for file ‘trio/DESCRIPTION’ ... OK
* checking extension type ... Package
* this is package ‘trio’ version ‘3.28.0’
* checking package namespace information ... OK
* checking package dependencies ... OK
* checking if this is a source package ... OK
* checking if there is a namespace ... OK
* checking for hidden files and directories ... OK
* checking for portable file names ... OK
* checking for sufficient/correct file permissions ... OK
* checking whether package ‘trio’ can be installed ... OK
* checking installed package size ... OK
* checking package directory ... OK
* checking ‘build’ directory ... OK
* checking DESCRIPTION meta-information ... OK
* checking top-level files ... OK
* checking for left-over files ... OK
* checking index information ... OK
* checking package subdirectories ... OK
* checking R files for non-ASCII characters ... OK
* checking R files for syntax errors ... OK
* checking whether the package can be loaded ... OK
* checking whether the package can be loaded with stated dependencies ... OK
* checking whether the package can be unloaded cleanly ... OK
* checking whether the namespace can be loaded with stated dependencies ... OK
* checking whether the namespace can be unloaded cleanly ... OK
* checking dependencies in R code ... OK
* checking S3 generic/method consistency ... OK
* checking replacement functions ... OK
* checking foreign function calls ... NOTE
Foreign function call to a different package:
.C("clogreg", ..., PACKAGE = "LogicReg")
See chapter ‘System and foreign language interfaces’ in the ‘Writing R
Extensions’ manual.
* checking R code for possible problems ... OK
* checking Rd files ... OK
* checking Rd metadata ... OK
* checking Rd cross-references ... OK
* checking for missing documentation entries ... OK
* checking for code/documentation mismatches ... OK
* checking Rd \usage sections ... OK
* checking Rd contents ... OK
* checking for unstated dependencies in examples ... OK
* checking contents of ‘data’ directory ... OK
* checking data for non-ASCII characters ... OK
* checking data for ASCII and uncompressed saves ... OK
* checking sizes of PDF files under ‘inst/doc’ ... OK
* checking installed files from ‘inst/doc’ ... OK
* checking files in ‘vignettes’ ... OK
* checking examples ... OK
Examples with CPU (user + system) or elapsed time > 5s
user system elapsed
colGxGPerms 7.333 0.151 7.493
trioFS 7.120 0.029 7.155
trio.permTest 6.622 0.025 6.657
print.trioFS 6.539 0.055 6.601
plot.trioLR 5.839 0.132 5.980
* checking for unstated dependencies in vignettes ... OK
* checking package vignettes in ‘inst/doc’ ... OK
* checking running R code from vignettes ... SKIPPED
* checking re-building of vignette outputs ... SKIPPED
* checking PDF version of manual ... OK
* DONE
Status: 1 NOTE
See
‘/Users/biocbuild/bbs-3.12-bioc/meat/trio.Rcheck/00check.log’
for details.
trio.Rcheck/00install.out
############################################################################## ############################################################################## ### ### Running command: ### ### /Library/Frameworks/R.framework/Versions/Current/Resources/bin/R CMD INSTALL trio ### ############################################################################## ############################################################################## * installing to library ‘/Library/Frameworks/R.framework/Versions/4.0/Resources/library’ * installing *source* package ‘trio’ ... ** using staged installation ** R ** data ** inst ** byte-compile and prepare package for lazy loading ** help *** installing help indices ** building package indices ** installing vignettes ‘trio.Rnw’ ** testing if installed package can be loaded from temporary location ** testing if installed package can be loaded from final location ** testing if installed package keeps a record of temporary installation path * DONE (trio)
trio.Rcheck/trio-Ex.timings
| name | user | system | elapsed | |
| allelicTDT | 0.037 | 0.004 | 0.041 | |
| colEMlrt | 0.154 | 0.005 | 0.160 | |
| colGxE | 0.010 | 0.002 | 0.011 | |
| colGxGPerms | 7.333 | 0.151 | 7.493 | |
| colPOlrt | 0.022 | 0.002 | 0.025 | |
| colTDTmaxTest | 0.058 | 0.006 | 0.065 | |
| colTDTsam | 0.045 | 0.002 | 0.047 | |
| findLDblocks | 0.028 | 0.002 | 0.032 | |
| getLD | 0.031 | 0.004 | 0.035 | |
| getMatPseudo | 0.009 | 0.001 | 0.010 | |
| lrControl | 0 | 0 | 0 | |
| ped2geno | 0 | 0 | 0 | |
| plot.LDblocks | 0.070 | 0.003 | 0.075 | |
| plot.getLD | 0.043 | 0.006 | 0.050 | |
| plot.trioLR | 5.839 | 0.132 | 5.980 | |
| poly4root | 0.001 | 0.000 | 0.001 | |
| print.colGxE | 0.086 | 0.008 | 0.093 | |
| print.trioFS | 6.539 | 0.055 | 6.601 | |
| print.trioLR | 3.480 | 0.031 | 3.521 | |
| probTDT | 0.067 | 0.025 | 0.093 | |
| read.pedfile | 0.000 | 0.000 | 0.001 | |
| removeSNPs | 0.008 | 0.001 | 0.009 | |
| scoreTDT | 0.013 | 0.001 | 0.013 | |
| tdt | 0.027 | 0.002 | 0.030 | |
| tdtGxG | 1.536 | 0.043 | 1.579 | |
| trio.check | 1.153 | 0.008 | 1.163 | |
| trio.data | 0.008 | 0.001 | 0.009 | |
| trio.permTest | 6.622 | 0.025 | 6.657 | |
| trio.power | 0.025 | 0.001 | 0.026 | |
| trio.prepare | 3.669 | 0.014 | 3.687 | |
| trio.sim | 0.414 | 0.004 | 0.418 | |
| trioFS | 7.120 | 0.029 | 7.155 | |
| trioLR | 3.660 | 0.017 | 3.682 | |