| Back to Multiple platform build/check report for BioC 3.12 |
|
This page was generated on 2021-05-06 12:34:01 -0400 (Thu, 06 May 2021).
|
To the developers/maintainers of the tracktables package: Please make sure to use the following settings in order to reproduce any error or warning you see on this page. |
| Package 1883/1974 | Hostname | OS / Arch | INSTALL | BUILD | CHECK | BUILD BIN | ||||||||
| tracktables 1.24.0 (landing page) Tom Carroll
| malbec1 | Linux (Ubuntu 18.04.5 LTS) / x86_64 | OK | OK | WARNINGS | |||||||||
| tokay1 | Windows Server 2012 R2 Standard / x64 | OK | OK | WARNINGS | OK | |||||||||
| merida1 | macOS 10.14.6 Mojave / x86_64 | OK | OK | WARNINGS | OK | |||||||||
| Package: tracktables |
| Version: 1.24.0 |
| Command: C:\cygwin\bin\curl.exe -O http://172.29.0.3/BBS/3.12/bioc/src/contrib/tracktables_1.24.0.tar.gz && rm -rf tracktables.buildbin-libdir && mkdir tracktables.buildbin-libdir && C:\Users\biocbuild\bbs-3.12-bioc\R\bin\R.exe CMD INSTALL --merge-multiarch --build --library=tracktables.buildbin-libdir tracktables_1.24.0.tar.gz && C:\Users\biocbuild\bbs-3.12-bioc\R\bin\R.exe CMD INSTALL tracktables_1.24.0.zip && rm tracktables_1.24.0.tar.gz tracktables_1.24.0.zip |
| StartedAt: 2021-05-05 18:28:12 -0400 (Wed, 05 May 2021) |
| EndedAt: 2021-05-05 18:30:04 -0400 (Wed, 05 May 2021) |
| EllapsedTime: 112.3 seconds |
| RetCode: 0 |
| Status: OK |
##############################################################################
##############################################################################
###
### Running command:
###
### C:\cygwin\bin\curl.exe -O http://172.29.0.3/BBS/3.12/bioc/src/contrib/tracktables_1.24.0.tar.gz && rm -rf tracktables.buildbin-libdir && mkdir tracktables.buildbin-libdir && C:\Users\biocbuild\bbs-3.12-bioc\R\bin\R.exe CMD INSTALL --merge-multiarch --build --library=tracktables.buildbin-libdir tracktables_1.24.0.tar.gz && C:\Users\biocbuild\bbs-3.12-bioc\R\bin\R.exe CMD INSTALL tracktables_1.24.0.zip && rm tracktables_1.24.0.tar.gz tracktables_1.24.0.zip
###
##############################################################################
##############################################################################
% Total % Received % Xferd Average Speed Time Time Time Current
Dload Upload Total Spent Left Speed
0 0 0 0 0 0 0 0 --:--:-- --:--:-- --:--:-- 0
100 184k 100 184k 0 0 7609k 0 --:--:-- --:--:-- --:--:-- 8035k
install for i386
* installing *source* package 'tracktables' ...
** using staged installation
** R
** data
** inst
** byte-compile and prepare package for lazy loading
** help
*** installing help indices
converting help for package 'tracktables'
finding HTML links ... done
Intervals html
MakeIGVSampleMetadata html
MakeIGVSession html
MakeIGVSessionXML html
igvParam html
makebedtable html
maketracktable html
** building package indices
** installing vignettes
** testing if installed package can be loaded from temporary location
** testing if installed package can be loaded from final location
** testing if installed package keeps a record of temporary installation path
install for x64
* installing *source* package 'tracktables' ...
** testing if installed package can be loaded
* MD5 sums
packaged installation of 'tracktables' as tracktables_1.24.0.zip
* DONE (tracktables)
* installing to library 'C:/Users/biocbuild/bbs-3.12-bioc/R/library'
package 'tracktables' successfully unpacked and MD5 sums checked